BEGIN:VCALENDAR
VERSION:2.0
PRODID:-//Karenoughcrafts &amp; Boutique - ECPv6.15.17.1//NONSGML v1.0//EN
CALSCALE:GREGORIAN
METHOD:PUBLISH
X-ORIGINAL-URL:https://www.karenoughcrafts.com
X-WR-CALDESC:Events for Karenoughcrafts &amp; Boutique
REFRESH-INTERVAL;VALUE=DURATION:PT1H
X-Robots-Tag:noindex
X-PUBLISHED-TTL:PT1H
BEGIN:VTIMEZONE
TZID:America/New_York
BEGIN:DAYLIGHT
TZOFFSETFROM:-0500
TZOFFSETTO:-0400
TZNAME:EDT
DTSTART:20240310T070000
END:DAYLIGHT
BEGIN:STANDARD
TZOFFSETFROM:-0400
TZOFFSETTO:-0500
TZNAME:EST
DTSTART:20241103T060000
END:STANDARD
BEGIN:DAYLIGHT
TZOFFSETFROM:-0500
TZOFFSETTO:-0400
TZNAME:EDT
DTSTART:20250309T070000
END:DAYLIGHT
BEGIN:STANDARD
TZOFFSETFROM:-0400
TZOFFSETTO:-0500
TZNAME:EST
DTSTART:20251102T060000
END:STANDARD
BEGIN:DAYLIGHT
TZOFFSETFROM:-0500
TZOFFSETTO:-0400
TZNAME:EDT
DTSTART:20260308T070000
END:DAYLIGHT
BEGIN:STANDARD
TZOFFSETFROM:-0400
TZOFFSETTO:-0500
TZNAME:EST
DTSTART:20261101T060000
END:STANDARD
END:VTIMEZONE
BEGIN:VEVENT
DTSTART;TZID=America/New_York:20250508T183000
DTEND;TZID=America/New_York:20250508T200000
DTSTAMP:20260423T164532
CREATED:20250330T034155Z
LAST-MODIFIED:20250502T115706Z
UID:4432-1746729000-1746734400@www.karenoughcrafts.com
SUMMARY:Modern Calligraphy for Beginners at Karenoughcrafts & Boutique
DESCRIPTION:Join Sip & Script at Karenoughcrafts & Boutique in Suffield\, Connecticut for pretty lettering! Whether you’re a stationery nerd\, DIY Bride-to-be\, or just a crafty individual\, you’ll be introduced to modern calligraphy with a pointed dip pen and ink in this workshop. We will cover all the basics and prepare you to add those unique lettered details to your snail mail\, wedding paper goods\, home decor\, and more! The perfect crafty night out! \nClass includes 1.5 hours of instruction and demonstration\, our beginner’s calligraphy kit (two nibs\, black ink pot\, 2 letter guides\, tracing paper\, and straight pen holder)\, and all materials to write on. Everything is yours to keep at the end of the workshop! \nFeel free to come early\, grab your seat\, and browse the shop. Find easy access to the store from the parking lot in the rear of the building. This is a BYOB event. Class will start promptly at 6:30 PM!  \nClass Expectations: Yes\, lefties are welcome too! This class is encouraged for someone who has never taken a calligraphy class before. We teach the basics\, and our expectation for you is to have ink flowing through your nib with enough confidence to be able to practice way beyond class. We love using tracing paper with our guides to help you build muscle memory and develop your own style!If you have tried calligraphy out before\, this class will be a great refresher and hopefully a chance to try some new supplies from our beginner kit that will re-introduce you to this lovely form of art! \nA note on bringing guests 16 and under: We love to share this passion with kids. You are welcome to get a ticket for your child if you are comfortable with people around them having a drink or two. We ask that a ticketed adult accompany anyone under the age of 16 at all times. \nTo see our cancellation/refund policy\, please click here: https://sipandscript.com/about/faqs-2/
URL:https://www.karenoughcrafts.com/events/modern-calligraphy-for-beginners-at-karenoughcrafts-boutique/
LOCATION:Karenoughcrafts & Boutique\, 11 High Street Suite 104\, Suffield\, CT\, 06078\, US
CATEGORIES:Card Classes,Crafts
ATTACH;FMTTYPE=image/jpeg:https://www.karenoughcrafts.com/wp-content/uploads/2025/03/4432_image_486068407_677555891597214_8416918425973428139_n.jpg
END:VEVENT
END:VCALENDAR