BEGIN:VCALENDAR
VERSION:2.0
PRODID:-//Karenoughcrafts &amp; Boutique - ECPv6.15.17.1//NONSGML v1.0//EN
CALSCALE:GREGORIAN
METHOD:PUBLISH
X-ORIGINAL-URL:https://www.karenoughcrafts.com
X-WR-CALDESC:Events for Karenoughcrafts &amp; Boutique
REFRESH-INTERVAL;VALUE=DURATION:PT1H
X-Robots-Tag:noindex
X-PUBLISHED-TTL:PT1H
BEGIN:VTIMEZONE
TZID:America/New_York
BEGIN:DAYLIGHT
TZOFFSETFROM:-0500
TZOFFSETTO:-0400
TZNAME:EDT
DTSTART:20240310T070000
END:DAYLIGHT
BEGIN:STANDARD
TZOFFSETFROM:-0400
TZOFFSETTO:-0500
TZNAME:EST
DTSTART:20241103T060000
END:STANDARD
BEGIN:DAYLIGHT
TZOFFSETFROM:-0500
TZOFFSETTO:-0400
TZNAME:EDT
DTSTART:20250309T070000
END:DAYLIGHT
BEGIN:STANDARD
TZOFFSETFROM:-0400
TZOFFSETTO:-0500
TZNAME:EST
DTSTART:20251102T060000
END:STANDARD
BEGIN:DAYLIGHT
TZOFFSETFROM:-0500
TZOFFSETTO:-0400
TZNAME:EDT
DTSTART:20260308T070000
END:DAYLIGHT
BEGIN:STANDARD
TZOFFSETFROM:-0400
TZOFFSETTO:-0500
TZNAME:EST
DTSTART:20261101T060000
END:STANDARD
END:VTIMEZONE
BEGIN:VEVENT
DTSTART;TZID=America/New_York:20250428T183000
DTEND;TZID=America/New_York:20250428T203000
DTSTAMP:20260423T162459
CREATED:20250331T034200Z
LAST-MODIFIED:20250428T034206Z
UID:4444-1745865000-1745872200@www.karenoughcrafts.com
SUMMARY:Mini Crochet Cupcake
DESCRIPTION:The mini cupcake class is for folks with a level 1 or beginner level knowledge of crochet. It has a few different skills taught\, including increasing stitches\, working in the round\, color changing\, decreasing stitches\, and working in both the front loop and back loop as well as simple instructional on how to Sew pieces into your crochet project. \n -The Top decorative piece will be offered pre-made by instructor or can be made by the class-attendee with additional pattern information provided by instructor. Depends on attendees comfort level with working on small pieces.  \n-The Cupcake itself is one piece\, started with a magic circle. The Magic Circle will be pre-started by the instructor\, but can be started by the attendee if requested. Instructor will provide hooks\, yarn\, poly fill\, stitch markers\, yarn needles for attendees to use during their project. Beyond the finished product\, students are provided with the pattern they used to be able to take home and keep practicing.  \nApril 28th at 6:30\nSorry\, no refunds \nClick “website” to register for class
URL:https://www.karenoughcrafts.com/events/mini-crochet-cupcake/
LOCATION:11 High Street Suite 104\, Suffield\, CT\, United States\, Connecticut 06078
CATEGORIES:Card Classes,Crafts
ATTACH;FMTTYPE=image/jpeg:https://www.karenoughcrafts.com/wp-content/uploads/2025/03/4444_image_487366276_630840396377957_7148627736017505685_n.jpg
END:VEVENT
END:VCALENDAR