BEGIN:VCALENDAR
VERSION:2.0
PRODID:-//Karenoughcrafts &amp; Boutique - ECPv6.15.17.1//NONSGML v1.0//EN
CALSCALE:GREGORIAN
METHOD:PUBLISH
X-ORIGINAL-URL:https://www.karenoughcrafts.com
X-WR-CALDESC:Events for Karenoughcrafts &amp; Boutique
REFRESH-INTERVAL;VALUE=DURATION:PT1H
X-Robots-Tag:noindex
X-PUBLISHED-TTL:PT1H
BEGIN:VTIMEZONE
TZID:America/New_York
BEGIN:DAYLIGHT
TZOFFSETFROM:-0500
TZOFFSETTO:-0400
TZNAME:EDT
DTSTART:20240310T070000
END:DAYLIGHT
BEGIN:STANDARD
TZOFFSETFROM:-0400
TZOFFSETTO:-0500
TZNAME:EST
DTSTART:20241103T060000
END:STANDARD
BEGIN:DAYLIGHT
TZOFFSETFROM:-0500
TZOFFSETTO:-0400
TZNAME:EDT
DTSTART:20250309T070000
END:DAYLIGHT
BEGIN:STANDARD
TZOFFSETFROM:-0400
TZOFFSETTO:-0500
TZNAME:EST
DTSTART:20251102T060000
END:STANDARD
BEGIN:DAYLIGHT
TZOFFSETFROM:-0500
TZOFFSETTO:-0400
TZNAME:EDT
DTSTART:20260308T070000
END:DAYLIGHT
BEGIN:STANDARD
TZOFFSETFROM:-0400
TZOFFSETTO:-0500
TZNAME:EST
DTSTART:20261101T060000
END:STANDARD
END:VTIMEZONE
BEGIN:VEVENT
DTSTART;TZID=America/New_York:20250408T093000
DTEND;TZID=America/New_York:20250408T103000
DTSTAMP:20260423T175350
CREATED:20250331T034210Z
LAST-MODIFIED:20250408T034203Z
UID:4466-1744104600-1744108200@www.karenoughcrafts.com
SUMMARY:2nd Tuesday Early Spring SENIOR CENTER
DESCRIPTION:These easy peasy cards are perfect for the beginner stamper!A little bit of coloring\, a little bit of cutting and voila!A nice set of cards! \nMust bring your scissors and adhesive! \nApril 8th @ 9:30 am\nNo refunds \nClick “website” below to register by April 6th
URL:https://www.karenoughcrafts.com/events/2nd-tuesday-early-spring-senior-center/
LOCATION:Suffield Senior Center\, 145 Bridge St\, Suffield\, CT\, 06078\, US
CATEGORIES:Card Classes,Crafts
ATTACH;FMTTYPE=image/jpeg:https://www.karenoughcrafts.com/wp-content/uploads/2025/03/4466_image_487443045_630800739715256_4431583547993094013_n.jpg
END:VEVENT
BEGIN:VEVENT
DTSTART;TZID=America/New_York:20250408T113000
DTEND;TZID=America/New_York:20250408T133000
DTSTAMP:20260423T175350
CREATED:20250331T034210Z
LAST-MODIFIED:20250408T034203Z
UID:4464-1744111800-1744119000@www.karenoughcrafts.com
SUMMARY:2nd Tuesday Early Spring 11:30 am
DESCRIPTION:These easy peasy cards are perfect for the beginner stamper!A little bit of coloring\, a little bit of cutting and voila!A nice set of cards! \nMust bring your scissors and adhesive! \nApril 8th @ 11:30 am\nNo refunds \nClick “website” below to register by April 6th
URL:https://www.karenoughcrafts.com/events/2nd-tuesday-early-spring-1130-am/
LOCATION:11 High Street Suite 104\, Suffield\, CT\, United States\, Connecticut 06078
CATEGORIES:Card Classes,Crafts
ATTACH;FMTTYPE=image/jpeg:https://www.karenoughcrafts.com/wp-content/uploads/2025/03/4464_image_487765019_630797076382289_2234071984126691102_n.jpg
END:VEVENT
BEGIN:VEVENT
DTSTART;TZID=America/New_York:20250408T150000
DTEND;TZID=America/New_York:20250408T170000
DTSTAMP:20260423T175350
CREATED:20250331T034209Z
LAST-MODIFIED:20250408T034203Z
UID:4462-1744124400-1744131600@www.karenoughcrafts.com
SUMMARY:2nd Tuesday Early Spring 3 pm
DESCRIPTION:These easy peasy cards are perfect for the beginner stamper!A little bit of coloring\, a little bit of cutting and voila!A nice set of cards! \nMust bring your scissors and adhesive! \nApril 8th @ 3 pm\nNo refunds \nClick “website” below to register by April 6th
URL:https://www.karenoughcrafts.com/events/2nd-tuesday-early-spring-3-pm/
LOCATION:11 High Street Suite 104\, Suffield\, CT\, United States\, Connecticut 06078
CATEGORIES:Card Classes,Crafts
ATTACH;FMTTYPE=image/jpeg:https://www.karenoughcrafts.com/wp-content/uploads/2025/03/4462_image_488062906_630798233048840_7377392723005896922_n.jpg
END:VEVENT
BEGIN:VEVENT
DTSTART;TZID=America/New_York:20250408T183000
DTEND;TZID=America/New_York:20250408T203000
DTSTAMP:20260423T175350
CREATED:20250331T034208Z
LAST-MODIFIED:20250408T034202Z
UID:4460-1744137000-1744144200@www.karenoughcrafts.com
SUMMARY:2nd Tuesday Early Spring 6:30 PM
DESCRIPTION:These easy peasy cards are perfect for the beginner stamper!A little bit of coloring\, a little bit of cutting and voila!A nice set of cards! \nMust bring your scissors and adhesive! \nApril 8th @ 6:30 pm\nNo refunds \nClick “website” below to register by April 6th
URL:https://www.karenoughcrafts.com/events/2nd-tuesday-early-spring-630-pm/
LOCATION:11 High Street Suite 104\, Suffield\, CT\, United States\, Connecticut 06078
CATEGORIES:Card Classes,Crafts
ATTACH;FMTTYPE=image/jpeg:https://www.karenoughcrafts.com/wp-content/uploads/2025/03/4460_image_487010721_630798909715439_2205866277641084734_n.jpg
END:VEVENT
END:VCALENDAR