BEGIN:VCALENDAR
VERSION:2.0
PRODID:-//Karenoughcrafts &amp; Boutique - ECPv6.15.17.1//NONSGML v1.0//EN
CALSCALE:GREGORIAN
METHOD:PUBLISH
X-ORIGINAL-URL:https://www.karenoughcrafts.com
X-WR-CALDESC:Events for Karenoughcrafts &amp; Boutique
REFRESH-INTERVAL;VALUE=DURATION:PT1H
X-Robots-Tag:noindex
X-PUBLISHED-TTL:PT1H
BEGIN:VTIMEZONE
TZID:America/New_York
BEGIN:DAYLIGHT
TZOFFSETFROM:-0500
TZOFFSETTO:-0400
TZNAME:EDT
DTSTART:20240310T070000
END:DAYLIGHT
BEGIN:STANDARD
TZOFFSETFROM:-0400
TZOFFSETTO:-0500
TZNAME:EST
DTSTART:20241103T060000
END:STANDARD
BEGIN:DAYLIGHT
TZOFFSETFROM:-0500
TZOFFSETTO:-0400
TZNAME:EDT
DTSTART:20250309T070000
END:DAYLIGHT
BEGIN:STANDARD
TZOFFSETFROM:-0400
TZOFFSETTO:-0500
TZNAME:EST
DTSTART:20251102T060000
END:STANDARD
BEGIN:DAYLIGHT
TZOFFSETFROM:-0500
TZOFFSETTO:-0400
TZNAME:EDT
DTSTART:20260308T070000
END:DAYLIGHT
BEGIN:STANDARD
TZOFFSETFROM:-0400
TZOFFSETTO:-0500
TZNAME:EST
DTSTART:20261101T060000
END:STANDARD
END:VTIMEZONE
BEGIN:VEVENT
DTSTART;TZID=America/New_York:20250329T100000
DTEND;TZID=America/New_York:20250329T120000
DTSTAMP:20260423T193935
CREATED:20250221T034156Z
LAST-MODIFIED:20250329T034159Z
UID:4313-1743242400-1743249600@www.karenoughcrafts.com
SUMMARY:Felted Bunny -1st class- 10 am SOLD OUT!
DESCRIPTION:If your’e not new to felting\, or if you pickup on things quickly\, this class might be perfect for you.Decorate for Easter with this adorable bunny! \nThis is the FIRST CLASS\nMarch 29th at 10 am \nSorry\, no refunds \nClick “website” to register
URL:https://www.karenoughcrafts.com/events/felted-bunny-1st-class-10-am/
LOCATION:11 High Street Suite 104\, Suffield\, CT\, United States\, Connecticut 06078
CATEGORIES:Card Classes,Crafts
ATTACH;FMTTYPE=image/jpeg:https://www.karenoughcrafts.com/wp-content/uploads/2025/02/4313_image_486319516_624257223702941_768399543015920896_n.jpg
END:VEVENT
BEGIN:VEVENT
DTSTART;TZID=America/New_York:20250329T120000
DTEND;TZID=America/New_York:20250329T140000
DTSTAMP:20260423T193935
CREATED:20250221T034153Z
LAST-MODIFIED:20250329T034159Z
UID:4311-1743249600-1743256800@www.karenoughcrafts.com
SUMMARY:Felted Bunny- 2nd class
DESCRIPTION:If your’e not new to felting\, or if you pickup on things quickly\, this class might be perfect for you.Decorate for Easter with this adorable bunny! \nThis is the SECOND CLASS\nMarch 29th at 12 pm \nSorry\, no refunds \nClick “website” to register
URL:https://www.karenoughcrafts.com/events/felted-bunny-2nd-class/
LOCATION:11 High Street Suite 104\, Suffield\, CT\, United States\, Connecticut 06078
CATEGORIES:Card Classes,Crafts
ATTACH;FMTTYPE=image/jpeg:https://www.karenoughcrafts.com/wp-content/uploads/2025/02/4311_image_485775761_624261153702548_3537473217501906310_n.jpg
END:VEVENT
END:VCALENDAR