BEGIN:VCALENDAR
VERSION:2.0
PRODID:-//Karenoughcrafts &amp; Boutique - ECPv6.15.17.1//NONSGML v1.0//EN
CALSCALE:GREGORIAN
METHOD:PUBLISH
X-ORIGINAL-URL:https://www.karenoughcrafts.com
X-WR-CALDESC:Events for Karenoughcrafts &amp; Boutique
REFRESH-INTERVAL;VALUE=DURATION:PT1H
X-Robots-Tag:noindex
X-PUBLISHED-TTL:PT1H
BEGIN:VTIMEZONE
TZID:America/New_York
BEGIN:DAYLIGHT
TZOFFSETFROM:-0500
TZOFFSETTO:-0400
TZNAME:EDT
DTSTART:20240310T070000
END:DAYLIGHT
BEGIN:STANDARD
TZOFFSETFROM:-0400
TZOFFSETTO:-0500
TZNAME:EST
DTSTART:20241103T060000
END:STANDARD
BEGIN:DAYLIGHT
TZOFFSETFROM:-0500
TZOFFSETTO:-0400
TZNAME:EDT
DTSTART:20250309T070000
END:DAYLIGHT
BEGIN:STANDARD
TZOFFSETFROM:-0400
TZOFFSETTO:-0500
TZNAME:EST
DTSTART:20251102T060000
END:STANDARD
BEGIN:DAYLIGHT
TZOFFSETFROM:-0500
TZOFFSETTO:-0400
TZNAME:EDT
DTSTART:20260308T070000
END:DAYLIGHT
BEGIN:STANDARD
TZOFFSETFROM:-0400
TZOFFSETTO:-0500
TZNAME:EST
DTSTART:20261101T060000
END:STANDARD
END:VTIMEZONE
BEGIN:VEVENT
DTSTART;TZID=America/New_York:20250227T183000
DTEND;TZID=America/New_York:20250227T193000
DTSTAMP:20260423T193913
CREATED:20250118T034150Z
LAST-MODIFIED:20250227T034202Z
UID:4201-1740681000-1740684600@www.karenoughcrafts.com
SUMMARY:Air Plant & Succulent Terrarium Workshop
DESCRIPTION:Join us for a fun\, interactive\, and hands-on planting workshop at Karenoughcrafts & Boutique in Suffield\, CT. \nCreate and build your own Air Plant & Succulent Terrarium with step-by-step instruction! Class starts with a brief overview of terrarium plant care and a planting demonstration. Then step over to the Plant Bar and gather all your planting ingredients!  \nClass includes:\nOne 8″ Glass Bubble Bowl\nTwo (2”) succulents of your choice\nOne air plant\nTwinkle Lights\nSoil\, Top Dressing\, Planting Tools\nGuided Instruction\nCare Card\n(plants and materials will vary from picture shown) \nLength of Workshop: 45 minutes\nTickets are $60 per person.  \nAdvanced registration is required. Ticket sales are final. If you are unable to attend\, you may pick up premade terrarium from our brick & mortar plant shop in Wilbraham\, MA.
URL:https://www.karenoughcrafts.com/events/air-plant-succulent-terrarium-workshop/
LOCATION:Karenoughcrafts & Boutique\, 11 High Street Suite 104\, Suffield\, CT\, 06078\, US
CATEGORIES:Card Classes,Crafts
ATTACH;FMTTYPE=image/jpeg:https://www.karenoughcrafts.com/wp-content/uploads/2025/01/4201_image_473619834_1146353534163195_678035383454165414_n.jpg
END:VEVENT
END:VCALENDAR