BEGIN:VCALENDAR
VERSION:2.0
PRODID:-//Karenoughcrafts &amp; Boutique - ECPv6.15.17.1//NONSGML v1.0//EN
CALSCALE:GREGORIAN
METHOD:PUBLISH
X-WR-CALNAME:Karenoughcrafts &amp; Boutique
X-ORIGINAL-URL:https://www.karenoughcrafts.com
X-WR-CALDESC:Events for Karenoughcrafts &amp; Boutique
REFRESH-INTERVAL;VALUE=DURATION:PT1H
X-Robots-Tag:noindex
X-PUBLISHED-TTL:PT1H
BEGIN:VTIMEZONE
TZID:America/New_York
BEGIN:DAYLIGHT
TZOFFSETFROM:-0500
TZOFFSETTO:-0400
TZNAME:EDT
DTSTART:20240310T070000
END:DAYLIGHT
BEGIN:STANDARD
TZOFFSETFROM:-0400
TZOFFSETTO:-0500
TZNAME:EST
DTSTART:20241103T060000
END:STANDARD
BEGIN:DAYLIGHT
TZOFFSETFROM:-0500
TZOFFSETTO:-0400
TZNAME:EDT
DTSTART:20250309T070000
END:DAYLIGHT
BEGIN:STANDARD
TZOFFSETFROM:-0400
TZOFFSETTO:-0500
TZNAME:EST
DTSTART:20251102T060000
END:STANDARD
BEGIN:DAYLIGHT
TZOFFSETFROM:-0500
TZOFFSETTO:-0400
TZNAME:EDT
DTSTART:20260308T070000
END:DAYLIGHT
BEGIN:STANDARD
TZOFFSETFROM:-0400
TZOFFSETTO:-0500
TZNAME:EST
DTSTART:20261101T060000
END:STANDARD
END:VTIMEZONE
BEGIN:VEVENT
DTSTART;TZID=America/New_York:20250225T113000
DTEND;TZID=America/New_York:20250225T113000
DTSTAMP:20260423T193615
CREATED:20250213T034257Z
LAST-MODIFIED:20250225T034206Z
UID:4288-1740483000-1740483000@www.karenoughcrafts.com
SUMMARY:4th Tuesday Terrific Toadstoods 11:30 am
DESCRIPTION:Check out the cute little toadstools.Have fun with a fun-fold card while you’re here! \nDon’t forget your own adhesive and scissors. \nFebruary 25th @ 11:30 am\nNo refunds \nClick “website” below to register by Feb 23rd
URL:https://www.karenoughcrafts.com/events/4th-tuesday-terrific-toadstoods-1130-am/
LOCATION:11 High Street Suite 104\, Suffield\, CT\, United States\, Connecticut 06078
CATEGORIES:Card Classes,Crafts
ATTACH;FMTTYPE=image/jpeg:https://www.karenoughcrafts.com/wp-content/uploads/2025/02/4288_image_477798248_596657449796252_2019667953198091493_n.jpg
END:VEVENT
BEGIN:VEVENT
DTSTART;TZID=America/New_York:20250225T150000
DTEND;TZID=America/New_York:20250225T170000
DTSTAMP:20260423T193615
CREATED:20250213T034254Z
LAST-MODIFIED:20250225T034206Z
UID:4286-1740495600-1740502800@www.karenoughcrafts.com
SUMMARY:4th Tuesday Terrific Toadstool 3 pm
DESCRIPTION:Check out the cute little toadstools.Have fun with a fun-fold card while you’re here! \nDon’t forget your own adhesive and scissors. \nFebruary 25th @ 3 pm\nNo refunds \nClick “website” below to register by Feb 23rd
URL:https://www.karenoughcrafts.com/events/4th-tuesday-terrific-toadstool-3-pm/
LOCATION:11 High Street Suite 104\, Suffield\, CT\, United States\, Connecticut 06078
CATEGORIES:Card Classes,Crafts
ATTACH;FMTTYPE=image/jpeg:https://www.karenoughcrafts.com/wp-content/uploads/2025/02/4286_image_479496831_596658243129506_1009789794359167233_n.jpg
END:VEVENT
BEGIN:VEVENT
DTSTART;TZID=America/New_York:20250225T183000
DTEND;TZID=America/New_York:20250225T203000
DTSTAMP:20260423T193615
CREATED:20250213T034250Z
LAST-MODIFIED:20250225T034205Z
UID:4284-1740508200-1740515400@www.karenoughcrafts.com
SUMMARY:4th Tuesday Terrific Toadstool 6:30 PM
DESCRIPTION:Check out the cute little toadstools.Have fun with a fun-fold card while you’re here! \nDon’t forget your own adhesive and scissors. \nFebruary 25th @ 6:30 pm\nNo refunds \nClick “website” below to register by Feb 23rd
URL:https://www.karenoughcrafts.com/events/4th-tuesday-terrific-toadstool-630-pm/
LOCATION:11 High Street Suite 104\, Suffield\, CT\, United States\, Connecticut 06078
CATEGORIES:Card Classes,Crafts
ATTACH;FMTTYPE=image/jpeg:https://www.karenoughcrafts.com/wp-content/uploads/2025/02/4284_image_476596107_596659059796091_6742710203854998125_n.jpg
END:VEVENT
END:VCALENDAR