BEGIN:VCALENDAR
VERSION:2.0
PRODID:-//Karenoughcrafts &amp; Boutique - ECPv6.15.17.1//NONSGML v1.0//EN
CALSCALE:GREGORIAN
METHOD:PUBLISH
X-ORIGINAL-URL:https://www.karenoughcrafts.com
X-WR-CALDESC:Events for Karenoughcrafts &amp; Boutique
REFRESH-INTERVAL;VALUE=DURATION:PT1H
X-Robots-Tag:noindex
X-PUBLISHED-TTL:PT1H
BEGIN:VTIMEZONE
TZID:America/New_York
BEGIN:DAYLIGHT
TZOFFSETFROM:-0500
TZOFFSETTO:-0400
TZNAME:EDT
DTSTART:20240310T070000
END:DAYLIGHT
BEGIN:STANDARD
TZOFFSETFROM:-0400
TZOFFSETTO:-0500
TZNAME:EST
DTSTART:20241103T060000
END:STANDARD
BEGIN:DAYLIGHT
TZOFFSETFROM:-0500
TZOFFSETTO:-0400
TZNAME:EDT
DTSTART:20250309T070000
END:DAYLIGHT
BEGIN:STANDARD
TZOFFSETFROM:-0400
TZOFFSETTO:-0500
TZNAME:EST
DTSTART:20251102T060000
END:STANDARD
BEGIN:DAYLIGHT
TZOFFSETFROM:-0500
TZOFFSETTO:-0400
TZNAME:EDT
DTSTART:20260308T070000
END:DAYLIGHT
BEGIN:STANDARD
TZOFFSETFROM:-0400
TZOFFSETTO:-0500
TZNAME:EST
DTSTART:20261101T060000
END:STANDARD
END:VTIMEZONE
BEGIN:VEVENT
DTSTART;TZID=America/New_York:20250224T183000
DTEND;TZID=America/New_York:20250224T203000
DTSTAMP:20260423T193816
CREATED:20250203T034154Z
LAST-MODIFIED:20250224T034219Z
UID:4264-1740421800-1740429000@www.karenoughcrafts.com
SUMMARY:Relaxation Event- Spa and Wellness
DESCRIPTION:Indulge in an evening of relaxation. rejuvenation and holistic self-care at our Spa Night.Treat yourself to a sensory experience that blends wellness and luxury featuring: \nHerbal Tea and Functional Mocktail: Sip onnourishing herbal tea blends and a handcrafted mocktail designed to hydrate\, refresh\, relax and revitalize. \nHealthy Bites: Enjoy light refreshments of healthful\, delicious nibbles to nourish your body and delight your taste buds. (feel free to bring your own beverages) \nBotanical Facial: Pamper your skin with our signature vegan\, healthy aging skincare line and choice of mask in a guided DIY facial session.Experience pure botanicals for radiant\, healthy\, glowing skin. \nSound Experience: Relax with the soothing sounds of nature\, meditation and spa music. \nBring your friends or come solo for an unforgettable evening of connection\, wellness and relaxation.Each participant will receive a small wellness gift to take home.Come in your comfy clothes (and without makeup) \nThis event is appropriate for ages 18 and up(men and women are welcome to attend) \nSpace is limited and registration and prepayment is required.\nSorry\, no refunds.$10 per person \nClick “website” to register
URL:https://www.karenoughcrafts.com/events/relaxation-event-spa-and-wellness/
LOCATION:11 High Street Suite 104\, Suffield\, CT\, United States\, Connecticut 06078
CATEGORIES:Card Classes,Crafts
ATTACH;FMTTYPE=image/jpeg:https://www.karenoughcrafts.com/wp-content/uploads/2025/02/4264_image_476127734_589847867143877_6416108830227125803_n.jpg
END:VEVENT
END:VCALENDAR