BEGIN:VCALENDAR
VERSION:2.0
PRODID:-//Karenoughcrafts &amp; Boutique - ECPv6.15.17.1//NONSGML v1.0//EN
CALSCALE:GREGORIAN
METHOD:PUBLISH
X-ORIGINAL-URL:https://www.karenoughcrafts.com
X-WR-CALDESC:Events for Karenoughcrafts &amp; Boutique
REFRESH-INTERVAL;VALUE=DURATION:PT1H
X-Robots-Tag:noindex
X-PUBLISHED-TTL:PT1H
BEGIN:VTIMEZONE
TZID:America/New_York
BEGIN:DAYLIGHT
TZOFFSETFROM:-0500
TZOFFSETTO:-0400
TZNAME:EDT
DTSTART:20240310T070000
END:DAYLIGHT
BEGIN:STANDARD
TZOFFSETFROM:-0400
TZOFFSETTO:-0500
TZNAME:EST
DTSTART:20241103T060000
END:STANDARD
BEGIN:DAYLIGHT
TZOFFSETFROM:-0500
TZOFFSETTO:-0400
TZNAME:EDT
DTSTART:20250309T070000
END:DAYLIGHT
BEGIN:STANDARD
TZOFFSETFROM:-0400
TZOFFSETTO:-0500
TZNAME:EST
DTSTART:20251102T060000
END:STANDARD
BEGIN:DAYLIGHT
TZOFFSETFROM:-0500
TZOFFSETTO:-0400
TZNAME:EDT
DTSTART:20260308T070000
END:DAYLIGHT
BEGIN:STANDARD
TZOFFSETFROM:-0400
TZOFFSETTO:-0500
TZNAME:EST
DTSTART:20261101T060000
END:STANDARD
END:VTIMEZONE
BEGIN:VEVENT
DTSTART;TZID=America/New_York:20250211T093000
DTEND;TZID=America/New_York:20250211T093000
DTSTAMP:20260423T211801
CREATED:20250203T034202Z
LAST-MODIFIED:20250211T034159Z
UID:4268-1739266200-1739266200@www.karenoughcrafts.com
SUMMARY:Senior Center Card class- Be My Valentine- 9:30 am
DESCRIPTION:These easy peasy cards are perfect for the beginner stamper!\nMust bring your scissors and adhesive!\nFebruary 11th @ 9:30 am\nNo refunds \nClick “website” below to register by February 9th
URL:https://www.karenoughcrafts.com/events/senior-center-card-class-be-my-valentine-930-am/
LOCATION:11 High Street Suite 104\, Suffield\, CT\, United States\, Connecticut 06078
CATEGORIES:Card Classes,Crafts
ATTACH;FMTTYPE=image/jpeg:https://www.karenoughcrafts.com/wp-content/uploads/2025/02/4268_image_476228717_589821553813175_4225515354671324874_n.jpg
END:VEVENT
BEGIN:VEVENT
DTSTART;TZID=America/New_York:20250211T113000
DTEND;TZID=America/New_York:20250211T133000
DTSTAMP:20260423T211801
CREATED:20250201T034207Z
LAST-MODIFIED:20250211T034159Z
UID:4248-1739273400-1739280600@www.karenoughcrafts.com
SUMMARY:2nd Tuesday Be My Valentine 11:30 am
DESCRIPTION:These easy peasy cards are perfect for the beginner stamper! \nMust bring your scissors and adhesive! \nFebruary 11th @ 11:30 am\nNo refunds \nClick “website” below to register by Feb 9th
URL:https://www.karenoughcrafts.com/events/2nd-tuesday-be-my-valentine-1130-am/
LOCATION:11 High Street Suite 104\, Suffield\, CT\, United States\, Connecticut 06078
CATEGORIES:Card Classes,Crafts
ATTACH;FMTTYPE=image/jpeg:https://www.karenoughcrafts.com/wp-content/uploads/2025/01/4248_image_475804709_588449070617090_5092583885789454282_n.jpg
END:VEVENT
BEGIN:VEVENT
DTSTART;TZID=America/New_York:20250211T150000
DTEND;TZID=America/New_York:20250211T170000
DTSTAMP:20260423T211801
CREATED:20250201T034205Z
LAST-MODIFIED:20250211T034158Z
UID:4246-1739286000-1739293200@www.karenoughcrafts.com
SUMMARY:2nd Tuesday Be My Valentine 3 pm
DESCRIPTION:These easy peasy cards are perfect for the beginner stamper! \nMust bring your scissors and adhesive! \nFebruary 11th @ 3 pm\nNo refunds \nClick “website” below to register by Feb 9th
URL:https://www.karenoughcrafts.com/events/2nd-tuesday-be-my-valentine-3-pm/
LOCATION:11 High Street Suite 104\, Suffield\, CT\, United States\, Connecticut 06078
CATEGORIES:Card Classes,Crafts
ATTACH;FMTTYPE=image/jpeg:https://www.karenoughcrafts.com/wp-content/uploads/2025/01/4246_image_476115817_588449933950337_4591091829541734856_n.jpg
END:VEVENT
END:VCALENDAR