BEGIN:VCALENDAR
VERSION:2.0
PRODID:-//Karenoughcrafts &amp; Boutique - ECPv6.15.17.1//NONSGML v1.0//EN
CALSCALE:GREGORIAN
METHOD:PUBLISH
X-ORIGINAL-URL:https://www.karenoughcrafts.com
X-WR-CALDESC:Events for Karenoughcrafts &amp; Boutique
REFRESH-INTERVAL;VALUE=DURATION:PT1H
X-Robots-Tag:noindex
X-PUBLISHED-TTL:PT1H
BEGIN:VTIMEZONE
TZID:America/New_York
BEGIN:DAYLIGHT
TZOFFSETFROM:-0500
TZOFFSETTO:-0400
TZNAME:EDT
DTSTART:20240310T070000
END:DAYLIGHT
BEGIN:STANDARD
TZOFFSETFROM:-0400
TZOFFSETTO:-0500
TZNAME:EST
DTSTART:20241103T060000
END:STANDARD
BEGIN:DAYLIGHT
TZOFFSETFROM:-0500
TZOFFSETTO:-0400
TZNAME:EDT
DTSTART:20250309T070000
END:DAYLIGHT
BEGIN:STANDARD
TZOFFSETFROM:-0400
TZOFFSETTO:-0500
TZNAME:EST
DTSTART:20251102T060000
END:STANDARD
BEGIN:DAYLIGHT
TZOFFSETFROM:-0500
TZOFFSETTO:-0400
TZNAME:EDT
DTSTART:20260308T070000
END:DAYLIGHT
BEGIN:STANDARD
TZOFFSETFROM:-0400
TZOFFSETTO:-0500
TZNAME:EST
DTSTART:20261101T060000
END:STANDARD
END:VTIMEZONE
BEGIN:VEVENT
DTSTART;TZID=America/New_York:20250206T180000
DTEND;TZID=America/New_York:20250206T200000
DTSTAMP:20260423T211609
CREATED:20250113T034153Z
LAST-MODIFIED:20250202T034308Z
UID:4179-1738864800-1738872000@www.karenoughcrafts.com
SUMMARY:Decor Cutting board
DESCRIPTION:Join Heather from Chalked with Vigs for another fun workshop using chalk paints and transfers.You get to choose your own design and colors for each side. Make it personal and fun by adding a zip code on there as well! \nFebruary 6th at 6 pm\n$38.00 \nSorry\, no refunds  \nMust register by January 31st
URL:https://www.karenoughcrafts.com/events/decor-cutting-board/
LOCATION:11 High Street Suite 104\, Suffield\, CT
CATEGORIES:Card Classes,Crafts
ATTACH;FMTTYPE=image/jpeg:https://www.karenoughcrafts.com/wp-content/uploads/2025/01/4179_image_473167126_575089385286392_1408043327111808170_n.jpg
END:VEVENT
END:VCALENDAR