BEGIN:VCALENDAR
VERSION:2.0
PRODID:-//Karenoughcrafts &amp; Boutique - ECPv6.15.17.1//NONSGML v1.0//EN
CALSCALE:GREGORIAN
METHOD:PUBLISH
X-WR-CALNAME:Karenoughcrafts &amp; Boutique
X-ORIGINAL-URL:https://www.karenoughcrafts.com
X-WR-CALDESC:Events for Karenoughcrafts &amp; Boutique
REFRESH-INTERVAL;VALUE=DURATION:PT1H
X-Robots-Tag:noindex
X-PUBLISHED-TTL:PT1H
BEGIN:VTIMEZONE
TZID:America/New_York
BEGIN:DAYLIGHT
TZOFFSETFROM:-0500
TZOFFSETTO:-0400
TZNAME:EDT
DTSTART:20230312T070000
END:DAYLIGHT
BEGIN:STANDARD
TZOFFSETFROM:-0400
TZOFFSETTO:-0500
TZNAME:EST
DTSTART:20231105T060000
END:STANDARD
BEGIN:DAYLIGHT
TZOFFSETFROM:-0500
TZOFFSETTO:-0400
TZNAME:EDT
DTSTART:20240310T070000
END:DAYLIGHT
BEGIN:STANDARD
TZOFFSETFROM:-0400
TZOFFSETTO:-0500
TZNAME:EST
DTSTART:20241103T060000
END:STANDARD
BEGIN:DAYLIGHT
TZOFFSETFROM:-0500
TZOFFSETTO:-0400
TZNAME:EDT
DTSTART:20250309T070000
END:DAYLIGHT
BEGIN:STANDARD
TZOFFSETFROM:-0400
TZOFFSETTO:-0500
TZNAME:EST
DTSTART:20251102T060000
END:STANDARD
END:VTIMEZONE
BEGIN:VEVENT
DTSTART;TZID=America/New_York:20240723T113000
DTEND;TZID=America/New_York:20240723T113000
DTSTAMP:20260424T084507
CREATED:20240706T034330Z
LAST-MODIFIED:20240723T034212Z
UID:3532-1721734200-1721734200@www.karenoughcrafts.com
SUMMARY:4th Tuesday Seascapes 11:30 am
DESCRIPTION:Take a dive into the sea with these serene seascapes.  These cards can be used for birthdays and thinking of you! \nDon’t forget your own adhesive and scissors. \nJuly 23rd Seascapes @ 11:30 am\nNo refunds \nClick “website” below to register
URL:https://www.karenoughcrafts.com/events/4th-tuesday-seascapes-1130-am/
LOCATION:11 High Street Suite 104\, Suffield\, CT\, United States\, Connecticut 06078
CATEGORIES:Card Classes,Crafts
ATTACH;FMTTYPE=image/jpeg:https://www.karenoughcrafts.com/wp-content/uploads/2024/07/3532_image_449935825_447341498061182_4645037991839850109_n.jpg
END:VEVENT
BEGIN:VEVENT
DTSTART;TZID=America/New_York:20240723T150000
DTEND;TZID=America/New_York:20240723T150000
DTSTAMP:20260424T084507
CREATED:20240706T034329Z
LAST-MODIFIED:20240723T034211Z
UID:3530-1721746800-1721746800@www.karenoughcrafts.com
SUMMARY:4th Tuesday Seascapes 3 pm
DESCRIPTION:Take a dive into the sea with these serene seascapes.  These cards can be used for birthdays and thinking of you! \nDon’t forget your own adhesive and scissors. \nJuly 23rd Seascapes @ 3 pm\nNo refunds \nClick “website” below to register
URL:https://www.karenoughcrafts.com/events/4th-tuesday-seascapes-3-pm/
LOCATION:11 High Street Suite 104\, Suffield\, CT\, United States\, Connecticut 06078
CATEGORIES:Card Classes,Crafts
ATTACH;FMTTYPE=image/jpeg:https://www.karenoughcrafts.com/wp-content/uploads/2024/07/3530_image_449928830_447342261394439_2309956394615940838_n.jpg
END:VEVENT
BEGIN:VEVENT
DTSTART;TZID=America/New_York:20240723T183000
DTEND;TZID=America/New_York:20240723T183000
DTSTAMP:20260424T084507
CREATED:20240706T034328Z
LAST-MODIFIED:20240723T034211Z
UID:3528-1721759400-1721759400@www.karenoughcrafts.com
SUMMARY:4th Tuesday Seascapes 6:30 PM
DESCRIPTION:Take a dive into the sea with these serene seascapes.  These cards can be used for birthdays and thinking of you! \nDon’t forget your own adhesive and scissors. \nJuly 23rd Seascapes @ 6:30 pm\nNo refunds \nClick “website” below to register
URL:https://www.karenoughcrafts.com/events/4th-tuesday-seascapes-630-pm/
LOCATION:11 High Street Suite 104\, Suffield\, CT\, United States\, Connecticut 06078
CATEGORIES:Card Classes,Crafts
ATTACH;FMTTYPE=image/jpeg:https://www.karenoughcrafts.com/wp-content/uploads/2024/07/3528_image_449958513_447343511394314_3794634818083071222_n.jpg
END:VEVENT
END:VCALENDAR