BEGIN:VCALENDAR
VERSION:2.0
PRODID:-//Karenoughcrafts &amp; Boutique - ECPv6.15.17.1//NONSGML v1.0//EN
CALSCALE:GREGORIAN
METHOD:PUBLISH
X-WR-CALNAME:Karenoughcrafts &amp; Boutique
X-ORIGINAL-URL:https://www.karenoughcrafts.com
X-WR-CALDESC:Events for Karenoughcrafts &amp; Boutique
REFRESH-INTERVAL;VALUE=DURATION:PT1H
X-Robots-Tag:noindex
X-PUBLISHED-TTL:PT1H
BEGIN:VTIMEZONE
TZID:America/New_York
BEGIN:DAYLIGHT
TZOFFSETFROM:-0500
TZOFFSETTO:-0400
TZNAME:EDT
DTSTART:20230312T070000
END:DAYLIGHT
BEGIN:STANDARD
TZOFFSETFROM:-0400
TZOFFSETTO:-0500
TZNAME:EST
DTSTART:20231105T060000
END:STANDARD
BEGIN:DAYLIGHT
TZOFFSETFROM:-0500
TZOFFSETTO:-0400
TZNAME:EDT
DTSTART:20240310T070000
END:DAYLIGHT
BEGIN:STANDARD
TZOFFSETFROM:-0400
TZOFFSETTO:-0500
TZNAME:EST
DTSTART:20241103T060000
END:STANDARD
BEGIN:DAYLIGHT
TZOFFSETFROM:-0500
TZOFFSETTO:-0400
TZNAME:EDT
DTSTART:20250309T070000
END:DAYLIGHT
BEGIN:STANDARD
TZOFFSETFROM:-0400
TZOFFSETTO:-0500
TZNAME:EST
DTSTART:20251102T060000
END:STANDARD
END:VTIMEZONE
BEGIN:VEVENT
DTSTART;TZID=America/New_York:20240701T183000
DTEND;TZID=America/New_York:20240701T200000
DTSTAMP:20260424T084328
CREATED:20240611T034216Z
LAST-MODIFIED:20240701T034247Z
UID:3473-1719858600-1719864000@www.karenoughcrafts.com
SUMMARY:Seaglass Bracelet
DESCRIPTION:Join us for this fun event! \nYou can get creative with the sea glass color choices and the bracelets will be adjustable! You also will have a choice between silver or gold for your bracelet. No experience needed.Please note we do not refund for a class due to sickness or other reasons. If you cannot make it you are able to send someone in your place. Additionally\, you may only be refunded if the host location or Still Waters cancels. By signing up for this class you are stating you waive any liability related to injuries and any rights to privacy in regards to photos or videos that are taken during the class. \nSorry\, no refunds\nJuly 1st 6:30 pm
URL:https://www.karenoughcrafts.com/events/seaglass-bracelet/
LOCATION:11 High Street Suite 104\, Suffield\, CT\, United States\, Connecticut 06078
CATEGORIES:Card Classes,Crafts
ATTACH;FMTTYPE=image/jpeg:https://www.karenoughcrafts.com/wp-content/uploads/2024/06/3473_image_448249349_432651899530142_23162411943473323_n.jpg
END:VEVENT
END:VCALENDAR