BEGIN:VCALENDAR
VERSION:2.0
PRODID:-//Karenoughcrafts &amp; Boutique - ECPv6.15.17.1//NONSGML v1.0//EN
CALSCALE:GREGORIAN
METHOD:PUBLISH
X-WR-CALNAME:Karenoughcrafts &amp; Boutique
X-ORIGINAL-URL:https://www.karenoughcrafts.com
X-WR-CALDESC:Events for Karenoughcrafts &amp; Boutique
REFRESH-INTERVAL;VALUE=DURATION:PT1H
X-Robots-Tag:noindex
X-PUBLISHED-TTL:PT1H
BEGIN:VTIMEZONE
TZID:America/New_York
BEGIN:DAYLIGHT
TZOFFSETFROM:-0500
TZOFFSETTO:-0400
TZNAME:EDT
DTSTART:20230312T070000
END:DAYLIGHT
BEGIN:STANDARD
TZOFFSETFROM:-0400
TZOFFSETTO:-0500
TZNAME:EST
DTSTART:20231105T060000
END:STANDARD
BEGIN:DAYLIGHT
TZOFFSETFROM:-0500
TZOFFSETTO:-0400
TZNAME:EDT
DTSTART:20240310T070000
END:DAYLIGHT
BEGIN:STANDARD
TZOFFSETFROM:-0400
TZOFFSETTO:-0500
TZNAME:EST
DTSTART:20241103T060000
END:STANDARD
BEGIN:DAYLIGHT
TZOFFSETFROM:-0500
TZOFFSETTO:-0400
TZNAME:EDT
DTSTART:20250309T070000
END:DAYLIGHT
BEGIN:STANDARD
TZOFFSETFROM:-0400
TZOFFSETTO:-0500
TZNAME:EST
DTSTART:20251102T060000
END:STANDARD
END:VTIMEZONE
BEGIN:VEVENT
DTSTART;TZID=America/New_York:20240523T183000
DTEND;TZID=America/New_York:20240523T203000
DTSTAMP:20260424T114126
CREATED:20240407T034228Z
LAST-MODIFIED:20240523T034208Z
UID:3296-1716489000-1716496200@www.karenoughcrafts.com
SUMMARY:Charcuterie Board Workshop
DESCRIPTION:Join us for a fun and interactive event where you will learn how to create your own delicious charcuterie board! Whether you’re a seasoned pro or a total beginner\, this workshop is perfect for anyone who loves good food and good company. \nGet ready to unleash your creativity as you arrange an assortment of meats\, cheeses\, fruits\, nuts\, and more. Nicole from Boxed Bites in Simsbury will be on hand to provide tips and tricks to help you create a stunning masterpiece that is sure to impress your friends and family. \nIn addition to learning how to create a beautiful charcuterie board\, you will also get 10% off everything you purchase in the boutique that night! Grab your friends and sign up today! \nImportant information: Each person attending needs a ticket. Tickets are non-refundable. \nPlus get 10% off your purchase that night only!
URL:https://www.karenoughcrafts.com/events/charcuterie-board-workshop/
LOCATION:11 High Street Suite 104\, Suffield\, CT\, United States\, Connecticut 06078
CATEGORIES:Card Classes,Crafts
ATTACH;FMTTYPE=image/jpeg:https://www.karenoughcrafts.com/wp-content/uploads/2024/04/3296_image_435139800_393617370100262_1394650836778597902_n.jpg
END:VEVENT
END:VCALENDAR