BEGIN:VCALENDAR
VERSION:2.0
PRODID:-//Karenoughcrafts &amp; Boutique - ECPv6.15.17.1//NONSGML v1.0//EN
CALSCALE:GREGORIAN
METHOD:PUBLISH
X-WR-CALNAME:Karenoughcrafts &amp; Boutique
X-ORIGINAL-URL:https://www.karenoughcrafts.com
X-WR-CALDESC:Events for Karenoughcrafts &amp; Boutique
REFRESH-INTERVAL;VALUE=DURATION:PT1H
X-Robots-Tag:noindex
X-PUBLISHED-TTL:PT1H
BEGIN:VTIMEZONE
TZID:America/New_York
BEGIN:DAYLIGHT
TZOFFSETFROM:-0500
TZOFFSETTO:-0400
TZNAME:EDT
DTSTART:20230312T070000
END:DAYLIGHT
BEGIN:STANDARD
TZOFFSETFROM:-0400
TZOFFSETTO:-0500
TZNAME:EST
DTSTART:20231105T060000
END:STANDARD
BEGIN:DAYLIGHT
TZOFFSETFROM:-0500
TZOFFSETTO:-0400
TZNAME:EDT
DTSTART:20240310T070000
END:DAYLIGHT
BEGIN:STANDARD
TZOFFSETFROM:-0400
TZOFFSETTO:-0500
TZNAME:EST
DTSTART:20241103T060000
END:STANDARD
BEGIN:DAYLIGHT
TZOFFSETFROM:-0500
TZOFFSETTO:-0400
TZNAME:EDT
DTSTART:20250309T070000
END:DAYLIGHT
BEGIN:STANDARD
TZOFFSETFROM:-0400
TZOFFSETTO:-0500
TZNAME:EST
DTSTART:20251102T060000
END:STANDARD
END:VTIMEZONE
BEGIN:VEVENT
DTSTART;TZID=America/New_York:20240521T113000
DTEND;TZID=America/New_York:20240521T133000
DTSTAMP:20260424T115817
CREATED:20240505T034332Z
LAST-MODIFIED:20240521T034215Z
UID:3378-1716291000-1716298200@www.karenoughcrafts.com
SUMMARY:3rd Tuesday Wild Fern and Lavender 11:30 am
DESCRIPTION:The new beige is definitely not boring!  Check out another new color from Stampin up! These ferns are gorgeous and we put a little spin on the Lavender set!\nDon’t forget to bring your adhesive and scissors \nMay 21st @ 11:30 am\nNo refunds \nClick “website” below to register
URL:https://www.karenoughcrafts.com/events/3rd-tuesday-wild-fern-and-lavender-1130-am/
LOCATION:11 High Street Suite 104\, Suffield\, CT\, United States\, Connecticut 06078
CATEGORIES:Card Classes,Crafts
ATTACH;FMTTYPE=image/jpeg:https://www.karenoughcrafts.com/wp-content/uploads/2024/05/3378_image_438058523_409844958477503_7252416346974126053_n.jpg
END:VEVENT
BEGIN:VEVENT
DTSTART;TZID=America/New_York:20240521T150000
DTEND;TZID=America/New_York:20240521T170000
DTSTAMP:20260424T115817
CREATED:20240505T034331Z
LAST-MODIFIED:20240521T034215Z
UID:3376-1716303600-1716310800@www.karenoughcrafts.com
SUMMARY:3rd Tuesday Wild Fern and Lavender 3 pm
DESCRIPTION:The new beige is definitely not boring!  Check out another new color from Stampin up! These ferns are gorgeous and we put a little spin on the Lavender set!\nDon’t forget to bring your adhesive and scissors \nMay 21st @ 3 pm\nNo refunds \nClick “website” below to register
URL:https://www.karenoughcrafts.com/events/3rd-tuesday-wild-fern-and-lavender-3-pm/
LOCATION:11 High Street Suite 104\, Suffield\, CT\, United States\, Connecticut 06078
CATEGORIES:Card Classes,Crafts
ATTACH;FMTTYPE=image/jpeg:https://www.karenoughcrafts.com/wp-content/uploads/2024/05/3376_image_438093190_409846011810731_6125835799405786449_n.jpg
END:VEVENT
BEGIN:VEVENT
DTSTART;TZID=America/New_York:20240521T183000
DTEND;TZID=America/New_York:20240521T203000
DTSTAMP:20260424T115817
CREATED:20240505T034330Z
LAST-MODIFIED:20240521T034214Z
UID:3374-1716316200-1716323400@www.karenoughcrafts.com
SUMMARY:3rd Tuesday Wild Fern & Lavender 6:30 pm
DESCRIPTION:The new beige is definitely not boring!  Check out another new color from Stampin up! These ferns are gorgeous and we put a little spin on the Lavender set!\nDon’t forget to bring your adhesive and scissors \nMay 21st @ 6:30 pm\nNo refunds \nClick “website” below to register
URL:https://www.karenoughcrafts.com/events/3rd-tuesday-wild-fern-lavender-630-pm/
LOCATION:11 High Street Suite 104\, Suffield\, CT\, United States\, Connecticut 06078
CATEGORIES:Card Classes,Crafts
ATTACH;FMTTYPE=image/jpeg:https://www.karenoughcrafts.com/wp-content/uploads/2024/05/3374_image_439935807_409847051810627_6471071041099392602_n.jpg
END:VEVENT
END:VCALENDAR