BEGIN:VCALENDAR
VERSION:2.0
PRODID:-//Karenoughcrafts &amp; Boutique - ECPv6.15.17.1//NONSGML v1.0//EN
CALSCALE:GREGORIAN
METHOD:PUBLISH
X-WR-CALNAME:Karenoughcrafts &amp; Boutique
X-ORIGINAL-URL:https://www.karenoughcrafts.com
X-WR-CALDESC:Events for Karenoughcrafts &amp; Boutique
REFRESH-INTERVAL;VALUE=DURATION:PT1H
X-Robots-Tag:noindex
X-PUBLISHED-TTL:PT1H
BEGIN:VTIMEZONE
TZID:America/New_York
BEGIN:DAYLIGHT
TZOFFSETFROM:-0500
TZOFFSETTO:-0400
TZNAME:EDT
DTSTART:20230312T070000
END:DAYLIGHT
BEGIN:STANDARD
TZOFFSETFROM:-0400
TZOFFSETTO:-0500
TZNAME:EST
DTSTART:20231105T060000
END:STANDARD
BEGIN:DAYLIGHT
TZOFFSETFROM:-0500
TZOFFSETTO:-0400
TZNAME:EDT
DTSTART:20240310T070000
END:DAYLIGHT
BEGIN:STANDARD
TZOFFSETFROM:-0400
TZOFFSETTO:-0500
TZNAME:EST
DTSTART:20241103T060000
END:STANDARD
BEGIN:DAYLIGHT
TZOFFSETFROM:-0500
TZOFFSETTO:-0400
TZNAME:EDT
DTSTART:20250309T070000
END:DAYLIGHT
BEGIN:STANDARD
TZOFFSETFROM:-0400
TZOFFSETTO:-0500
TZNAME:EST
DTSTART:20251102T060000
END:STANDARD
END:VTIMEZONE
BEGIN:VEVENT
DTSTART;TZID=America/New_York:20240507T113000
DTEND;TZID=America/New_York:20240507T133000
DTSTAMP:20260424T114054
CREATED:20240504T034158Z
LAST-MODIFIED:20240507T034235Z
UID:3366-1715081400-1715088600@www.karenoughcrafts.com
SUMMARY:1st Tuesday Perfect Peony- 11:30 am
DESCRIPTION:Let’s add a pop of color with beautiful peonies.  New colors will be featured.\nDon’t forget your own adhesive and scissors. \nMay 7th @ 11:30 am\nNo refunds \nClick “website” below to register
URL:https://www.karenoughcrafts.com/events/1st-tuesday-perfect-peony-1130-am/
LOCATION:11 High Street Suite 104\, Suffield\, CT\, United States\, Connecticut 06078
CATEGORIES:Card Classes,Crafts
ATTACH;FMTTYPE=image/jpeg:https://www.karenoughcrafts.com/wp-content/uploads/2024/05/3366_image_438086030_409638241831508_7915489029699285570_n.jpg
END:VEVENT
BEGIN:VEVENT
DTSTART;TZID=America/New_York:20240507T150000
DTEND;TZID=America/New_York:20240507T170000
DTSTAMP:20260424T114054
CREATED:20240505T034337Z
LAST-MODIFIED:20240507T034235Z
UID:3388-1715094000-1715101200@www.karenoughcrafts.com
SUMMARY:1st Tuesday Perfect Peony 3 pm
DESCRIPTION:Let’s add a pop of color with beautiful peonies.  New colors will be featured.\nDon’t forget your own adhesive and scissors. \nMay 7th @ 3 pm\nNo refunds \nClick “website” below to register
URL:https://www.karenoughcrafts.com/events/1st-tuesday-perfect-peony-3-pm/
LOCATION:11 High Street Suite 104\, Suffield\, CT\, United States\, Connecticut 06078
CATEGORIES:Card Classes,Crafts
ATTACH;FMTTYPE=image/jpeg:https://www.karenoughcrafts.com/wp-content/uploads/2024/05/3388_image_440080722_409639171831415_2086915405209460854_n.jpg
END:VEVENT
BEGIN:VEVENT
DTSTART;TZID=America/New_York:20240507T183000
DTEND;TZID=America/New_York:20240507T203000
DTSTAMP:20260424T114054
CREATED:20240505T034336Z
LAST-MODIFIED:20240507T034234Z
UID:3386-1715106600-1715113800@www.karenoughcrafts.com
SUMMARY:1st Tuesday Perfect Peony 6:30 pm
DESCRIPTION:Let’s add a pop of color with beautiful peonies.  New colors will be featured.\nDon’t forget your own adhesive and scissors. \nMay 7th @ 6:30 pm\nNo refunds \nClick “website” below to register
URL:https://www.karenoughcrafts.com/events/1st-tuesday-perfect-peony-630-pm/
LOCATION:11 High Street Suite 104\, Suffield\, CT\, United States\, Connecticut 06078
CATEGORIES:Card Classes,Crafts
ATTACH;FMTTYPE=image/jpeg:https://www.karenoughcrafts.com/wp-content/uploads/2024/05/3386_image_438078157_409640018497997_1398583382866386412_n.jpg
END:VEVENT
END:VCALENDAR