BEGIN:VCALENDAR
VERSION:2.0
PRODID:-//Karenoughcrafts &amp; Boutique - ECPv6.15.17.1//NONSGML v1.0//EN
CALSCALE:GREGORIAN
METHOD:PUBLISH
X-WR-CALNAME:Karenoughcrafts &amp; Boutique
X-ORIGINAL-URL:https://www.karenoughcrafts.com
X-WR-CALDESC:Events for Karenoughcrafts &amp; Boutique
REFRESH-INTERVAL;VALUE=DURATION:PT1H
X-Robots-Tag:noindex
X-PUBLISHED-TTL:PT1H
BEGIN:VTIMEZONE
TZID:America/New_York
BEGIN:DAYLIGHT
TZOFFSETFROM:-0500
TZOFFSETTO:-0400
TZNAME:EDT
DTSTART:20230312T070000
END:DAYLIGHT
BEGIN:STANDARD
TZOFFSETFROM:-0400
TZOFFSETTO:-0500
TZNAME:EST
DTSTART:20231105T060000
END:STANDARD
BEGIN:DAYLIGHT
TZOFFSETFROM:-0500
TZOFFSETTO:-0400
TZNAME:EDT
DTSTART:20240310T070000
END:DAYLIGHT
BEGIN:STANDARD
TZOFFSETFROM:-0400
TZOFFSETTO:-0500
TZNAME:EST
DTSTART:20241103T060000
END:STANDARD
BEGIN:DAYLIGHT
TZOFFSETFROM:-0500
TZOFFSETTO:-0400
TZNAME:EDT
DTSTART:20250309T070000
END:DAYLIGHT
BEGIN:STANDARD
TZOFFSETFROM:-0400
TZOFFSETTO:-0500
TZNAME:EST
DTSTART:20251102T060000
END:STANDARD
END:VTIMEZONE
BEGIN:VEVENT
DTSTART;TZID=America/New_York:20240420T110000
DTEND;TZID=America/New_York:20240420T130000
DTSTAMP:20260424T131720
CREATED:20240325T034157Z
LAST-MODIFIED:20240420T034346Z
UID:3254-1713610800-1713618000@www.karenoughcrafts.com
SUMMARY:Stamp Carving
DESCRIPTION:Stony brook studios will join us and show how to take your artistic creation and turn it into an everlasting impression by making a rubber stamp.  Plus\, get 10% off your purchases made on the day of the class.\nAges 16+ only\nApril 20th 11-1\nSorry no refunds
URL:https://www.karenoughcrafts.com/events/stamp-carving-2/
LOCATION:11 High Street Suite 104\, Suffield\, CT\, United States\, Connecticut 06078
CATEGORIES:Card Classes,Crafts
ATTACH;FMTTYPE=image/jpeg:https://www.karenoughcrafts.com/wp-content/uploads/2024/03/3254_image_432859985_385968300865169_7595667476895126744_n.jpg
END:VEVENT
END:VCALENDAR