BEGIN:VCALENDAR
VERSION:2.0
PRODID:-//Karenoughcrafts &amp; Boutique - ECPv6.15.17.1//NONSGML v1.0//EN
CALSCALE:GREGORIAN
METHOD:PUBLISH
X-WR-CALNAME:Karenoughcrafts &amp; Boutique
X-ORIGINAL-URL:https://www.karenoughcrafts.com
X-WR-CALDESC:Events for Karenoughcrafts &amp; Boutique
REFRESH-INTERVAL;VALUE=DURATION:PT1H
X-Robots-Tag:noindex
X-PUBLISHED-TTL:PT1H
BEGIN:VTIMEZONE
TZID:America/New_York
BEGIN:DAYLIGHT
TZOFFSETFROM:-0500
TZOFFSETTO:-0400
TZNAME:EDT
DTSTART:20230312T070000
END:DAYLIGHT
BEGIN:STANDARD
TZOFFSETFROM:-0400
TZOFFSETTO:-0500
TZNAME:EST
DTSTART:20231105T060000
END:STANDARD
BEGIN:DAYLIGHT
TZOFFSETFROM:-0500
TZOFFSETTO:-0400
TZNAME:EDT
DTSTART:20240310T070000
END:DAYLIGHT
BEGIN:STANDARD
TZOFFSETFROM:-0400
TZOFFSETTO:-0500
TZNAME:EST
DTSTART:20241103T060000
END:STANDARD
BEGIN:DAYLIGHT
TZOFFSETFROM:-0500
TZOFFSETTO:-0400
TZNAME:EDT
DTSTART:20250309T070000
END:DAYLIGHT
BEGIN:STANDARD
TZOFFSETFROM:-0400
TZOFFSETTO:-0500
TZNAME:EST
DTSTART:20251102T060000
END:STANDARD
END:VTIMEZONE
BEGIN:VEVENT
DTSTART;TZID=America/New_York:20240416T113000
DTEND;TZID=America/New_York:20240416T133000
DTSTAMP:20260424T131720
CREATED:20240325T034201Z
LAST-MODIFIED:20240416T034240Z
UID:3260-1713267000-1713274200@www.karenoughcrafts.com
SUMMARY:3rd Tuesday Earthen Textures 11:30 am
DESCRIPTION:Work with some punches and dies as well as gold embossing powder to create these beautiful cards.\nDon’t forget to bring your adhesive and scissors \nApril 16th @ 11:30 am\nNo refunds \nClick “website” below to register
URL:https://www.karenoughcrafts.com/events/3rd-tuesday-earthen-textures-1130-am/
LOCATION:11 High Street Suite 104\, Suffield\, CT\, United States\, Connecticut 06078
CATEGORIES:Card Classes,Crafts
ATTACH;FMTTYPE=image/jpeg:https://www.karenoughcrafts.com/wp-content/uploads/2024/03/3260_image_432784619_385984064196926_1637499306154937137_n.jpg
END:VEVENT
BEGIN:VEVENT
DTSTART;TZID=America/New_York:20240416T150000
DTEND;TZID=America/New_York:20240416T170000
DTSTAMP:20260424T131720
CREATED:20240325T034200Z
LAST-MODIFIED:20240416T034240Z
UID:3258-1713279600-1713286800@www.karenoughcrafts.com
SUMMARY:3rd Tuesday Earthen Textures 3 pm
DESCRIPTION:Work with some punches and dies as well as gold embossing powder to create these beautiful cards.\nDon’t forget to bring your adhesive and scissors \nApril 16th @ 3 pm\nNo refunds \nClick “website” below to register
URL:https://www.karenoughcrafts.com/events/3rd-tuesday-earthen-textures-3-pm/
LOCATION:11 High Street Suite 104\, Suffield\, CT\, United States\, Connecticut 06078
CATEGORIES:Card Classes,Crafts
ATTACH;FMTTYPE=image/jpeg:https://www.karenoughcrafts.com/wp-content/uploads/2024/03/3258_image_433136810_385984754196857_2599991686219511146_n.jpg
END:VEVENT
BEGIN:VEVENT
DTSTART;TZID=America/New_York:20240416T183000
DTEND;TZID=America/New_York:20240416T203000
DTSTAMP:20260424T131720
CREATED:20240325T034159Z
LAST-MODIFIED:20240416T034239Z
UID:3256-1713292200-1713299400@www.karenoughcrafts.com
SUMMARY:3rd Tuesday Earthen Textures 6:30 pm
DESCRIPTION:Work with some punches and dies as well as gold embossing powder to create these beautiful cards.\nDon’t forget to bring your adhesive and scissors \nApril 16th @ 6:30 pm\nNo refunds \nClick “website” below to register
URL:https://www.karenoughcrafts.com/events/3rd-tuesday-earthen-textures-630-pm/
LOCATION:11 High Street Suite 104\, Suffield\, CT\, United States\, Connecticut 06078
CATEGORIES:Card Classes,Crafts
ATTACH;FMTTYPE=image/jpeg:https://www.karenoughcrafts.com/wp-content/uploads/2024/03/3256_image_432784337_385985574196775_7696179155387950831_n.jpg
END:VEVENT
END:VCALENDAR