BEGIN:VCALENDAR
VERSION:2.0
PRODID:-//Karenoughcrafts &amp; Boutique - ECPv6.15.17.1//NONSGML v1.0//EN
CALSCALE:GREGORIAN
METHOD:PUBLISH
X-WR-CALNAME:Karenoughcrafts &amp; Boutique
X-ORIGINAL-URL:https://www.karenoughcrafts.com
X-WR-CALDESC:Events for Karenoughcrafts &amp; Boutique
REFRESH-INTERVAL;VALUE=DURATION:PT1H
X-Robots-Tag:noindex
X-PUBLISHED-TTL:PT1H
BEGIN:VTIMEZONE
TZID:America/New_York
BEGIN:DAYLIGHT
TZOFFSETFROM:-0500
TZOFFSETTO:-0400
TZNAME:EDT
DTSTART:20230312T070000
END:DAYLIGHT
BEGIN:STANDARD
TZOFFSETFROM:-0400
TZOFFSETTO:-0500
TZNAME:EST
DTSTART:20231105T060000
END:STANDARD
BEGIN:DAYLIGHT
TZOFFSETFROM:-0500
TZOFFSETTO:-0400
TZNAME:EDT
DTSTART:20240310T070000
END:DAYLIGHT
BEGIN:STANDARD
TZOFFSETFROM:-0400
TZOFFSETTO:-0500
TZNAME:EST
DTSTART:20241103T060000
END:STANDARD
BEGIN:DAYLIGHT
TZOFFSETFROM:-0500
TZOFFSETTO:-0400
TZNAME:EDT
DTSTART:20250309T070000
END:DAYLIGHT
BEGIN:STANDARD
TZOFFSETFROM:-0400
TZOFFSETTO:-0500
TZNAME:EST
DTSTART:20251102T060000
END:STANDARD
END:VTIMEZONE
BEGIN:VEVENT
DTSTART;TZID=America/New_York:20240409T113000
DTEND;TZID=America/New_York:20240409T133000
DTSTAMP:20260424T131843
CREATED:20240325T034204Z
LAST-MODIFIED:20240409T034219Z
UID:3266-1712662200-1712669400@www.karenoughcrafts.com
SUMMARY:2nd Tuesday Garden Floral 11:30 am
DESCRIPTION:These garden florals are a hit!  Combine it with a cute striped birthday card with a pop of color and voila!  You’re a card maker.  Feel free to add any salutation.\nThese cards are designed for the beginner stamper or someone who may want to see how easy it can be to create beautiful cards.\nDon’t forget your scissors and adhesive! \nApril 9th @ 11:30 am\nNo refunds \nClick “website” below to register
URL:https://www.karenoughcrafts.com/events/2nd-tuesday-garden-floral-1130-am/
LOCATION:11 High Street Suite 104\, Suffield\, CT\, United States\, Connecticut 06078
CATEGORIES:Card Classes,Crafts
ATTACH;FMTTYPE=image/jpeg:https://www.karenoughcrafts.com/wp-content/uploads/2024/03/3266_image_432788161_385978490864150_5762706837561434309_n.jpg
END:VEVENT
BEGIN:VEVENT
DTSTART;TZID=America/New_York:20240409T150000
DTEND;TZID=America/New_York:20240409T170000
DTSTAMP:20260424T131843
CREATED:20240325T034203Z
LAST-MODIFIED:20240409T034219Z
UID:3264-1712674800-1712682000@www.karenoughcrafts.com
SUMMARY:2nd Tuesday Garden Floral 3 pm
DESCRIPTION:These garden florals are a hit!  Combine it with a cute striped birthday card with a pop of color and voila!  You’re a card maker.  Feel free to add any salutation.\nThese cards are designed for the beginner stamper or someone who may want to see how easy it can be to create beautiful cards.\nDon’t forget your scissors and adhesive! \nApril 9th @ 3 pm\nNo refunds \nClick “website” below to register
URL:https://www.karenoughcrafts.com/events/2nd-tuesday-garden-floral-3-pm/
LOCATION:11 High Street Suite 104\, Suffield\, CT\, United States\, Connecticut 06078
CATEGORIES:Card Classes,Crafts
ATTACH;FMTTYPE=image/jpeg:https://www.karenoughcrafts.com/wp-content/uploads/2024/03/3264_image_432783380_385979090864090_721538860307486815_n.jpg
END:VEVENT
BEGIN:VEVENT
DTSTART;TZID=America/New_York:20240409T183000
DTEND;TZID=America/New_York:20240409T203000
DTSTAMP:20260424T131843
CREATED:20240325T034202Z
LAST-MODIFIED:20240409T034218Z
UID:3262-1712687400-1712694600@www.karenoughcrafts.com
SUMMARY:2nd Tuesday Garden Floral 6:30 pm
DESCRIPTION:These garden florals are a hit!  Combine it with a cute striped birthday card with a pop of color and voila!  You’re a card maker.  Feel free to add any salutation.\nThese cards are designed for the beginner stamper or someone who may want to see how easy it can be to create beautiful cards.\nDon’t forget your scissors and adhesive! \nApril 9th @ 6:30 pm\nNo refunds \nClick “website” below to register
URL:https://www.karenoughcrafts.com/events/2nd-tuesday-garden-floral-630-pm/
LOCATION:11 High Street Suite 104\, Suffield\, CT\, United States\, Connecticut 06078
CATEGORIES:Card Classes,Crafts
ATTACH;FMTTYPE=image/jpeg:https://www.karenoughcrafts.com/wp-content/uploads/2024/03/3262_image_432777207_385980104197322_6431962267553643326_n.jpg
END:VEVENT
END:VCALENDAR