BEGIN:VCALENDAR
VERSION:2.0
PRODID:-//Karenoughcrafts &amp; Boutique - ECPv6.15.17.1//NONSGML v1.0//EN
CALSCALE:GREGORIAN
METHOD:PUBLISH
X-WR-CALNAME:Karenoughcrafts &amp; Boutique
X-ORIGINAL-URL:https://www.karenoughcrafts.com
X-WR-CALDESC:Events for Karenoughcrafts &amp; Boutique
REFRESH-INTERVAL;VALUE=DURATION:PT1H
X-Robots-Tag:noindex
X-PUBLISHED-TTL:PT1H
BEGIN:VTIMEZONE
TZID:America/New_York
BEGIN:DAYLIGHT
TZOFFSETFROM:-0500
TZOFFSETTO:-0400
TZNAME:EDT
DTSTART:20230312T070000
END:DAYLIGHT
BEGIN:STANDARD
TZOFFSETFROM:-0400
TZOFFSETTO:-0500
TZNAME:EST
DTSTART:20231105T060000
END:STANDARD
BEGIN:DAYLIGHT
TZOFFSETFROM:-0500
TZOFFSETTO:-0400
TZNAME:EDT
DTSTART:20240310T070000
END:DAYLIGHT
BEGIN:STANDARD
TZOFFSETFROM:-0400
TZOFFSETTO:-0500
TZNAME:EST
DTSTART:20241103T060000
END:STANDARD
BEGIN:DAYLIGHT
TZOFFSETFROM:-0500
TZOFFSETTO:-0400
TZNAME:EDT
DTSTART:20250309T070000
END:DAYLIGHT
BEGIN:STANDARD
TZOFFSETFROM:-0400
TZOFFSETTO:-0500
TZNAME:EST
DTSTART:20251102T060000
END:STANDARD
END:VTIMEZONE
BEGIN:VEVENT
DTSTART;TZID=America/New_York:20240312T113000
DTEND;TZID=America/New_York:20240312T133000
DTSTAMP:20260424T145740
CREATED:20240229T034212Z
LAST-MODIFIED:20240312T034242Z
UID:3204-1710243000-1710250200@www.karenoughcrafts.com
SUMMARY:2nd Tuesday Bunny Blessings 11:30 am
DESCRIPTION:Hop on over to Karenoughcrafts and plan to give some “bunny” some love with your next set of cards.\nThese cards are designed for the beginner stamper or someone who may want to see how easy it can be to create beautiful cards.\nDon’t forget your scissors and adhesive! \nMarch 12th @ 11:30 am\nNo refunds \nClick “website” below to register
URL:https://www.karenoughcrafts.com/events/2nd-tuesday-bunny-blessings-1130-am/
LOCATION:11 High Street Suite 104\, Suffield\, CT\, United States\, Connecticut 06078
CATEGORIES:Card Classes,Crafts
ATTACH;FMTTYPE=image/jpeg:https://www.karenoughcrafts.com/wp-content/uploads/2024/02/3204_image_430842666_372264122235587_5310226595279353579_n.jpg
END:VEVENT
BEGIN:VEVENT
DTSTART;TZID=America/New_York:20240312T150000
DTEND;TZID=America/New_York:20240312T170000
DTSTAMP:20260424T145740
CREATED:20240229T034211Z
LAST-MODIFIED:20240312T034241Z
UID:3202-1710255600-1710262800@www.karenoughcrafts.com
SUMMARY:2nd Tuesday- Bunny Blessings 3 pm
DESCRIPTION:Hop on over to Karenoughcrafts and plan to give some “bunny” some love with your next set of cards.\nThese cards are designed for the beginner stamper or someone who may want to see how easy it can be to create beautiful cards.\nDon’t forget your scissors and adhesive! \nMarch 12th @ 3 pm\nNo refunds \nClick “website” below to register
URL:https://www.karenoughcrafts.com/events/2nd-tuesday-bunny-blessings-3-pm/
LOCATION:11 High Street Suite 104\, Suffield\, CT\, United States\, Connecticut 06078
CATEGORIES:Card Classes,Crafts
ATTACH;FMTTYPE=image/jpeg:https://www.karenoughcrafts.com/wp-content/uploads/2024/02/3202_image_428485337_372275188901147_866660115128674873_n.jpg
END:VEVENT
BEGIN:VEVENT
DTSTART;TZID=America/New_York:20240312T183000
DTEND;TZID=America/New_York:20240312T203000
DTSTAMP:20260424T145740
CREATED:20240229T034210Z
LAST-MODIFIED:20240312T034241Z
UID:3200-1710268200-1710275400@www.karenoughcrafts.com
SUMMARY:2nd Tuesday Bunny Blessings 6:30 pm
DESCRIPTION:Hop on over to Karenoughcrafts and plan to give some “bunny” some love with your next set of cards.\nThese cards are designed for the beginner stamper or someone who may want to see how easy it can be to create beautiful cards.\nDon’t forget your scissors and adhesive! \nMarch 12th @ 6:30 pm\nNo refunds \nClick “website” below to register
URL:https://www.karenoughcrafts.com/events/2nd-tuesday-bunny-blessings-630-pm/
LOCATION:11 High Street Suite 104\, Suffield\, CT\, United States\, Connecticut 06078
CATEGORIES:Card Classes,Crafts
ATTACH;FMTTYPE=image/jpeg:https://www.karenoughcrafts.com/wp-content/uploads/2024/02/3200_image_428507380_372276295567703_3500480536097518518_n.jpg
END:VEVENT
END:VCALENDAR