BEGIN:VCALENDAR
VERSION:2.0
PRODID:-//Karenoughcrafts &amp; Boutique - ECPv6.15.17.1//NONSGML v1.0//EN
CALSCALE:GREGORIAN
METHOD:PUBLISH
X-WR-CALNAME:Karenoughcrafts &amp; Boutique
X-ORIGINAL-URL:https://www.karenoughcrafts.com
X-WR-CALDESC:Events for Karenoughcrafts &amp; Boutique
REFRESH-INTERVAL;VALUE=DURATION:PT1H
X-Robots-Tag:noindex
X-PUBLISHED-TTL:PT1H
BEGIN:VTIMEZONE
TZID:America/New_York
BEGIN:DAYLIGHT
TZOFFSETFROM:-0500
TZOFFSETTO:-0400
TZNAME:EDT
DTSTART:20230312T070000
END:DAYLIGHT
BEGIN:STANDARD
TZOFFSETFROM:-0400
TZOFFSETTO:-0500
TZNAME:EST
DTSTART:20231105T060000
END:STANDARD
BEGIN:DAYLIGHT
TZOFFSETFROM:-0500
TZOFFSETTO:-0400
TZNAME:EDT
DTSTART:20240310T070000
END:DAYLIGHT
BEGIN:STANDARD
TZOFFSETFROM:-0400
TZOFFSETTO:-0500
TZNAME:EST
DTSTART:20241103T060000
END:STANDARD
BEGIN:DAYLIGHT
TZOFFSETFROM:-0500
TZOFFSETTO:-0400
TZNAME:EDT
DTSTART:20250309T070000
END:DAYLIGHT
BEGIN:STANDARD
TZOFFSETFROM:-0400
TZOFFSETTO:-0500
TZNAME:EST
DTSTART:20251102T060000
END:STANDARD
END:VTIMEZONE
BEGIN:VEVENT
DTSTART;TZID=America/New_York:20240307T100000
DTEND;TZID=America/New_York:20240307T110000
DTSTAMP:20260424T145729
CREATED:20240229T034215Z
LAST-MODIFIED:20240307T034319Z
UID:3208-1709805600-1709809200@www.karenoughcrafts.com
SUMMARY:Peeps Bunny
DESCRIPTION:Join Karen from Karenoughcrafts as we paint bunny peeps in any color you want.  Decoupage the backside so you have a duplicate way to display your bunny! \nThursday\, 3/7 at 10 am \nSorry\, no refunds
URL:https://www.karenoughcrafts.com/events/peeps-bunny/
LOCATION:Suffield Senior Center\, 145 Bridge St\, Suffield\, CT\, 06078\, US
CATEGORIES:Card Classes,Crafts
ATTACH;FMTTYPE=image/jpeg:https://www.karenoughcrafts.com/wp-content/uploads/2024/02/3208_image_430128374_372295692232430_5087754204985251742_n.jpg
END:VEVENT
BEGIN:VEVENT
DTSTART;TZID=America/New_York:20240307T180000
DTEND;TZID=America/New_York:20240307T200000
DTSTAMP:20260424T145729
CREATED:20240226T034202Z
LAST-MODIFIED:20240307T034318Z
UID:3170-1709834400-1709841600@www.karenoughcrafts.com
SUMMARY:Bunny Garden
DESCRIPTION:Hop into crafting with this adorable little bunny.  Filled with eggs\, carrots and floral\, decorate your bunny’s garden the way you want to!  Paint your bunny and learn how to distress the front with a special painting technique.   \nMarch 7th at 6 pm\nSorry\, no refunds \nClick “website” below to register
URL:https://www.karenoughcrafts.com/events/bunny-garden/
LOCATION:11 High Street Suite 104\, Suffield\, CT\, United States\, Connecticut 06078
CATEGORIES:Card Classes,Crafts
ATTACH;FMTTYPE=image/jpeg:https://www.karenoughcrafts.com/wp-content/uploads/2024/02/3170_image_429680569_370764709052195_3989413481783342608_n.jpg
END:VEVENT
END:VCALENDAR