BEGIN:VCALENDAR
VERSION:2.0
PRODID:-//Karenoughcrafts &amp; Boutique - ECPv6.15.17.1//NONSGML v1.0//EN
CALSCALE:GREGORIAN
METHOD:PUBLISH
X-WR-CALNAME:Karenoughcrafts &amp; Boutique
X-ORIGINAL-URL:https://www.karenoughcrafts.com
X-WR-CALDESC:Events for Karenoughcrafts &amp; Boutique
REFRESH-INTERVAL;VALUE=DURATION:PT1H
X-Robots-Tag:noindex
X-PUBLISHED-TTL:PT1H
BEGIN:VTIMEZONE
TZID:America/New_York
BEGIN:DAYLIGHT
TZOFFSETFROM:-0500
TZOFFSETTO:-0400
TZNAME:EDT
DTSTART:20230312T070000
END:DAYLIGHT
BEGIN:STANDARD
TZOFFSETFROM:-0400
TZOFFSETTO:-0500
TZNAME:EST
DTSTART:20231105T060000
END:STANDARD
BEGIN:DAYLIGHT
TZOFFSETFROM:-0500
TZOFFSETTO:-0400
TZNAME:EDT
DTSTART:20240310T070000
END:DAYLIGHT
BEGIN:STANDARD
TZOFFSETFROM:-0400
TZOFFSETTO:-0500
TZNAME:EST
DTSTART:20241103T060000
END:STANDARD
BEGIN:DAYLIGHT
TZOFFSETFROM:-0500
TZOFFSETTO:-0400
TZNAME:EDT
DTSTART:20250309T070000
END:DAYLIGHT
BEGIN:STANDARD
TZOFFSETFROM:-0400
TZOFFSETTO:-0500
TZNAME:EST
DTSTART:20251102T060000
END:STANDARD
END:VTIMEZONE
BEGIN:VEVENT
DTSTART;TZID=America/New_York:20240229T180000
DTEND;TZID=America/New_York:20240229T193000
DTSTAMP:20260424T163328
CREATED:20240219T034157Z
LAST-MODIFIED:20240229T034220Z
UID:3158-1709229600-1709235000@www.karenoughcrafts.com
SUMMARY:Leap day terrarium globe workshop
DESCRIPTION:This Leap Day\, make the most of your extra 24 hours and join Tracey from The Plant Lounge for an evening of creativity and greenery at their Leap Day Terrarium Globe Class! Join us for a once-in-four-years event where you’ll learn how to create a stunning terrarium globe using your choice of miniature houseplants or air plants. \nAll materials will be provided\, ensuring you have everything you need to design your own unique terrarium globe. From vibrant greenery to colorful stones and charming figurines\, let your imagination run wild and watch your creation come to life. Tracey will guide you through the process\, sharing her knowledge and tips to ensure your terrarium creation is nothing short of extraordinary.  \nShe will also provide expert advice on how to care for your new green eco systems\, ensuring they thrive long after the leap year is over. From watering techniques to understanding light requirements\, you’ll leave with the confidence to be a green thumb extraordinaire. \nGet your tickets now and get ready for a fun\, creative activity! Light bites provided and access to the Boutique for shopping. \nClick “website” link to register\nSorry\, no refunds
URL:https://www.karenoughcrafts.com/events/leap-day-terrarium-globe-workshop/
LOCATION:11 High Street Suite 104\, Suffield\, CT
CATEGORIES:Card Classes,Crafts
ATTACH;FMTTYPE=image/jpeg:https://www.karenoughcrafts.com/wp-content/uploads/2024/02/3158_image_428711413_366988879429778_3177480796287937641_n.jpg
END:VEVENT
END:VCALENDAR