BEGIN:VCALENDAR
VERSION:2.0
PRODID:-//Karenoughcrafts &amp; Boutique - ECPv6.15.17.1//NONSGML v1.0//EN
CALSCALE:GREGORIAN
METHOD:PUBLISH
X-ORIGINAL-URL:https://www.karenoughcrafts.com
X-WR-CALDESC:Events for Karenoughcrafts &amp; Boutique
REFRESH-INTERVAL;VALUE=DURATION:PT1H
X-Robots-Tag:noindex
X-PUBLISHED-TTL:PT1H
BEGIN:VTIMEZONE
TZID:America/New_York
BEGIN:DAYLIGHT
TZOFFSETFROM:-0500
TZOFFSETTO:-0400
TZNAME:EDT
DTSTART:20230312T070000
END:DAYLIGHT
BEGIN:STANDARD
TZOFFSETFROM:-0400
TZOFFSETTO:-0500
TZNAME:EST
DTSTART:20231105T060000
END:STANDARD
BEGIN:DAYLIGHT
TZOFFSETFROM:-0500
TZOFFSETTO:-0400
TZNAME:EDT
DTSTART:20240310T070000
END:DAYLIGHT
BEGIN:STANDARD
TZOFFSETFROM:-0400
TZOFFSETTO:-0500
TZNAME:EST
DTSTART:20241103T060000
END:STANDARD
BEGIN:DAYLIGHT
TZOFFSETFROM:-0500
TZOFFSETTO:-0400
TZNAME:EDT
DTSTART:20250309T070000
END:DAYLIGHT
BEGIN:STANDARD
TZOFFSETFROM:-0400
TZOFFSETTO:-0500
TZNAME:EST
DTSTART:20251102T060000
END:STANDARD
END:VTIMEZONE
BEGIN:VEVENT
DTSTART;TZID=America/New_York:20240220T113000
DTEND;TZID=America/New_York:20240220T133000
DTSTAMP:20260424T163652
CREATED:20240205T034206Z
LAST-MODIFIED:20240220T034304Z
UID:3112-1708428600-1708435800@www.karenoughcrafts.com
SUMMARY:3rd Tuesday Artistically Inked- 11:30 am
DESCRIPTION:These floral designs will have you wishing for spring!\nDon’t forget your own adhesive and scissors. \n2/20/24 @ 11:30 am\nSorry\, no refunds \nClick “website” below to register
URL:https://www.karenoughcrafts.com/events/3rd-tuesday-artistically-inked-1130-am/
LOCATION:11 High Street Suite 104\, Suffield\, CT\, United States\, Connecticut 06078
CATEGORIES:Card Classes,Crafts
ATTACH;FMTTYPE=image/jpeg:https://www.karenoughcrafts.com/wp-content/uploads/2024/02/3112_image_425625013_358592000269466_8667003579510404625_n.jpg
END:VEVENT
BEGIN:VEVENT
DTSTART;TZID=America/New_York:20240220T150000
DTEND;TZID=America/New_York:20240220T170000
DTSTAMP:20260424T163652
CREATED:20240205T034205Z
LAST-MODIFIED:20240220T034304Z
UID:3110-1708441200-1708448400@www.karenoughcrafts.com
SUMMARY:3rd Tuesday Artistically Inked 3 pm
DESCRIPTION:These floral cards will make you wish for spring Don’t forget your own adhesive and scissors. \n2/20/24 @ 3 pm\nNo refunds \nClick “website” below to register
URL:https://www.karenoughcrafts.com/events/3rd-tuesday-artistically-inked-3-pm/
LOCATION:11 High Street Suite 104\, Suffield\, CT\, United States\, Connecticut 06078
CATEGORIES:Card Classes,Crafts
ATTACH;FMTTYPE=image/jpeg:https://www.karenoughcrafts.com/wp-content/uploads/2024/02/3110_image_425798801_358594183602581_2127389301225612068_n.jpg
END:VEVENT
BEGIN:VEVENT
DTSTART;TZID=America/New_York:20240220T183000
DTEND;TZID=America/New_York:20240220T183000
DTSTAMP:20260424T163652
CREATED:20240205T034204Z
LAST-MODIFIED:20240220T034304Z
UID:3108-1708453800-1708453800@www.karenoughcrafts.com
SUMMARY:3rd Tuesday Artistically Inked 6:30 pm
DESCRIPTION:These florals will make you wish for Spring!  Don’t forget your own adhesive and scissors. \n2/20/24@ 6:30 pm\nNo refunds \nClick “website” below to register
URL:https://www.karenoughcrafts.com/events/3rd-tuesday-artistically-inked-630-pm/
LOCATION:11 High Street Suite 104\, Suffield\, CT\, United States\, Connecticut 06078
CATEGORIES:Card Classes,Crafts
ATTACH;FMTTYPE=image/jpeg:https://www.karenoughcrafts.com/wp-content/uploads/2024/02/3108_image_425717582_358595683602431_1553988679198968916_n.jpg
END:VEVENT
END:VCALENDAR