BEGIN:VCALENDAR
VERSION:2.0
PRODID:-//Karenoughcrafts &amp; Boutique - ECPv6.15.17.1//NONSGML v1.0//EN
CALSCALE:GREGORIAN
METHOD:PUBLISH
X-WR-CALNAME:Karenoughcrafts &amp; Boutique
X-ORIGINAL-URL:https://www.karenoughcrafts.com
X-WR-CALDESC:Events for Karenoughcrafts &amp; Boutique
REFRESH-INTERVAL;VALUE=DURATION:PT1H
X-Robots-Tag:noindex
X-PUBLISHED-TTL:PT1H
BEGIN:VTIMEZONE
TZID:America/New_York
BEGIN:DAYLIGHT
TZOFFSETFROM:-0500
TZOFFSETTO:-0400
TZNAME:EDT
DTSTART:20220313T070000
END:DAYLIGHT
BEGIN:STANDARD
TZOFFSETFROM:-0400
TZOFFSETTO:-0500
TZNAME:EST
DTSTART:20221106T060000
END:STANDARD
BEGIN:DAYLIGHT
TZOFFSETFROM:-0500
TZOFFSETTO:-0400
TZNAME:EDT
DTSTART:20230312T070000
END:DAYLIGHT
BEGIN:STANDARD
TZOFFSETFROM:-0400
TZOFFSETTO:-0500
TZNAME:EST
DTSTART:20231105T060000
END:STANDARD
BEGIN:DAYLIGHT
TZOFFSETFROM:-0500
TZOFFSETTO:-0400
TZNAME:EDT
DTSTART:20240310T070000
END:DAYLIGHT
BEGIN:STANDARD
TZOFFSETFROM:-0400
TZOFFSETTO:-0500
TZNAME:EST
DTSTART:20241103T060000
END:STANDARD
END:VTIMEZONE
BEGIN:VEVENT
DTSTART;TZID=America/New_York:20231212T093000
DTEND;TZID=America/New_York:20231212T103000
DTSTAMP:20260424T195327
CREATED:20231121T034302Z
LAST-MODIFIED:20231212T034313Z
UID:2895-1702373400-1702377000@www.karenoughcrafts.com
SUMMARY:Christmas Card Class
DESCRIPTION:Come and make 3 easy peasy Christmas cards with us!   \nDecember 12th at 9:30 am\n$15\nSorry\, no refunds
URL:https://www.karenoughcrafts.com/events/christmas-card-class/
LOCATION:Suffield Senior Center\, 145 Bridge St\, Suffield\, CT\, 06078\, US
CATEGORIES:Card Classes,Crafts
ATTACH;FMTTYPE=image/jpeg:https://www.karenoughcrafts.com/wp-content/uploads/2023/11/2895_image_402068420_315599584568708_8802538822524717305_n.jpg
END:VEVENT
BEGIN:VEVENT
DTSTART;TZID=America/New_York:20231212T113000
DTEND;TZID=America/New_York:20231212T113000
DTSTAMP:20260424T195327
CREATED:20231127T034257Z
LAST-MODIFIED:20231212T034312Z
UID:2920-1702380600-1702380600@www.karenoughcrafts.com
SUMMARY:2nd Tuesday Christmas JOY - 11:30 am
DESCRIPTION:Bring scissors and adhesive and get ready to have fun with these cards!  They are perfect for the beginner stamper!\n12/12 @ 11:30 am\nNon-refundable\nClick “Website” link below
URL:https://www.karenoughcrafts.com/events/2nd-tuesday-christmas-joy-1130-am/
LOCATION:Karenoughcrafts & Boutique\, 11 High Street Suite 104\, Suffield\, CT\, 06078\, US
CATEGORIES:Card Classes,Crafts
ATTACH;FMTTYPE=image/jpeg:https://www.karenoughcrafts.com/wp-content/uploads/2023/11/2920_image_405136679_319153487546651_8838737245373671967_n.jpg
END:VEVENT
BEGIN:VEVENT
DTSTART;TZID=America/New_York:20231212T150000
DTEND;TZID=America/New_York:20231212T150000
DTSTAMP:20260424T195327
CREATED:20231127T034256Z
LAST-MODIFIED:20231212T034312Z
UID:2918-1702393200-1702393200@www.karenoughcrafts.com
SUMMARY:2nd Tuesday Christmas JOY- 3 pm
DESCRIPTION:Bring scissors and adhesive and get ready to have fun with these cards!  They are perfect for the beginner stamper!\n12/12 @ 3 pm\nNon-refundable\nClick “Website” link below
URL:https://www.karenoughcrafts.com/events/2nd-tuesday-christmas-joy-3-pm/
LOCATION:Karenoughcrafts & Boutique\, 11 High Street Suite 104\, Suffield\, CT\, 06078\, US
CATEGORIES:Card Classes,Crafts
ATTACH;FMTTYPE=image/jpeg:https://www.karenoughcrafts.com/wp-content/uploads/2023/11/2918_image_405154257_319154377546562_2156913465046620336_n.jpg
END:VEVENT
BEGIN:VEVENT
DTSTART;TZID=America/New_York:20231212T183000
DTEND;TZID=America/New_York:20231212T183000
DTSTAMP:20260424T195327
CREATED:20231127T034254Z
LAST-MODIFIED:20231212T034312Z
UID:2916-1702405800-1702405800@www.karenoughcrafts.com
SUMMARY:2nd Tuesday Christmas JOY- 6:30 pm
DESCRIPTION:Bring scissors and adhesive and get ready to have fun with these cards!  They are perfect for the beginner stamper!\n12/12 @ 6:30 pm\nNon-refundable\nClick “Website” link below
URL:https://www.karenoughcrafts.com/events/2nd-tuesday-christmas-joy-630-pm/
LOCATION:Karenoughcrafts & Boutique\, 11 High Street Suite 104\, Suffield\, CT\, 06078\, US
CATEGORIES:Card Classes,Crafts
ATTACH;FMTTYPE=image/jpeg:https://www.karenoughcrafts.com/wp-content/uploads/2023/11/2916_image_403692601_319155474213119_7308902525470581662_n.jpg
END:VEVENT
END:VCALENDAR