BEGIN:VCALENDAR
VERSION:2.0
PRODID:-//Karenoughcrafts &amp; Boutique - ECPv6.15.17.1//NONSGML v1.0//EN
CALSCALE:GREGORIAN
METHOD:PUBLISH
X-ORIGINAL-URL:https://www.karenoughcrafts.com
X-WR-CALDESC:Events for Karenoughcrafts &amp; Boutique
REFRESH-INTERVAL;VALUE=DURATION:PT1H
X-Robots-Tag:noindex
X-PUBLISHED-TTL:PT1H
BEGIN:VTIMEZONE
TZID:America/New_York
BEGIN:DAYLIGHT
TZOFFSETFROM:-0500
TZOFFSETTO:-0400
TZNAME:EDT
DTSTART:20220313T070000
END:DAYLIGHT
BEGIN:STANDARD
TZOFFSETFROM:-0400
TZOFFSETTO:-0500
TZNAME:EST
DTSTART:20221106T060000
END:STANDARD
BEGIN:DAYLIGHT
TZOFFSETFROM:-0500
TZOFFSETTO:-0400
TZNAME:EDT
DTSTART:20230312T070000
END:DAYLIGHT
BEGIN:STANDARD
TZOFFSETFROM:-0400
TZOFFSETTO:-0500
TZNAME:EST
DTSTART:20231105T060000
END:STANDARD
BEGIN:DAYLIGHT
TZOFFSETFROM:-0500
TZOFFSETTO:-0400
TZNAME:EDT
DTSTART:20240310T070000
END:DAYLIGHT
BEGIN:STANDARD
TZOFFSETFROM:-0400
TZOFFSETTO:-0500
TZNAME:EST
DTSTART:20241103T060000
END:STANDARD
END:VTIMEZONE
BEGIN:VEVENT
DTSTART;TZID=America/New_York:20231201T170000
DTEND;TZID=America/New_York:20231201T200000
DTSTAMP:20260424T194149
CREATED:20231108T034245Z
LAST-MODIFIED:20231201T034238Z
UID:2854-1701450000-1701460800@www.karenoughcrafts.com
SUMMARY:Jingle Mingle- Suffield Alight
DESCRIPTION:December 1st is when Suffield will light the Christmas Tree on the middle green.  Be sure to head over to our parking lot from 5-8pm as we showcase some of our artisans.  The boutique will have some specials and the Plant Lounge will also be in the foyer with some great house plants for purchase.  You won’t want to miss out on hot cocoa and apple cider.  Ladies\, fill out your Christmas List from items in the store and guys\, we will have a special night for you to come and get her what she wants.  Did we mention that there will be free hot dogs for you when you shop?  See you during Suffield Alight!
URL:https://www.karenoughcrafts.com/events/jingle-mingle-suffield-alight/
LOCATION:Karenoughcrafts & Boutique\, 11 High Street Suite 104\, Suffield\, CT\, 06078\, US
CATEGORIES:Card Classes,Crafts
ATTACH;FMTTYPE=image/jpeg:https://www.karenoughcrafts.com/wp-content/uploads/2023/11/2854_image_406140543_319221090873224_5823736307434567755_n.jpg
END:VEVENT
END:VCALENDAR