BEGIN:VCALENDAR
VERSION:2.0
PRODID:-//Karenoughcrafts &amp; Boutique - ECPv6.15.17.1//NONSGML v1.0//EN
CALSCALE:GREGORIAN
METHOD:PUBLISH
X-ORIGINAL-URL:https://www.karenoughcrafts.com
X-WR-CALDESC:Events for Karenoughcrafts &amp; Boutique
REFRESH-INTERVAL;VALUE=DURATION:PT1H
X-Robots-Tag:noindex
X-PUBLISHED-TTL:PT1H
BEGIN:VTIMEZONE
TZID:America/New_York
BEGIN:DAYLIGHT
TZOFFSETFROM:-0500
TZOFFSETTO:-0400
TZNAME:EDT
DTSTART:20220313T070000
END:DAYLIGHT
BEGIN:STANDARD
TZOFFSETFROM:-0400
TZOFFSETTO:-0500
TZNAME:EST
DTSTART:20221106T060000
END:STANDARD
BEGIN:DAYLIGHT
TZOFFSETFROM:-0500
TZOFFSETTO:-0400
TZNAME:EDT
DTSTART:20230312T070000
END:DAYLIGHT
BEGIN:STANDARD
TZOFFSETFROM:-0400
TZOFFSETTO:-0500
TZNAME:EST
DTSTART:20231105T060000
END:STANDARD
BEGIN:DAYLIGHT
TZOFFSETFROM:-0500
TZOFFSETTO:-0400
TZNAME:EDT
DTSTART:20240310T070000
END:DAYLIGHT
BEGIN:STANDARD
TZOFFSETFROM:-0400
TZOFFSETTO:-0500
TZNAME:EST
DTSTART:20241103T060000
END:STANDARD
END:VTIMEZONE
BEGIN:VEVENT
DTSTART;TZID=America/New_York:20231128T113000
DTEND;TZID=America/New_York:20231128T113000
DTSTAMP:20260424T194211
CREATED:20231106T034202Z
LAST-MODIFIED:20231128T034336Z
UID:2814-1701171000-1701171000@www.karenoughcrafts.com
SUMMARY:4th Tuesday Shining Brightly 11:30 am
DESCRIPTION:Let’s shine bright this Christmas!\nDon’t forget scissors and adhesive!\n11/28 @ 11:30 am\nNon-refundable
URL:https://www.karenoughcrafts.com/events/4th-tuesday-shining-brightly-1130-am/
LOCATION:Karenoughcrafts & Boutique\, 11 High Street Suite 104\, Suffield\, CT\, 06078\, US
CATEGORIES:Card Classes,Crafts
ATTACH;FMTTYPE=image/jpeg:https://www.karenoughcrafts.com/wp-content/uploads/2023/11/2814_image_398536508_308137231981610_231562115490087808_n.jpg
END:VEVENT
BEGIN:VEVENT
DTSTART;TZID=America/New_York:20231128T150000
DTEND;TZID=America/New_York:20231128T150000
DTSTAMP:20260424T194211
CREATED:20231106T034201Z
LAST-MODIFIED:20231128T034336Z
UID:2812-1701183600-1701183600@www.karenoughcrafts.com
SUMMARY:4th Tuesday Shining Brightly 3 pm $15
DESCRIPTION:Let’s shine bright this Christmas!\nDon’t forget scissors and adhesive!\n11/28 @ 3:00 pm\nNon-refundable\nClick “website” link to register
URL:https://www.karenoughcrafts.com/events/4th-tuesday-shining-brightly-3-pm-15/
LOCATION:Karenoughcrafts & Boutique\, 11 High Street Suite 104\, Suffield\, CT\, 06078\, US
CATEGORIES:Card Classes,Crafts
ATTACH;FMTTYPE=image/jpeg:https://www.karenoughcrafts.com/wp-content/uploads/2023/11/2812_image_398536791_308137735314893_1538915989381418156_n.jpg
END:VEVENT
BEGIN:VEVENT
DTSTART;TZID=America/New_York:20231128T183000
DTEND;TZID=America/New_York:20231128T183000
DTSTAMP:20260424T194211
CREATED:20231106T034200Z
LAST-MODIFIED:20231128T034335Z
UID:2810-1701196200-1701196200@www.karenoughcrafts.com
SUMMARY:4th Tuesday Shining Brightly 6:30 pm $15
DESCRIPTION:Let’s shine bright this Christmas!\nDon’t forget scissors and adhesive!\n11/28 @ 6:30 pm\nNon-refundable\nClick “website” link to register
URL:https://www.karenoughcrafts.com/events/4th-tuesday-shining-brightly-630-pm-15/
LOCATION:Karenoughcrafts & Boutique\, 11 High Street Suite 104\, Suffield\, CT\, 06078\, US
CATEGORIES:Card Classes,Crafts
ATTACH;FMTTYPE=image/jpeg:https://www.karenoughcrafts.com/wp-content/uploads/2023/11/2810_image_399938928_308136621981671_9086189175221907192_n.jpg
END:VEVENT
END:VCALENDAR