BEGIN:VCALENDAR
VERSION:2.0
PRODID:-//Karenoughcrafts &amp; Boutique - ECPv6.15.17.1//NONSGML v1.0//EN
CALSCALE:GREGORIAN
METHOD:PUBLISH
X-ORIGINAL-URL:https://www.karenoughcrafts.com
X-WR-CALDESC:Events for Karenoughcrafts &amp; Boutique
REFRESH-INTERVAL;VALUE=DURATION:PT1H
X-Robots-Tag:noindex
X-PUBLISHED-TTL:PT1H
BEGIN:VTIMEZONE
TZID:America/New_York
BEGIN:DAYLIGHT
TZOFFSETFROM:-0500
TZOFFSETTO:-0400
TZNAME:EDT
DTSTART:20220313T070000
END:DAYLIGHT
BEGIN:STANDARD
TZOFFSETFROM:-0400
TZOFFSETTO:-0500
TZNAME:EST
DTSTART:20221106T060000
END:STANDARD
BEGIN:DAYLIGHT
TZOFFSETFROM:-0500
TZOFFSETTO:-0400
TZNAME:EDT
DTSTART:20230312T070000
END:DAYLIGHT
BEGIN:STANDARD
TZOFFSETFROM:-0400
TZOFFSETTO:-0500
TZNAME:EST
DTSTART:20231105T060000
END:STANDARD
BEGIN:DAYLIGHT
TZOFFSETFROM:-0500
TZOFFSETTO:-0400
TZNAME:EDT
DTSTART:20240310T070000
END:DAYLIGHT
BEGIN:STANDARD
TZOFFSETFROM:-0400
TZOFFSETTO:-0500
TZNAME:EST
DTSTART:20241103T060000
END:STANDARD
END:VTIMEZONE
BEGIN:VEVENT
DTSTART;TZID=America/New_York:20231121T113000
DTEND;TZID=America/New_York:20231121T113000
DTSTAMP:20260424T212656
CREATED:20231106T034205Z
LAST-MODIFIED:20231121T034310Z
UID:2820-1700566200-1700566200@www.karenoughcrafts.com
SUMMARY:3rd Tuesday Bundle of Fall @11:30 am $15
DESCRIPTION:All things Fall with a hint of Christmas to come\n11/21 @11:30 am\nNon-refundable\nClick “website” link to register
URL:https://www.karenoughcrafts.com/events/3rd-tuesday-bundle-of-fall-1130-am-15/
LOCATION:Karenoughcrafts & Boutique\, 11 High Street Suite 104\, Suffield\, CT\, 06078\, US
CATEGORIES:Card Classes,Crafts
ATTACH;FMTTYPE=image/jpeg:https://www.karenoughcrafts.com/wp-content/uploads/2023/11/2820_image_398573192_308133191982014_6853199380088028297_n.jpg
END:VEVENT
BEGIN:VEVENT
DTSTART;TZID=America/New_York:20231121T150000
DTEND;TZID=America/New_York:20231121T150000
DTSTAMP:20260424T212656
CREATED:20231106T034204Z
LAST-MODIFIED:20231121T034310Z
UID:2818-1700578800-1700578800@www.karenoughcrafts.com
SUMMARY:3rd Tuesday Bundle of Fall @3pm $15
DESCRIPTION:All things Fall with a hint of Christmas to come!\n11/21 @3 pm\nNon-refundable\nClick “website” to register
URL:https://www.karenoughcrafts.com/events/3rd-tuesday-bundle-of-fall-3pm-15/
LOCATION:Karenoughcrafts & Boutique\, 11 High Street Suite 104\, Suffield\, CT\, 06078\, US
CATEGORIES:Card Classes,Crafts
ATTACH;FMTTYPE=image/jpeg:https://www.karenoughcrafts.com/wp-content/uploads/2023/11/2818_image_398505773_308134235315243_3824226137930330045_n.jpg
END:VEVENT
BEGIN:VEVENT
DTSTART;TZID=America/New_York:20231121T183000
DTEND;TZID=America/New_York:20231121T183000
DTSTAMP:20260424T212656
CREATED:20231106T034203Z
LAST-MODIFIED:20231121T034310Z
UID:2816-1700591400-1700591400@www.karenoughcrafts.com
SUMMARY:3rd Tuesday Bundle of Fall 6:30 pm $15
DESCRIPTION:All things fall in this class with a hint of Christmas!\n11/21 @6:30 pm\nNon-refundable
URL:https://www.karenoughcrafts.com/events/3rd-tuesday-bundle-of-fall-630-pm-15/
LOCATION:Karenoughcrafts & Boutique\, 11 High Street Suite 104\, Suffield\, CT\, 06078\, US
CATEGORIES:Card Classes,Crafts
ATTACH;FMTTYPE=image/jpeg:https://www.karenoughcrafts.com/wp-content/uploads/2023/11/2816_image_398570112_308131591982174_7873159093836943409_n.jpg
END:VEVENT
END:VCALENDAR