BEGIN:VCALENDAR
VERSION:2.0
PRODID:-//Karenoughcrafts &amp; Boutique - ECPv6.15.17.1//NONSGML v1.0//EN
CALSCALE:GREGORIAN
METHOD:PUBLISH
X-ORIGINAL-URL:https://www.karenoughcrafts.com
X-WR-CALDESC:Events for Karenoughcrafts &amp; Boutique
REFRESH-INTERVAL;VALUE=DURATION:PT1H
X-Robots-Tag:noindex
X-PUBLISHED-TTL:PT1H
BEGIN:VTIMEZONE
TZID:America/New_York
BEGIN:DAYLIGHT
TZOFFSETFROM:-0500
TZOFFSETTO:-0400
TZNAME:EDT
DTSTART:20220313T070000
END:DAYLIGHT
BEGIN:STANDARD
TZOFFSETFROM:-0400
TZOFFSETTO:-0500
TZNAME:EST
DTSTART:20221106T060000
END:STANDARD
BEGIN:DAYLIGHT
TZOFFSETFROM:-0500
TZOFFSETTO:-0400
TZNAME:EDT
DTSTART:20230312T070000
END:DAYLIGHT
BEGIN:STANDARD
TZOFFSETFROM:-0400
TZOFFSETTO:-0500
TZNAME:EST
DTSTART:20231105T060000
END:STANDARD
BEGIN:DAYLIGHT
TZOFFSETFROM:-0500
TZOFFSETTO:-0400
TZNAME:EDT
DTSTART:20240310T070000
END:DAYLIGHT
BEGIN:STANDARD
TZOFFSETFROM:-0400
TZOFFSETTO:-0500
TZNAME:EST
DTSTART:20241103T060000
END:STANDARD
END:VTIMEZONE
BEGIN:VEVENT
DTSTART;TZID=America/New_York:20231114T113000
DTEND;TZID=America/New_York:20231114T130000
DTSTAMP:20260424T212814
CREATED:20231106T034207Z
LAST-MODIFIED:20231114T034428Z
UID:2826-1699961400-1699966800@www.karenoughcrafts.com
SUMMARY:2nd Tuesday Easy Peasy Leaves @11:30 am $15
DESCRIPTION:Bring scissors and adhesive and get ready to have fun with these cards!  They are perfect for the beginner stamper!\n11/14 @ 11:30 am\nNon-refundable\nClick “Website” link below
URL:https://www.karenoughcrafts.com/events/2nd-tuesday-easy-peasy-leaves-1130-am-15/
LOCATION:Karenoughcrafts & Boutique\, 11 High Street Suite 104\, Suffield\, CT\, 06078\, US
CATEGORIES:Card Classes,Crafts
ATTACH;FMTTYPE=image/jpeg:https://www.karenoughcrafts.com/wp-content/uploads/2023/11/2826_image_399936561_308128068649193_4646242643482504575_n.jpg
END:VEVENT
BEGIN:VEVENT
DTSTART;TZID=America/New_York:20231114T150000
DTEND;TZID=America/New_York:20231114T150000
DTSTAMP:20260424T212814
CREATED:20231106T034207Z
LAST-MODIFIED:20231114T034428Z
UID:2824-1699974000-1699974000@www.karenoughcrafts.com
SUMMARY:2nd Tuesday Easy Peasy Leaves 3 pm $15
DESCRIPTION:Bring scissors and adhesive and get ready to have fun with these cards!  They are perfect for the beginner stamper!\n11/14 @ 3 pm\nNon refundable.\nClick “website” link to register
URL:https://www.karenoughcrafts.com/events/2nd-tuesday-easy-peasy-leaves-3-pm-15/
LOCATION:Karenoughcrafts & Boutique\, 11 High Street Suite 104\, Suffield\, CT\, 06078\, US
CATEGORIES:Card Classes,Crafts
ATTACH;FMTTYPE=image/jpeg:https://www.karenoughcrafts.com/wp-content/uploads/2023/11/2824_image_398556816_308128885315778_1800630756931853444_n.jpg
END:VEVENT
BEGIN:VEVENT
DTSTART;TZID=America/New_York:20231114T183000
DTEND;TZID=America/New_York:20231114T203000
DTSTAMP:20260424T212814
CREATED:20231106T034206Z
LAST-MODIFIED:20231114T034427Z
UID:2822-1699986600-1699993800@www.karenoughcrafts.com
SUMMARY:2nd Tuesday Easy Peasy Leaves 6:30 pm $15
DESCRIPTION:Bring scissors and adhesive and get ready to have fun with these cards!  They are perfect for the beginner stamper!\n11/14 @ 6:30 pm\nNon-refundable\nClick “website” link below to register
URL:https://www.karenoughcrafts.com/events/2nd-tuesday-easy-peasy-leaves-630-pm-15/
LOCATION:Karenoughcrafts & Boutique\, 11 High Street Suite 104\, Suffield\, CT\, 06078\, US
CATEGORIES:Card Classes,Crafts
ATTACH;FMTTYPE=image/jpeg:https://www.karenoughcrafts.com/wp-content/uploads/2023/11/2822_image_398563745_308129645315702_3247460711829639224_n.jpg
END:VEVENT
END:VCALENDAR