BEGIN:VCALENDAR
VERSION:2.0
PRODID:-//Karenoughcrafts &amp; Boutique - ECPv6.15.17.1//NONSGML v1.0//EN
CALSCALE:GREGORIAN
METHOD:PUBLISH
X-ORIGINAL-URL:https://www.karenoughcrafts.com
X-WR-CALDESC:Events for Karenoughcrafts &amp; Boutique
REFRESH-INTERVAL;VALUE=DURATION:PT1H
X-Robots-Tag:noindex
X-PUBLISHED-TTL:PT1H
BEGIN:VTIMEZONE
TZID:America/New_York
BEGIN:DAYLIGHT
TZOFFSETFROM:-0500
TZOFFSETTO:-0400
TZNAME:EDT
DTSTART:20220313T070000
END:DAYLIGHT
BEGIN:STANDARD
TZOFFSETFROM:-0400
TZOFFSETTO:-0500
TZNAME:EST
DTSTART:20221106T060000
END:STANDARD
BEGIN:DAYLIGHT
TZOFFSETFROM:-0500
TZOFFSETTO:-0400
TZNAME:EDT
DTSTART:20230312T070000
END:DAYLIGHT
BEGIN:STANDARD
TZOFFSETFROM:-0400
TZOFFSETTO:-0500
TZNAME:EST
DTSTART:20231105T060000
END:STANDARD
BEGIN:DAYLIGHT
TZOFFSETFROM:-0500
TZOFFSETTO:-0400
TZNAME:EDT
DTSTART:20240310T070000
END:DAYLIGHT
BEGIN:STANDARD
TZOFFSETFROM:-0400
TZOFFSETTO:-0500
TZNAME:EST
DTSTART:20241103T060000
END:STANDARD
END:VTIMEZONE
BEGIN:VEVENT
DTSTART;TZID=America/New_York:20231102T183000
DTEND;TZID=America/New_York:20231102T203000
DTSTAMP:20260424T212630
CREATED:20231028T233804Z
LAST-MODIFIED:20231028T233804Z
UID:2796-1698949800-1698957000@www.karenoughcrafts.com
SUMMARY:Grapevine Wood Floral Wreath $25
DESCRIPTION:Mini Wreath Diffuser\nJoin us for a collaboration class with Karen of Karenoughcrafts and Ang of Lefcheck Farm.\nLearn to wrap grapevines into a rustic mini wreath.  We’ll decorate our wreaths with preserved moss and wood flowers\, that also serve as an oil diffuser.  Karen will be sharing her knowledge of essential oils and sending everyone home with a custom made autumn blend.  A must have for the fall feels!
URL:https://www.karenoughcrafts.com/events/grapevine-wood-floral-wreath-25/
LOCATION:Karenoughcrafts & Boutique\, 11 High Street Suite 104\, Suffield\, CT\, 06078\, US
CATEGORIES:Card Classes,Crafts
ATTACH;FMTTYPE=image/jpeg:https://www.karenoughcrafts.com/wp-content/uploads/2023/10/2796_image_391623575_297680979693902_7712802131598062252_n.jpg
END:VEVENT
END:VCALENDAR