BEGIN:VCALENDAR
VERSION:2.0
PRODID:-//Karenoughcrafts &amp; Boutique - ECPv6.15.17.1//NONSGML v1.0//EN
CALSCALE:GREGORIAN
METHOD:PUBLISH
X-ORIGINAL-URL:https://www.karenoughcrafts.com
X-WR-CALDESC:Events for Karenoughcrafts &amp; Boutique
REFRESH-INTERVAL;VALUE=DURATION:PT1H
X-Robots-Tag:noindex
X-PUBLISHED-TTL:PT1H
BEGIN:VTIMEZONE
TZID:America/New_York
BEGIN:DAYLIGHT
TZOFFSETFROM:-0500
TZOFFSETTO:-0400
TZNAME:EDT
DTSTART:20220313T070000
END:DAYLIGHT
BEGIN:STANDARD
TZOFFSETFROM:-0400
TZOFFSETTO:-0500
TZNAME:EST
DTSTART:20221106T060000
END:STANDARD
BEGIN:DAYLIGHT
TZOFFSETFROM:-0500
TZOFFSETTO:-0400
TZNAME:EDT
DTSTART:20230312T070000
END:DAYLIGHT
BEGIN:STANDARD
TZOFFSETFROM:-0400
TZOFFSETTO:-0500
TZNAME:EST
DTSTART:20231105T060000
END:STANDARD
BEGIN:DAYLIGHT
TZOFFSETFROM:-0500
TZOFFSETTO:-0400
TZNAME:EDT
DTSTART:20240310T070000
END:DAYLIGHT
BEGIN:STANDARD
TZOFFSETFROM:-0400
TZOFFSETTO:-0500
TZNAME:EST
DTSTART:20241103T060000
END:STANDARD
END:VTIMEZONE
BEGIN:VEVENT
DTSTART;TZID=America/New_York:20231010T113000
DTEND;TZID=America/New_York:20231010T113000
DTSTAMP:20260424T225351
CREATED:20231002T201233Z
LAST-MODIFIED:20231002T201233Z
UID:2756-1696937400-1696937400@www.karenoughcrafts.com
SUMMARY:2nd Tuesday- Easy Peasy Fall- 11:30 am
DESCRIPTION:Bring scissors and adhesive and get ready to have fun with these cards!  They are perfect for the beginner stamper!\n10/10 @ 11:30 am
URL:https://www.karenoughcrafts.com/events/2nd-tuesday-easy-peasy-fall-1130-am/
LOCATION:Karenoughcrafts & Boutique\, 11 High Street Suite 104\, Suffield\, CT\, 06078\, US
CATEGORIES:Card Classes,Crafts
ATTACH;FMTTYPE=image/jpeg:https://www.karenoughcrafts.com/wp-content/uploads/2023/10/2756_image_384463902_288177073977626_2825376141998351790_n.jpg
END:VEVENT
BEGIN:VEVENT
DTSTART;TZID=America/New_York:20231010T150000
DTEND;TZID=America/New_York:20231010T150000
DTSTAMP:20260424T225351
CREATED:20231002T201234Z
LAST-MODIFIED:20231002T201234Z
UID:2758-1696950000-1696950000@www.karenoughcrafts.com
SUMMARY:2nd Tuesday- Easy Peasy Fall 3 pm
DESCRIPTION:Bring scissors and adhesive and get ready to have fun with these cards!  They are perfect for the beginner stamper!\n10/10 @ 3 pm
URL:https://www.karenoughcrafts.com/events/2nd-tuesday-easy-peasy-fall-3-pm/
LOCATION:Karenoughcrafts & Boutique\, 11 High Street Suite 104\, Suffield\, CT\, 06078\, US
CATEGORIES:Card Classes,Crafts
ATTACH;FMTTYPE=image/jpeg:https://www.karenoughcrafts.com/wp-content/uploads/2023/10/2641_image_384512013_288178003977533_4866570276217877502_n.jpg
END:VEVENT
BEGIN:VEVENT
DTSTART;TZID=America/New_York:20231010T183000
DTEND;TZID=America/New_York:20231010T183000
DTSTAMP:20260424T225351
CREATED:20231002T201235Z
LAST-MODIFIED:20231003T113003Z
UID:2759-1696962600-1696962600@www.karenoughcrafts.com
SUMMARY:2nd Tuesday- Easy Peasy Fall-6:30 pm
DESCRIPTION:Bring scissors and adhesive and get ready to have fun with these cards! They are perfect for the beginner stamper!\n10/10 @ 6:30 pm
URL:https://www.karenoughcrafts.com/events/2nd-tuesday-easy-peasy-fall-630-pm/
LOCATION:Karenoughcrafts & Boutique\, 11 High Street Suite 104\, Suffield\, CT\, 06078\, US
CATEGORIES:Card Classes,Crafts
ATTACH;FMTTYPE=image/jpeg:https://www.karenoughcrafts.com/wp-content/uploads/2023/10/2759_image_384811020_288180217310645_339753055866612345_n.jpg
END:VEVENT
END:VCALENDAR