BEGIN:VCALENDAR
VERSION:2.0
PRODID:-//Karenoughcrafts &amp; Boutique - ECPv6.15.17.1//NONSGML v1.0//EN
CALSCALE:GREGORIAN
METHOD:PUBLISH
X-WR-CALNAME:Karenoughcrafts &amp; Boutique
X-ORIGINAL-URL:https://www.karenoughcrafts.com
X-WR-CALDESC:Events for Karenoughcrafts &amp; Boutique
REFRESH-INTERVAL;VALUE=DURATION:PT1H
X-Robots-Tag:noindex
X-PUBLISHED-TTL:PT1H
BEGIN:VTIMEZONE
TZID:America/New_York
BEGIN:DAYLIGHT
TZOFFSETFROM:-0500
TZOFFSETTO:-0400
TZNAME:EDT
DTSTART:20230312T070000
END:DAYLIGHT
BEGIN:STANDARD
TZOFFSETFROM:-0400
TZOFFSETTO:-0500
TZNAME:EST
DTSTART:20231105T060000
END:STANDARD
BEGIN:DAYLIGHT
TZOFFSETFROM:-0500
TZOFFSETTO:-0400
TZNAME:EDT
DTSTART:20240310T070000
END:DAYLIGHT
BEGIN:STANDARD
TZOFFSETFROM:-0400
TZOFFSETTO:-0500
TZNAME:EST
DTSTART:20241103T060000
END:STANDARD
BEGIN:DAYLIGHT
TZOFFSETFROM:-0500
TZOFFSETTO:-0400
TZNAME:EDT
DTSTART:20250309T070000
END:DAYLIGHT
BEGIN:STANDARD
TZOFFSETFROM:-0400
TZOFFSETTO:-0500
TZNAME:EST
DTSTART:20251102T060000
END:STANDARD
END:VTIMEZONE
BEGIN:VEVENT
DTSTART;TZID=America/New_York:20240601T120000
DTEND;TZID=America/New_York:20240601T140000
DTSTAMP:20260424T083751
CREATED:20240407T034226Z
LAST-MODIFIED:20240601T034253Z
UID:3294-1717243200-1717250400@www.karenoughcrafts.com
SUMMARY:Taylor Swift Cookie class
DESCRIPTION:Have you ever seen beautifully decorated cookies and thought wow…how’d they do that?\nJoin us as Lorie\, owner of NoApronRequired will teach you how to decorate cookies of your own.  Please note that icing colors may vary slightly.\nNoApronRequired is a cottage baking company.  Cookies and icing are made in a home kitchen operating under CT cottage food laws and is not subject to state inspection.   \nPlease note that this class has an age minimum.  Please reach out to the hostess for additional information.\nJune 1st at noon\nSorry\, no refunds.  If you cannot attend the event. You may coordinate a time to come and pick up your kit.  \nClick “website” link to register.
URL:https://www.karenoughcrafts.com/events/taylor-swift-cookie-class/
LOCATION:11 High Street Suite 104\, Suffield\, CT\, United States\, Connecticut 06078
CATEGORIES:Card Classes,Crafts
ATTACH;FMTTYPE=image/jpeg:https://www.karenoughcrafts.com/wp-content/uploads/2024/04/3294_image_434820931_393635686765097_8188522064027992681_n.jpg
END:VEVENT
BEGIN:VEVENT
DTSTART;TZID=America/New_York:20240604T113000
DTEND;TZID=America/New_York:20240604T133000
DTSTAMP:20260424T083751
CREATED:20240603T034215Z
LAST-MODIFIED:20240604T034244Z
UID:3452-1717500600-1717507800@www.karenoughcrafts.com
SUMMARY:1st Tuesday Celebrations Galore 11:30 am
DESCRIPTION:Make these celebrations your own. Turn our little owl into a basic congratulations card or birthday if you’re not celebrating a graduation.  Make those balloons pop for any time of celebration.  How about that masculine card…need a Man’s birthday card or a Father’s Day card?\nDon’t forget your own adhesive and scissors. \nJune 4th @ 11:30 am\nNo refunds \nClick “website” below to register
URL:https://www.karenoughcrafts.com/events/1st-tuesday-celebrations-galore-1130-am/
LOCATION:11 High Street Suite 104\, Suffield\, CT\, United States\, Connecticut 06078
CATEGORIES:Card Classes,Crafts
ATTACH;FMTTYPE=image/jpeg:https://www.karenoughcrafts.com/wp-content/uploads/2024/06/3452_image_447637986_427705203358145_1825568332111781686_n.jpg
END:VEVENT
BEGIN:VEVENT
DTSTART;TZID=America/New_York:20240604T150000
DTEND;TZID=America/New_York:20240604T170000
DTSTAMP:20260424T083751
CREATED:20240603T034215Z
LAST-MODIFIED:20240604T034244Z
UID:3450-1717513200-1717520400@www.karenoughcrafts.com
SUMMARY:1st Tuesday Celebrations Galore 3 pm
DESCRIPTION:Make these celebrations your own. Turn our little owl into a basic congratulations card or birthday if you’re not celebrating a graduation.  Make those balloons pop for any time of celebration.  How about that masculine card…need a Man’s birthday card or a Father’s Day card?\nDon’t forget your own adhesive and scissors. \nJune 4th @ 3 pm\nNo refunds \nClick “website” below to register
URL:https://www.karenoughcrafts.com/events/1st-tuesday-celebrations-galore-3-pm/
LOCATION:11 High Street Suite 104\, Suffield\, CT\, United States\, Connecticut 06078
CATEGORIES:Card Classes,Crafts
ATTACH;FMTTYPE=image/jpeg:https://www.karenoughcrafts.com/wp-content/uploads/2024/06/3450_image_447631085_427706130024719_4110729856575405050_n.jpg
END:VEVENT
BEGIN:VEVENT
DTSTART;TZID=America/New_York:20240604T183000
DTEND;TZID=America/New_York:20240604T203000
DTSTAMP:20260424T083751
CREATED:20240603T034214Z
LAST-MODIFIED:20240604T034244Z
UID:3448-1717525800-1717533000@www.karenoughcrafts.com
SUMMARY:1st Tuesday Celebrations Galore 6:30 pm
DESCRIPTION:Make these celebrations your own. Turn our little owl into a basic congratulations card or birthday if you’re not celebrating a graduation.  Make those balloons pop for any time of celebration.  How about that masculine card…need a Man’s birthday card or a Father’s Day card?\nDon’t forget your own adhesive and scissors. \nJune 4th @ 6:30 pm\nNo refunds \nClick “website” below to register
URL:https://www.karenoughcrafts.com/events/1st-tuesday-celebrations-galore-630-pm/
LOCATION:11 High Street Suite 104\, Suffield\, CT\, United States\, Connecticut 06078
CATEGORIES:Card Classes,Crafts
ATTACH;FMTTYPE=image/jpeg:https://www.karenoughcrafts.com/wp-content/uploads/2024/06/3448_image_447297924_427706950024637_2668326272985649538_n.jpg
END:VEVENT
BEGIN:VEVENT
DTSTART;TZID=America/New_York:20240611T113000
DTEND;TZID=America/New_York:20240611T133000
DTSTAMP:20260424T083751
CREATED:20240603T034213Z
LAST-MODIFIED:20240611T034220Z
UID:3446-1718105400-1718112600@www.karenoughcrafts.com
SUMMARY:2nd Tuesday Bright & Berryful 11:30 am
DESCRIPTION:I am in love with this cheerful paper as our favorite fruits are in season this month.  Let’s not forget birthdays and father’s day cards for those men!\nDon’t forget your scissors and adhesive! \nJune 11th @ 11:30 am\nNo refunds \nClick “website” below to register
URL:https://www.karenoughcrafts.com/events/2nd-tuesday-bright-berryful-1130-am/
LOCATION:11 High Street Suite 104\, Suffield\, CT\, United States\, Connecticut 06078
CATEGORIES:Card Classes,Crafts
ATTACH;FMTTYPE=image/jpeg:https://www.karenoughcrafts.com/wp-content/uploads/2024/06/3446_image_444445634_427710783357587_8992047931109699696_n.jpg
END:VEVENT
BEGIN:VEVENT
DTSTART;TZID=America/New_York:20240611T150000
DTEND;TZID=America/New_York:20240611T170000
DTSTAMP:20260424T083751
CREATED:20240603T034212Z
LAST-MODIFIED:20240611T034220Z
UID:3444-1718118000-1718125200@www.karenoughcrafts.com
SUMMARY:2nd Tuesday Bright & Berryful 3 pm
DESCRIPTION:I am in love with this cheerful paper as our favorite fruits are in season this month.  Let’s not forget birthdays and father’s day cards for those men!\nDon’t forget your scissors and adhesive! \nJune 11th @ 3 pm\nNo refunds \nClick “website” below to register
URL:https://www.karenoughcrafts.com/events/2nd-tuesday-bright-berryful-3-pm/
LOCATION:11 High Street Suite 104\, Suffield\, CT\, United States\, Connecticut 06078
CATEGORIES:Card Classes,Crafts
ATTACH;FMTTYPE=image/jpeg:https://www.karenoughcrafts.com/wp-content/uploads/2024/06/3444_image_445620940_427711656690833_7864650230479786543_n.jpg
END:VEVENT
BEGIN:VEVENT
DTSTART;TZID=America/New_York:20240611T183000
DTEND;TZID=America/New_York:20240611T203000
DTSTAMP:20260424T083751
CREATED:20240603T034211Z
LAST-MODIFIED:20240611T034219Z
UID:3442-1718130600-1718137800@www.karenoughcrafts.com
SUMMARY:2nd Tuesday Bright & Berryful 6:30 pm
DESCRIPTION:I am in love with this cheerful paper as our favorite fruits are in season this month.  Let’s not forget birthdays and father’s day cards for those men!\nDon’t forget your scissors and adhesive! \nJune 11th @ 6:30 pm\nNo refunds \nClick “website” below to register
URL:https://www.karenoughcrafts.com/events/2nd-tuesday-bright-berryful-630-pm/
LOCATION:11 High Street Suite 104\, Suffield\, CT\, United States\, Connecticut 06078
CATEGORIES:Card Classes,Crafts
ATTACH;FMTTYPE=image/jpeg:https://www.karenoughcrafts.com/wp-content/uploads/2024/06/3442_image_447206737_427712376690761_5766135467344882153_n.jpg
END:VEVENT
BEGIN:VEVENT
DTSTART;TZID=America/New_York:20240613T180000
DTEND;TZID=America/New_York:20240613T193000
DTSTAMP:20260424T083751
CREATED:20240528T034201Z
LAST-MODIFIED:20240613T034208Z
UID:3429-1718301600-1718307000@www.karenoughcrafts.com
SUMMARY:Pressed Floral Lantern
DESCRIPTION:Light up your backyard or porch this summer with these nature inspired floral lanterns!\nAll materials included.\nSorry\, no refunds.\nA 10% off coupon will be applied to all purchases made that night.   \nJune 13th 6 pm
URL:https://www.karenoughcrafts.com/events/pressed-floral-lantern/
LOCATION:11 High Street Suite 104\, Suffield\, CT\, United States\, Connecticut 06078
CATEGORIES:Card Classes,Crafts
ATTACH;FMTTYPE=image/jpeg:https://www.karenoughcrafts.com/wp-content/uploads/2024/05/3429_image_441484625_424210250374307_63016285630587233_n.jpg
END:VEVENT
BEGIN:VEVENT
DTSTART;TZID=America/New_York:20240620T100000
DTEND;TZID=America/New_York:20240620T120000
DTSTAMP:20260424T083751
CREATED:20240603T034209Z
LAST-MODIFIED:20240620T034303Z
UID:3440-1718877600-1718884800@www.karenoughcrafts.com
SUMMARY:Sugar Scrub at the Senior Center
DESCRIPTION:Learn a little bit about Essential oils and make your favorite blend for a sugar scrub.\nJune 20th @ 10 am\nPrice includes all materials\nSorry\, no refunds
URL:https://www.karenoughcrafts.com/events/sugar-scrub-at-the-senior-center/
LOCATION:11 High Street Suite 104\, Suffield\, CT\, United States\, Connecticut 06078
CATEGORIES:Card Classes,Crafts
ATTACH;FMTTYPE=image/jpeg:https://www.karenoughcrafts.com/wp-content/uploads/2024/06/3440_image_445815958_427722850023047_8885892354065025610_n.jpg
END:VEVENT
BEGIN:VEVENT
DTSTART;TZID=America/New_York:20240625T113000
DTEND;TZID=America/New_York:20240625T133000
DTSTAMP:20260424T083751
CREATED:20240619T034312Z
LAST-MODIFIED:20240625T034246Z
UID:3492-1719315000-1719322200@www.karenoughcrafts.com
SUMMARY:4th Tuesday Muted Mauve 11:30 am
DESCRIPTION:This muted mauve is so beautiful!  Let’s make some gorgeous cards that will wow the receiver of them! \nDon’t forget your own adhesive and scissors. \nJune 25th @ 11:30 am\nNo refunds \nClick “website” below to register
URL:https://www.karenoughcrafts.com/events/4th-tuesday-muted-mauve-1130-am/
LOCATION:11 High Street Suite 104\, Suffield\, CT\, United States\, Connecticut 06078
CATEGORIES:Card Classes,Crafts
ATTACH;FMTTYPE=image/jpeg:https://www.karenoughcrafts.com/wp-content/uploads/2024/06/3492_image_448752979_437255999069732_7533919826883895406_n.jpg
END:VEVENT
BEGIN:VEVENT
DTSTART;TZID=America/New_York:20240625T150000
DTEND;TZID=America/New_York:20240625T170000
DTSTAMP:20260424T083751
CREATED:20240619T034311Z
LAST-MODIFIED:20240625T034246Z
UID:3490-1719327600-1719334800@www.karenoughcrafts.com
SUMMARY:4th Tuesday Muted Mauve 3 pm
DESCRIPTION:This muted mauve is so beautiful!  Let’s make some gorgeous cards that will wow the receiver of them! \nDon’t forget your own adhesive and scissors. \nJune 25th @ 3:00 pm\nNo refunds \nClick “website” below to register
URL:https://www.karenoughcrafts.com/events/4th-tuesday-muted-mauve-3-pm/
LOCATION:11 High Street Suite 104\, Suffield\, CT\, United States\, Connecticut 06078
CATEGORIES:Card Classes,Crafts
ATTACH;FMTTYPE=image/jpeg:https://www.karenoughcrafts.com/wp-content/uploads/2024/06/3490_image_448661369_437256589069673_8230388390779633424_n.jpg
END:VEVENT
BEGIN:VEVENT
DTSTART;TZID=America/New_York:20240625T183000
DTEND;TZID=America/New_York:20240625T203000
DTSTAMP:20260424T083751
CREATED:20240619T034310Z
LAST-MODIFIED:20240625T034245Z
UID:3488-1719340200-1719347400@www.karenoughcrafts.com
SUMMARY:4th Tuesday Muted Mauve 6:30 pm
DESCRIPTION:This muted mauve is so beautiful!  Let’s make some gorgeous cards that will wow the receiver of them! \nDon’t forget your own adhesive and scissors. \nJune 25th @ 6:30 pm\nNo refunds \nClick “website” below to register
URL:https://www.karenoughcrafts.com/events/4th-tuesday-muted-mauve-630-pm/
LOCATION:11 High Street Suite 104\, Suffield\, CT\, United States\, Connecticut 06078
CATEGORIES:Card Classes,Crafts
ATTACH;FMTTYPE=image/jpeg:https://www.karenoughcrafts.com/wp-content/uploads/2024/06/3488_image_448629254_437257439069588_3169459277779355133_n.jpg
END:VEVENT
BEGIN:VEVENT
DTSTART;TZID=America/New_York:20240629T110000
DTEND;TZID=America/New_York:20240629T130000
DTSTAMP:20260424T083751
CREATED:20240619T034307Z
LAST-MODIFIED:20240629T034219Z
UID:3486-1719658800-1719666000@www.karenoughcrafts.com
SUMMARY:Cookie Decorating 4th of July theme
DESCRIPTION:Please DM in order to receive the registration payment link. \nHave you ever seen beautifully decorated cookies and thought wow…how’d they do that?\nJoin us as Lorie\, owner of NoApronRequired will teach you how to decorate cookies of your own.  Please note that icing colors may vary slightly.\nNoApronRequired is a cottage baking company.  Cookies and icing are made in a home kitchen operating under CT cottage food laws and is not subject to state inspection.   \nJune 29th 11 am\nSorry\, no refunds.  If you cannot attend the event. You may coordinate a time to come and pick up your kit. The instructor has a minimum of attendees.  In the event you cannot attend\, a refund will be given. \nClick “website” link to register.
URL:https://www.karenoughcrafts.com/events/cookie-decorating-4th-of-july-theme/
LOCATION:11 High Street Suite 104\, Suffield\, CT\, United States\, Connecticut 06078
CATEGORIES:Card Classes,Crafts
ATTACH;FMTTYPE=image/jpeg:https://www.karenoughcrafts.com/wp-content/uploads/2024/06/3486_image_448794873_437259262402739_420611243004080656_n.jpg
END:VEVENT
END:VCALENDAR