BEGIN:VCALENDAR
VERSION:2.0
PRODID:-//Karenoughcrafts &amp; Boutique - ECPv6.15.17.1//NONSGML v1.0//EN
CALSCALE:GREGORIAN
METHOD:PUBLISH
X-WR-CALNAME:Karenoughcrafts &amp; Boutique
X-ORIGINAL-URL:https://www.karenoughcrafts.com
X-WR-CALDESC:Events for Karenoughcrafts &amp; Boutique
REFRESH-INTERVAL;VALUE=DURATION:PT1H
X-Robots-Tag:noindex
X-PUBLISHED-TTL:PT1H
BEGIN:VTIMEZONE
TZID:America/New_York
BEGIN:DAYLIGHT
TZOFFSETFROM:-0500
TZOFFSETTO:-0400
TZNAME:EDT
DTSTART:20230312T070000
END:DAYLIGHT
BEGIN:STANDARD
TZOFFSETFROM:-0400
TZOFFSETTO:-0500
TZNAME:EST
DTSTART:20231105T060000
END:STANDARD
BEGIN:DAYLIGHT
TZOFFSETFROM:-0500
TZOFFSETTO:-0400
TZNAME:EDT
DTSTART:20240310T070000
END:DAYLIGHT
BEGIN:STANDARD
TZOFFSETFROM:-0400
TZOFFSETTO:-0500
TZNAME:EST
DTSTART:20241103T060000
END:STANDARD
BEGIN:DAYLIGHT
TZOFFSETFROM:-0500
TZOFFSETTO:-0400
TZNAME:EDT
DTSTART:20250309T070000
END:DAYLIGHT
BEGIN:STANDARD
TZOFFSETFROM:-0400
TZOFFSETTO:-0500
TZNAME:EST
DTSTART:20251102T060000
END:STANDARD
END:VTIMEZONE
BEGIN:VEVENT
DTSTART;TZID=America/New_York:20240305T113000
DTEND;TZID=America/New_York:20240305T133000
DTSTAMP:20260424T131304
CREATED:20240228T034215Z
LAST-MODIFIED:20240305T034314Z
UID:3182-1709638200-1709645400@www.karenoughcrafts.com
SUMMARY:1st Tuesday- Spring ahead - 11:30am
DESCRIPTION:These cards are Egg-celent!  Let’s March into Spring with some fun card creations.  Check out the slimline card! Don’t forget your own adhesive and scissors. \nMarch 5th @ 11:30 am\nNo refunds \nClick “website” below to register
URL:https://www.karenoughcrafts.com/events/1st-tuesday-spring-ahead-1130-pm/
LOCATION:11 High Street Suite 104\, Suffield\, CT\, United States\, Connecticut 06078
CATEGORIES:Card Classes,Crafts
ATTACH;FMTTYPE=image/jpeg:https://www.karenoughcrafts.com/wp-content/uploads/2024/02/3182_image_429761681_371811425614190_8491819932736884433_n.jpg
END:VEVENT
BEGIN:VEVENT
DTSTART;TZID=America/New_York:20240305T150000
DTEND;TZID=America/New_York:20240305T170000
DTSTAMP:20260424T131304
CREATED:20240228T034214Z
LAST-MODIFIED:20240305T034314Z
UID:3180-1709650800-1709658000@www.karenoughcrafts.com
SUMMARY:1st Tuesday Spring ahead 3 pm
DESCRIPTION:These cards are Egg-celent!  Let’s March into Spring with some fun card creations.  Check out the slimline card! Don’t forget your own adhesive and scissors. \nMarch 5th @ 3 pm\nNo refunds \nClick “website” below to register
URL:https://www.karenoughcrafts.com/events/1st-tuesday-spring-ahead-3-pm/
LOCATION:11 High Street Suite 104\, Suffield\, CT\, United States\, Connecticut 06078
CATEGORIES:Card Classes,Crafts
ATTACH;FMTTYPE=image/jpeg:https://www.karenoughcrafts.com/wp-content/uploads/2024/02/3180_image_429893240_371811905614142_3536590565640465631_n.jpg
END:VEVENT
BEGIN:VEVENT
DTSTART;TZID=America/New_York:20240305T183000
DTEND;TZID=America/New_York:20240305T183000
DTSTAMP:20260424T131304
CREATED:20240228T034213Z
LAST-MODIFIED:20240305T034314Z
UID:3178-1709663400-1709663400@www.karenoughcrafts.com
SUMMARY:1st Tuesday Spring ahead 6:30 pm
DESCRIPTION:These cards are Egg-celent!  Let’s March into Spring with some fun card creations.  Check out the slimline card! Don’t forget your own adhesive and scissors. \nMarch 5th @ 6:30pm\nNo refunds \nClick “website” below to register
URL:https://www.karenoughcrafts.com/events/1st-tuesday-spring-ahead-630-pm/
LOCATION:11 High Street Suite 104\, Suffield\, CT\, United States\, Connecticut 06078
CATEGORIES:Card Classes,Crafts
ATTACH;FMTTYPE=image/jpeg:https://www.karenoughcrafts.com/wp-content/uploads/2024/02/3178_image_429673653_371812935614039_2965845711450362578_n.jpg
END:VEVENT
BEGIN:VEVENT
DTSTART;TZID=America/New_York:20240307T100000
DTEND;TZID=America/New_York:20240307T110000
DTSTAMP:20260424T131304
CREATED:20240229T034215Z
LAST-MODIFIED:20240307T034319Z
UID:3208-1709805600-1709809200@www.karenoughcrafts.com
SUMMARY:Peeps Bunny
DESCRIPTION:Join Karen from Karenoughcrafts as we paint bunny peeps in any color you want.  Decoupage the backside so you have a duplicate way to display your bunny! \nThursday\, 3/7 at 10 am \nSorry\, no refunds
URL:https://www.karenoughcrafts.com/events/peeps-bunny/
LOCATION:Suffield Senior Center\, 145 Bridge St\, Suffield\, CT\, 06078\, US
CATEGORIES:Card Classes,Crafts
ATTACH;FMTTYPE=image/jpeg:https://www.karenoughcrafts.com/wp-content/uploads/2024/02/3208_image_430128374_372295692232430_5087754204985251742_n.jpg
END:VEVENT
BEGIN:VEVENT
DTSTART;TZID=America/New_York:20240307T180000
DTEND;TZID=America/New_York:20240307T200000
DTSTAMP:20260424T131304
CREATED:20240226T034202Z
LAST-MODIFIED:20240307T034318Z
UID:3170-1709834400-1709841600@www.karenoughcrafts.com
SUMMARY:Bunny Garden
DESCRIPTION:Hop into crafting with this adorable little bunny.  Filled with eggs\, carrots and floral\, decorate your bunny’s garden the way you want to!  Paint your bunny and learn how to distress the front with a special painting technique.   \nMarch 7th at 6 pm\nSorry\, no refunds \nClick “website” below to register
URL:https://www.karenoughcrafts.com/events/bunny-garden/
LOCATION:11 High Street Suite 104\, Suffield\, CT\, United States\, Connecticut 06078
CATEGORIES:Card Classes,Crafts
ATTACH;FMTTYPE=image/jpeg:https://www.karenoughcrafts.com/wp-content/uploads/2024/02/3170_image_429680569_370764709052195_3989413481783342608_n.jpg
END:VEVENT
BEGIN:VEVENT
DTSTART;TZID=America/New_York:20240309T110000
DTEND;TZID=America/New_York:20240309T123000
DTSTAMP:20260424T131304
CREATED:20240226T034201Z
LAST-MODIFIED:20240309T034224Z
UID:3168-1709982000-1709987400@www.karenoughcrafts.com
SUMMARY:Nature Bunny
DESCRIPTION:Celebrate spring by welcoming a cute little nature bunny into your home. We will be decorating our new friends with locally grown and dried florals.\nCreate with us and get inspired to grow something beautiful this year! \nMarch 9th at 11:00 am\nSorry\, no refunds \nClick “website” link to register
URL:https://www.karenoughcrafts.com/events/nature-bunny/
LOCATION:11 High Street Suite 104\, Suffield\, CT\, United States\, Connecticut 06078
CATEGORIES:Card Classes,Crafts
ATTACH;FMTTYPE=image/jpeg:https://www.karenoughcrafts.com/wp-content/uploads/2024/02/3168_image_429905524_370767719051894_9032694956043789732_n.jpg
END:VEVENT
BEGIN:VEVENT
DTSTART;TZID=America/New_York:20240311T183000
DTEND;TZID=America/New_York:20240311T203000
DTSTAMP:20260424T131304
CREATED:20240229T034213Z
LAST-MODIFIED:20240311T034251Z
UID:3206-1710181800-1710189000@www.karenoughcrafts.com
SUMMARY:Intro to Crochet
DESCRIPTION:Angela will guide you on how to start a simple chain and end up with a square.  Class includes the yarn\, but you must buy a crochet hook size J.
URL:https://www.karenoughcrafts.com/events/intro-to-crochet/
LOCATION:11 High Street Suite 104\, Suffield\, CT\, United States\, Connecticut 06078
CATEGORIES:Card Classes,Crafts
ATTACH;FMTTYPE=image/jpeg:https://www.karenoughcrafts.com/wp-content/uploads/2024/02/3206_image_428485938_372288438899822_8318659387762939868_n.jpg
END:VEVENT
BEGIN:VEVENT
DTSTART;TZID=America/New_York:20240312T113000
DTEND;TZID=America/New_York:20240312T133000
DTSTAMP:20260424T131304
CREATED:20240229T034212Z
LAST-MODIFIED:20240312T034242Z
UID:3204-1710243000-1710250200@www.karenoughcrafts.com
SUMMARY:2nd Tuesday Bunny Blessings 11:30 am
DESCRIPTION:Hop on over to Karenoughcrafts and plan to give some “bunny” some love with your next set of cards.\nThese cards are designed for the beginner stamper or someone who may want to see how easy it can be to create beautiful cards.\nDon’t forget your scissors and adhesive! \nMarch 12th @ 11:30 am\nNo refunds \nClick “website” below to register
URL:https://www.karenoughcrafts.com/events/2nd-tuesday-bunny-blessings-1130-am/
LOCATION:11 High Street Suite 104\, Suffield\, CT\, United States\, Connecticut 06078
CATEGORIES:Card Classes,Crafts
ATTACH;FMTTYPE=image/jpeg:https://www.karenoughcrafts.com/wp-content/uploads/2024/02/3204_image_430842666_372264122235587_5310226595279353579_n.jpg
END:VEVENT
BEGIN:VEVENT
DTSTART;TZID=America/New_York:20240312T150000
DTEND;TZID=America/New_York:20240312T170000
DTSTAMP:20260424T131304
CREATED:20240229T034211Z
LAST-MODIFIED:20240312T034241Z
UID:3202-1710255600-1710262800@www.karenoughcrafts.com
SUMMARY:2nd Tuesday- Bunny Blessings 3 pm
DESCRIPTION:Hop on over to Karenoughcrafts and plan to give some “bunny” some love with your next set of cards.\nThese cards are designed for the beginner stamper or someone who may want to see how easy it can be to create beautiful cards.\nDon’t forget your scissors and adhesive! \nMarch 12th @ 3 pm\nNo refunds \nClick “website” below to register
URL:https://www.karenoughcrafts.com/events/2nd-tuesday-bunny-blessings-3-pm/
LOCATION:11 High Street Suite 104\, Suffield\, CT\, United States\, Connecticut 06078
CATEGORIES:Card Classes,Crafts
ATTACH;FMTTYPE=image/jpeg:https://www.karenoughcrafts.com/wp-content/uploads/2024/02/3202_image_428485337_372275188901147_866660115128674873_n.jpg
END:VEVENT
BEGIN:VEVENT
DTSTART;TZID=America/New_York:20240312T183000
DTEND;TZID=America/New_York:20240312T203000
DTSTAMP:20260424T131304
CREATED:20240229T034210Z
LAST-MODIFIED:20240312T034241Z
UID:3200-1710268200-1710275400@www.karenoughcrafts.com
SUMMARY:2nd Tuesday Bunny Blessings 6:30 pm
DESCRIPTION:Hop on over to Karenoughcrafts and plan to give some “bunny” some love with your next set of cards.\nThese cards are designed for the beginner stamper or someone who may want to see how easy it can be to create beautiful cards.\nDon’t forget your scissors and adhesive! \nMarch 12th @ 6:30 pm\nNo refunds \nClick “website” below to register
URL:https://www.karenoughcrafts.com/events/2nd-tuesday-bunny-blessings-630-pm/
LOCATION:11 High Street Suite 104\, Suffield\, CT\, United States\, Connecticut 06078
CATEGORIES:Card Classes,Crafts
ATTACH;FMTTYPE=image/jpeg:https://www.karenoughcrafts.com/wp-content/uploads/2024/02/3200_image_428507380_372276295567703_3500480536097518518_n.jpg
END:VEVENT
BEGIN:VEVENT
DTSTART;TZID=America/New_York:20240314T183000
DTEND;TZID=America/New_York:20240314T203000
DTSTAMP:20260424T131304
CREATED:20240215T034202Z
LAST-MODIFIED:20240314T034206Z
UID:3151-1710441000-1710448200@www.karenoughcrafts.com
SUMMARY:St. Patrick's Cookies
DESCRIPTION:Have you ever seen beautifully decorated cookies and thought wow…how’d they do that?\nJoin us as Lorie\, owner of NoApronRequired will teach you how to decorate cookies of your own.  Please note that icing colors may vary slightly.\nNoApronRequired is a cottage baking company.  Cookies and icing are made in a home kitchen operating under CT cottage food laws and is not subject to state inspection.   \nMarch 14th @6:30 pm\nSorry\, no refunds.  If you cannot attend the event. You may coordinate a time to come and pick up your kit.  \nClick “website” link to register.
URL:https://www.karenoughcrafts.com/events/st-patricks-cookies/
LOCATION:11 High Street Suite 104\, Suffield\, CT\, United States\, Connecticut 06078
CATEGORIES:Card Classes,Crafts
ATTACH;FMTTYPE=image/jpeg:https://www.karenoughcrafts.com/wp-content/uploads/2024/02/3151_image_428092005_364772016318131_1942925108489683630_n.jpg
END:VEVENT
BEGIN:VEVENT
DTSTART;TZID=America/New_York:20240318T183000
DTEND;TZID=America/New_York:20240318T203000
DTSTAMP:20260424T131304
CREATED:20240229T034209Z
LAST-MODIFIED:20240318T034157Z
UID:3198-1710786600-1710793800@www.karenoughcrafts.com
SUMMARY:Sugar Scrubs with Essential oils
DESCRIPTION:Find out a little more about essential oils!  Learn what each essential oil can do and chose the one or the blend that works best for you!  All materials are provided to create your special sugar scrub blend.\nThis class also includes a 10% off store coupon on your next visit! \nThese scrubs also make great Easter Basket gifts! \nMarch 18th 6:30 pm\nSorry\, no refunds.\nClick “website” link below to register
URL:https://www.karenoughcrafts.com/events/sugar-scrubs-with-essential-oils/
LOCATION:11 High Street Suite 104\, Suffield\, CT\, United States\, Connecticut 06078
CATEGORIES:Card Classes,Crafts
ATTACH;FMTTYPE=image/jpeg:https://www.karenoughcrafts.com/wp-content/uploads/2024/02/3198_image_429868672_372291605566172_4603104488782872643_n.jpg
END:VEVENT
BEGIN:VEVENT
DTSTART;TZID=America/New_York:20240319T113000
DTEND;TZID=America/New_York:20240319T133000
DTSTAMP:20260424T131304
CREATED:20240229T034208Z
LAST-MODIFIED:20240319T034157Z
UID:3196-1710847800-1710855000@www.karenoughcrafts.com
SUMMARY:3rd Tuesday Easter Blessings 11:30 am
DESCRIPTION:Learn how to make a gift card holder card with these beautiful birds! This new card stock is sure to brighten anyone’s day!\nDon’t forget to bring your adhesive and scissors \nMarch 19th @ 11:30 am\nNo refunds \nClick “website” below to register
URL:https://www.karenoughcrafts.com/events/3rd-tuesday-easter-blessings-1130-am/
LOCATION:11 High Street Suite 104\, Suffield\, CT\, United States\, Connecticut 06078
CATEGORIES:Card Classes,Crafts
ATTACH;FMTTYPE=image/jpeg:https://www.karenoughcrafts.com/wp-content/uploads/2024/02/3196_image_421848015_372280665567266_4488404650281317495_n.jpg
END:VEVENT
BEGIN:VEVENT
DTSTART;TZID=America/New_York:20240319T150000
DTEND;TZID=America/New_York:20240319T150000
DTSTAMP:20260424T131304
CREATED:20240229T034206Z
LAST-MODIFIED:20240319T034157Z
UID:3194-1710860400-1710860400@www.karenoughcrafts.com
SUMMARY:3rd Tuesday Easter Blessings 3 pm
DESCRIPTION:Learn how to make a gift card holder card with these beautiful birds! This new cardstock is sure to brighten anyone’s day!\nDon’t forget to bring your adhesive and scissors \nMarch 19th @ 3 pm\nNo refunds \nClick “website” below to register
URL:https://www.karenoughcrafts.com/events/3rd-tuesday-easter-blessings-3-pm/
LOCATION:11 High Street Suite 104\, Suffield\, CT\, United States\, Connecticut 06078
CATEGORIES:Card Classes,Crafts
ATTACH;FMTTYPE=image/jpeg:https://www.karenoughcrafts.com/wp-content/uploads/2024/02/3194_image_430711995_372292658899400_340380079489070258_n.jpg
END:VEVENT
BEGIN:VEVENT
DTSTART;TZID=America/New_York:20240319T183000
DTEND;TZID=America/New_York:20240319T203000
DTSTAMP:20260424T131304
CREATED:20240229T034206Z
LAST-MODIFIED:20240319T034156Z
UID:3192-1710873000-1710880200@www.karenoughcrafts.com
SUMMARY:3rd Tuesday Easter Greetings 6:30 pm
DESCRIPTION:Learn how to make a gift card holder card with these beautiful birds! This new card stock is sure to brighten anyone’s day!\nDon’t forget to bring your adhesive and scissors \nMarch 19th @ 6:30 pm\nNo refunds \nClick “website” below to register
URL:https://www.karenoughcrafts.com/events/3rd-tuesday-easter-greetings-630-pm/
LOCATION:11 High Street Suite 104\, Suffield\, CT\, United States\, Connecticut 06078
CATEGORIES:Card Classes,Crafts
ATTACH;FMTTYPE=image/jpeg:https://www.karenoughcrafts.com/wp-content/uploads/2024/02/3192_image_428492148_372282085567124_1903367058617446882_n.jpg
END:VEVENT
BEGIN:VEVENT
DTSTART;TZID=America/New_York:20240321T180000
DTEND;TZID=America/New_York:20240321T200000
DTSTAMP:20260424T131304
CREATED:20240228T034203Z
LAST-MODIFIED:20240321T034232Z
UID:3176-1711044000-1711051200@www.karenoughcrafts.com
SUMMARY:Painting workshop- Daisies in a jar
DESCRIPTION:Nina will guide us on how to create your own painting masterpiece.  Let’s have fun painting this jar of daisies.  All materials will be provided.  Guest who pre-register will be able to take advantage of a 10% discount of their purchases that night in the retail boutique.  Come early and shop around! \nSorry\, no refunds.\nClick “website” link below to register
URL:https://www.karenoughcrafts.com/events/painting-workshop-daisies-in-a-jar/
LOCATION:11 High Street Suite 104\, Suffield\, CT\, United States\, Connecticut 06078
CATEGORIES:Card Classes,Crafts
ATTACH;FMTTYPE=image/jpeg:https://www.karenoughcrafts.com/wp-content/uploads/2024/02/3176_image_429686148_371805848948081_5615242304707201092_n.jpg
END:VEVENT
BEGIN:VEVENT
DTSTART;TZID=America/New_York:20240326T113000
DTEND;TZID=America/New_York:20240326T133000
DTSTAMP:20260424T131304
CREATED:20240229T034204Z
LAST-MODIFIED:20240326T034237Z
UID:3189-1711452600-1711459800@www.karenoughcrafts.com
SUMMARY:4th Tuesday Spring Floral 11:30 am
DESCRIPTION:Sending someone a thinking of you card that YOU made!  New stamp sets and embossing folders are featured in these cards.\nDon’t forget your own adhesive and scissors. \nMarch 26th @ 11:30 am\nNo refunds \nClick “website” below to register
URL:https://www.karenoughcrafts.com/events/4th-tuesday-spring-floral-1130-am/
LOCATION:11 High Street Suite 104\, Suffield\, CT\, United States\, Connecticut 06078
CATEGORIES:Card Classes,Crafts
ATTACH;FMTTYPE=image/jpeg:https://www.karenoughcrafts.com/wp-content/uploads/2024/02/3189_image_425375628_372284522233547_6734860625248240795_n.jpg
END:VEVENT
BEGIN:VEVENT
DTSTART;TZID=America/New_York:20240326T150000
DTEND;TZID=America/New_York:20240326T150000
DTSTAMP:20260424T131304
CREATED:20240229T034204Z
LAST-MODIFIED:20240326T034237Z
UID:3187-1711465200-1711465200@www.karenoughcrafts.com
SUMMARY:4th Tuesday Spring Floral 3 pm
DESCRIPTION:Sending someone a thinking of you card that YOU made!  New stamp sets and embossing folders are featured in these cards.\nDon’t forget your own adhesive and scissors. \nMarch 26th @ 3:00 pm\nNo refunds \nClick “website” below to register
URL:https://www.karenoughcrafts.com/events/4th-tuesday-spring-floral-3-pm/
LOCATION:11 High Street Suite 104\, Suffield\, CT\, United States\, Connecticut 06078
CATEGORIES:Card Classes,Crafts
ATTACH;FMTTYPE=image/jpeg:https://www.karenoughcrafts.com/wp-content/uploads/2024/02/3187_image_425414378_372285022233497_4051107886719084136_n.jpg
END:VEVENT
BEGIN:VEVENT
DTSTART;TZID=America/New_York:20240326T183000
DTEND;TZID=America/New_York:20240326T203000
DTSTAMP:20260424T131304
CREATED:20240229T034202Z
LAST-MODIFIED:20240326T034237Z
UID:3185-1711477800-1711485000@www.karenoughcrafts.com
SUMMARY:4th Tuesday Spring Floral 6 pm
DESCRIPTION:Sending someone a thinking of you card that YOU made!  New stamp sets and embossing folders are featured in these cards.\nDon’t forget your own adhesive and scissors. \nMarch 26th @ 6:30 pm\nNo refunds \nClick “website” below to register
URL:https://www.karenoughcrafts.com/events/4th-tuesday-spring-floral-6-pm/
LOCATION:11 High Street Suite 104\, Suffield\, CT\, United States\, Connecticut 06078
CATEGORIES:Card Classes,Crafts
ATTACH;FMTTYPE=image/jpeg:https://www.karenoughcrafts.com/wp-content/uploads/2024/02/3185_image_428502577_372285952233404_7880017660417199183_n.jpg
END:VEVENT
END:VCALENDAR