BEGIN:VCALENDAR
VERSION:2.0
PRODID:-//Karenoughcrafts &amp; Boutique - ECPv6.15.17.1//NONSGML v1.0//EN
CALSCALE:GREGORIAN
METHOD:PUBLISH
X-ORIGINAL-URL:https://www.karenoughcrafts.com
X-WR-CALDESC:Events for Karenoughcrafts &amp; Boutique
REFRESH-INTERVAL;VALUE=DURATION:PT1H
X-Robots-Tag:noindex
X-PUBLISHED-TTL:PT1H
BEGIN:VTIMEZONE
TZID:America/New_York
BEGIN:DAYLIGHT
TZOFFSETFROM:-0500
TZOFFSETTO:-0400
TZNAME:EDT
DTSTART:20230312T070000
END:DAYLIGHT
BEGIN:STANDARD
TZOFFSETFROM:-0400
TZOFFSETTO:-0500
TZNAME:EST
DTSTART:20231105T060000
END:STANDARD
BEGIN:DAYLIGHT
TZOFFSETFROM:-0500
TZOFFSETTO:-0400
TZNAME:EDT
DTSTART:20240310T070000
END:DAYLIGHT
BEGIN:STANDARD
TZOFFSETFROM:-0400
TZOFFSETTO:-0500
TZNAME:EST
DTSTART:20241103T060000
END:STANDARD
BEGIN:DAYLIGHT
TZOFFSETFROM:-0500
TZOFFSETTO:-0400
TZNAME:EDT
DTSTART:20250309T070000
END:DAYLIGHT
BEGIN:STANDARD
TZOFFSETFROM:-0400
TZOFFSETTO:-0500
TZNAME:EST
DTSTART:20251102T060000
END:STANDARD
END:VTIMEZONE
BEGIN:VEVENT
DTSTART;TZID=America/New_York:20240109T113000
DTEND;TZID=America/New_York:20240109T113000
DTSTAMP:20260424T163241
CREATED:20240102T034313Z
LAST-MODIFIED:20240109T034222Z
UID:3014-1704799800-1704799800@www.karenoughcrafts.com
SUMMARY:2nd Tuesday Magical Meadows 11:30 am
DESCRIPTION:Don’t forget adhesive and scissors for this class!  We have fun using the new Earthen Textures and Magical Meadows stamp set.   \nJanuary 9th @11:30 am\nSorry\, no refunds. \nClick “website” below to register
URL:https://www.karenoughcrafts.com/events/2nd-tuesday-magical-meadows-1130-am/
LOCATION:Karenoughcrafts & Boutique\, 11 High Street Suite 104\, Suffield\, CT\, 06078\, US
CATEGORIES:Card Classes,Crafts
ATTACH;FMTTYPE=image/jpeg:https://www.karenoughcrafts.com/wp-content/uploads/2024/01/3014_image_416123162_339136288881704_709730185244886513_n.jpg
END:VEVENT
BEGIN:VEVENT
DTSTART;TZID=America/New_York:20240109T150000
DTEND;TZID=America/New_York:20240109T150000
DTSTAMP:20260424T163241
CREATED:20240102T034313Z
LAST-MODIFIED:20240109T034221Z
UID:3012-1704812400-1704812400@www.karenoughcrafts.com
SUMMARY:2nd Tuesday Magical Meadows @3pm
DESCRIPTION:Let’s have fun with some new stamp sets from Stampin Up!  Earthen Texture and Morning meadow are featured in this class. \nJanuary 9th @ 3pm\nNo refunds \nClick “website” below to register
URL:https://www.karenoughcrafts.com/events/2nd-tuesday-magical-meadows-3pm/
LOCATION:Karenoughcrafts & Boutique\, 11 High Street Suite 104\, Suffield\, CT\, 06078\, US
CATEGORIES:Card Classes,Crafts
ATTACH;FMTTYPE=image/jpeg:https://www.karenoughcrafts.com/wp-content/uploads/2024/01/3012_image_414986252_339137718881561_8916548174814597235_n.jpg
END:VEVENT
BEGIN:VEVENT
DTSTART;TZID=America/New_York:20240109T183000
DTEND;TZID=America/New_York:20240109T183000
DTSTAMP:20260424T163241
CREATED:20240102T034312Z
LAST-MODIFIED:20240109T034221Z
UID:3010-1704825000-1704825000@www.karenoughcrafts.com
SUMMARY:2nd Tuesday Magical Meadow @6:30pm
DESCRIPTION:Let’s have fun with some new stamp sets from Stampin Up!  Earthen Texture and Morning meadow are featured in this class. \nJanuary 9th @ 6:30pm\nNo refunds \nClick “website” below to register
URL:https://www.karenoughcrafts.com/events/2nd-tuesday-magical-meadow-630pm/
LOCATION:Karenoughcrafts & Boutique\, 11 High Street Suite 104\, Suffield\, CT\, 06078\, US
CATEGORIES:Card Classes,Crafts
ATTACH;FMTTYPE=image/jpeg:https://www.karenoughcrafts.com/wp-content/uploads/2024/01/3010_image_415010981_339138392214827_311298647902686859_n.jpg
END:VEVENT
BEGIN:VEVENT
DTSTART;TZID=America/New_York:20240115T183000
DTEND;TZID=America/New_York:20240115T183000
DTSTAMP:20260424T163241
CREATED:20231228T034318Z
LAST-MODIFIED:20240115T034210Z
UID:2980-1705343400-1705343400@www.karenoughcrafts.com
SUMMARY:Painting workshop
DESCRIPTION:Join Nina as she guides us on how we can recreate this beautiful cardinal in snow image.  \nJanuary 15th at 6:30 pm
URL:https://www.karenoughcrafts.com/events/painting-workshop-2/
LOCATION:Karenoughcrafts & Boutique\, 11 High Street Suite 104\, Suffield\, CT\, 06078\, US
CATEGORIES:Card Classes,Crafts
ATTACH;FMTTYPE=image/jpeg:https://www.karenoughcrafts.com/wp-content/uploads/2023/12/2980_image_414720600_336143789180954_4832836688606427880_n.jpg
END:VEVENT
BEGIN:VEVENT
DTSTART;TZID=America/New_York:20240116T113000
DTEND;TZID=America/New_York:20240116T113000
DTSTAMP:20260424T163241
CREATED:20240102T034310Z
LAST-MODIFIED:20240116T034321Z
UID:3008-1705404600-1705404600@www.karenoughcrafts.com
SUMMARY:3rd Tuesday Winter Wishes 11:30 am
DESCRIPTION:Winter isn’t over yet!  Send some winter salutations with these cards as we all may need a little sunshine in our mailboxes!  Don’t forget your own adhesive and scissors. \nJanuary 16th @ 11:30 am\nNo refunds \nClick “website” below to register
URL:https://www.karenoughcrafts.com/events/3rd-tuesday-winter-wishes-1130-am/
LOCATION:Karenoughcrafts & Boutique\, 11 High Street Suite 104\, Suffield\, CT\, 06078\, US
CATEGORIES:Card Classes,Crafts
ATTACH;FMTTYPE=image/jpeg:https://www.karenoughcrafts.com/wp-content/uploads/2024/01/3008_image_414997208_339143215547678_7423470734429591042_n.jpg
END:VEVENT
BEGIN:VEVENT
DTSTART;TZID=America/New_York:20240116T150000
DTEND;TZID=America/New_York:20240116T150000
DTSTAMP:20260424T163241
CREATED:20240102T034310Z
LAST-MODIFIED:20240116T034321Z
UID:3006-1705417200-1705417200@www.karenoughcrafts.com
SUMMARY:3rd Tuesday Winter Wishes 3 pm
DESCRIPTION:Winter isn’t over yet!  Send some winter salutations with these cards as we all may need a little sunshine in our mailboxes!  Don’t forget your own adhesive and scissors. \nJanuary 16th @ 3 pm\nNo refunds \nClick “website” below to register
URL:https://www.karenoughcrafts.com/events/3rd-tuesday-winter-wishes-3-pm/
LOCATION:Karenoughcrafts & Boutique\, 11 High Street Suite 104\, Suffield\, CT\, 06078\, US
CATEGORIES:Card Classes,Crafts
ATTACH;FMTTYPE=image/jpeg:https://www.karenoughcrafts.com/wp-content/uploads/2024/01/3006_image_414988095_339144032214263_9146760818233514887_n.jpg
END:VEVENT
BEGIN:VEVENT
DTSTART;TZID=America/New_York:20240116T183000
DTEND;TZID=America/New_York:20240116T183000
DTSTAMP:20260424T163241
CREATED:20240102T034309Z
LAST-MODIFIED:20240116T034320Z
UID:3004-1705429800-1705429800@www.karenoughcrafts.com
SUMMARY:3rd Tuesday Winter Wishes 6:30 pm
DESCRIPTION:Winter isn’t over yet!  Send some winter salutations with these cards as we all may need a little sunshine in our mailboxes!  Don’t forget your own adhesive and scissors. \nJanuary 16th @ 6:30 pm\nNo refunds \nClick “website” below to register
URL:https://www.karenoughcrafts.com/events/3rd-tuesday-winter-wishes-630-pm/
LOCATION:Karenoughcrafts & Boutique\, 11 High Street Suite 104\, Suffield\, CT\, 06078\, US
CATEGORIES:Card Classes,Crafts
ATTACH;FMTTYPE=image/jpeg:https://www.karenoughcrafts.com/wp-content/uploads/2024/01/3004_image_414973497_339144452214221_8922022824252995593_n.jpg
END:VEVENT
BEGIN:VEVENT
DTSTART;TZID=America/New_York:20240122T183000
DTEND;TZID=America/New_York:20240122T203000
DTSTAMP:20260424T163241
CREATED:20240103T034517Z
LAST-MODIFIED:20240122T034204Z
UID:3028-1705948200-1705955400@www.karenoughcrafts.com
SUMMARY:Crochet for beginners
DESCRIPTION:Learn how to create a simple crochet square. You will need to bring your own crochet hook size j. Yarn and step by step instructions are provided.
URL:https://www.karenoughcrafts.com/events/crochet-for-beginners/
LOCATION:Karenoughcrafts & Boutique\, 11 High Street Suite 104\, Suffield\, CT\, 06078\, US
CATEGORIES:Card Classes,Crafts
ATTACH;FMTTYPE=image/jpeg:https://www.karenoughcrafts.com/wp-content/uploads/2024/01/3028_image_416730101_339757692152897_3029534493840414329_n.jpg
END:VEVENT
BEGIN:VEVENT
DTSTART;TZID=America/New_York:20240123T113000
DTEND;TZID=America/New_York:20240123T113000
DTSTAMP:20260424T163241
CREATED:20240102T034306Z
LAST-MODIFIED:20240123T034337Z
UID:3002-1706009400-1706009400@www.karenoughcrafts.com
SUMMARY:4th Tuesday Snowed in 11:30 am
DESCRIPTION:Get snow’d in with these cards!    Play with some embossing paste to create a beautiful winter scene and have fun with these snowflakes!  Don’t forget your own adhesive and scissors. \nJanuary 23rd @ 11:30 am\nNo refunds \nClick “website” below to register
URL:https://www.karenoughcrafts.com/events/4th-tuesday-snowed-in-1130-am/
LOCATION:Karenoughcrafts & Boutique\, 11 High Street Suite 104\, Suffield\, CT\, 06078\, US
CATEGORIES:Card Classes,Crafts
ATTACH;FMTTYPE=image/jpeg:https://www.karenoughcrafts.com/wp-content/uploads/2024/01/3002_image_416744906_339753762153290_5436483580841439328_n.jpg
END:VEVENT
BEGIN:VEVENT
DTSTART;TZID=America/New_York:20240123T150000
DTEND;TZID=America/New_York:20240123T150000
DTSTAMP:20260424T163241
CREATED:20240102T034304Z
LAST-MODIFIED:20240123T034337Z
UID:3000-1706022000-1706022000@www.karenoughcrafts.com
SUMMARY:4th Tuesday Snowed in 3 pm
DESCRIPTION:Get snow’d in with these cards!    Play with some embossing paste to create a beautiful winter scene and have fun with these snowflakes!  Don’t forget your own adhesive and scissors. \nJanuary 23rd @ 3pm\nNo refunds \nClick “website” below to register \nNon-refundable
URL:https://www.karenoughcrafts.com/events/4th-tuesday-snowed-in-3-pm/
LOCATION:Karenoughcrafts & Boutique\, 11 High Street Suite 104\, Suffield\, CT\, 06078\, US
CATEGORIES:Card Classes,Crafts
ATTACH;FMTTYPE=image/jpeg:https://www.karenoughcrafts.com/wp-content/uploads/2024/01/3000_image_416867726_339754025486597_5931118981484160035_n.jpg
END:VEVENT
BEGIN:VEVENT
DTSTART;TZID=America/New_York:20240123T183000
DTEND;TZID=America/New_York:20240123T183000
DTSTAMP:20260424T163241
CREATED:20240102T034301Z
LAST-MODIFIED:20240123T034336Z
UID:2998-1706034600-1706034600@www.karenoughcrafts.com
SUMMARY:4th Tuesday Snowed In 6:30 pm
DESCRIPTION:Get snow’d in with these cards!    Play with some embossing paste to create a beautiful winter scene and have fun with these snowflakes!  Don’t forget your own adhesive and scissors. \nJanuary 23rd @ 6:30 pm\nNo refunds \nClick “website” below to register
URL:https://www.karenoughcrafts.com/events/4th-tuesday-snowed-in-630-pm/
LOCATION:Karenoughcrafts & Boutique\, 11 High Street Suite 104\, Suffield\, CT\, 06078\, US
CATEGORIES:Card Classes,Crafts
ATTACH;FMTTYPE=image/jpeg:https://www.karenoughcrafts.com/wp-content/uploads/2024/01/2998_image_416537016_339754252153241_1949470989395307077_n.jpg
END:VEVENT
BEGIN:VEVENT
DTSTART;TZID=America/New_York:20240125T180000
DTEND;TZID=America/New_York:20240125T180000
DTSTAMP:20260424T163241
CREATED:20240102T034259Z
LAST-MODIFIED:20240125T034446Z
UID:2996-1706205600-1706205600@www.karenoughcrafts.com
SUMMARY:Wellness with Essential oils
DESCRIPTION:Let’s talk about Essential Oils!  Join us as we talk about how you can incorporate oils into your everyday routine.  Learn how certain oils can help with your overall wellness with immune support\, sleep as well as anxiety and more.\nMake a rollerball for immune support as well as a germ or linen spray.  Workshop also includes a free gift and a discount for a future shopping visit.   \nJanuary 25th at 6 pm \nSorry\, no refunds.
URL:https://www.karenoughcrafts.com/events/wellness-with-essential-oils/
LOCATION:Karenoughcrafts & Boutique\, 11 High Street Suite 104\, Suffield\, CT\, 06078\, US
CATEGORIES:Card Classes,Crafts
ATTACH;FMTTYPE=image/jpeg:https://www.karenoughcrafts.com/wp-content/uploads/2024/01/2996_image_418457195_343653808429952_4518942517909716428_n.jpg
END:VEVENT
BEGIN:VEVENT
DTSTART;TZID=America/New_York:20240127T113000
DTEND;TZID=America/New_York:20240127T113000
DTSTAMP:20260424T163241
CREATED:20240105T034205Z
LAST-MODIFIED:20240127T034400Z
UID:3039-1706355000-1706355000@www.karenoughcrafts.com
SUMMARY:Winter Gnome $15
DESCRIPTION:Join us for a winter foam gnome class.  This class is perfect for any ages.   \nJanuary 27th\, 11:30 am \nSorry\, no refunds\n(image is similar to the pattern you will choose for your gnome hat) \nClick “website link” to register
URL:https://www.karenoughcrafts.com/events/winter-gnome-15/
LOCATION:Karenoughcrafts & Boutique\, 11 High Street Suite 104\, Suffield\, CT\, 06078\, US
CATEGORIES:Card Classes,Crafts
ATTACH;FMTTYPE=image/jpeg:https://www.karenoughcrafts.com/wp-content/uploads/2024/01/3039_image_419865060_346490784812921_7664333771862664308_n.jpg
END:VEVENT
BEGIN:VEVENT
DTSTART;TZID=America/New_York:20240129T183000
DTEND;TZID=America/New_York:20240129T183000
DTSTAMP:20260424T163241
CREATED:20240102T034255Z
LAST-MODIFIED:20240129T034210Z
UID:2994-1706553000-1706553000@www.karenoughcrafts.com
SUMMARY:Chunky finger knit blanket
DESCRIPTION:Learn the art of hand knitting and start by making a beautiful chunky blanket with thick yarn! Two skeins will be provided to get you started. Leave with the skills to finish\nJanuary 29th  @6:30 pm
URL:https://www.karenoughcrafts.com/events/chunky-finger-knit-blanket/
LOCATION:Karenoughcrafts & Boutique\, 11 High Street Suite 104\, Suffield\, CT\, 06078\, US
CATEGORIES:Card Classes,Crafts
ATTACH;FMTTYPE=image/jpeg:https://www.karenoughcrafts.com/wp-content/uploads/2024/01/2994_image_415074041_339186502210016_2640110203945832284_n.jpg
END:VEVENT
BEGIN:VEVENT
DTSTART;TZID=America/New_York:20240130T113000
DTEND;TZID=America/New_York:20240130T113000
DTSTAMP:20260424T163241
CREATED:20240102T034254Z
LAST-MODIFIED:20240130T034250Z
UID:2992-1706614200-1706614200@www.karenoughcrafts.com
SUMMARY:5th Tuesday Elegant Love 11:30 am
DESCRIPTION:Get your cards ready for a Valentine or for a wedding.  You will fall in love with these cards!  Don’t forget your own adhesive and scissors. \nJanuary 30th@ 11:30 am\nNo refunds \nClick “website” below to register
URL:https://www.karenoughcrafts.com/events/5th-tuesday-elegant-love-1130-am/
LOCATION:Karenoughcrafts & Boutique\, 11 High Street Suite 104\, Suffield\, CT\, 06078\, US
CATEGORIES:Card Classes,Crafts
ATTACH;FMTTYPE=image/jpeg:https://www.karenoughcrafts.com/wp-content/uploads/2024/01/2992_image_416295871_339183535543646_8846908772532604725_n.jpg
END:VEVENT
BEGIN:VEVENT
DTSTART;TZID=America/New_York:20240130T150000
DTEND;TZID=America/New_York:20240130T150000
DTSTAMP:20260424T163241
CREATED:20240102T034253Z
LAST-MODIFIED:20240130T034250Z
UID:2990-1706626800-1706626800@www.karenoughcrafts.com
SUMMARY:5th Tuesday Elegant Love 3 pm
DESCRIPTION:Get your cards ready for a Valentine or for a wedding.  You will fall in love with these cards!  Don’t forget your own adhesive and scissors. \nJanuary 30th@ 3 pm\nNo refunds \nClick “website” below to register
URL:https://www.karenoughcrafts.com/events/5th-tuesday-elegant-love-3-pm/
LOCATION:Karenoughcrafts & Boutique\, 11 High Street Suite 104\, Suffield\, CT\, 06078\, US
CATEGORIES:Card Classes,Crafts
ATTACH;FMTTYPE=image/jpeg:https://www.karenoughcrafts.com/wp-content/uploads/2024/01/2990_image_414986491_339184022210264_776626314019482179_n.jpg
END:VEVENT
BEGIN:VEVENT
DTSTART;TZID=America/New_York:20240130T183000
DTEND;TZID=America/New_York:20240130T183000
DTSTAMP:20260424T163241
CREATED:20240102T034250Z
LAST-MODIFIED:20240130T034249Z
UID:2988-1706639400-1706639400@www.karenoughcrafts.com
SUMMARY:5th Tuesday Elegant Love 6:30 pm
DESCRIPTION:Get your cards ready for a Valentine or for a wedding.  You will fall in love with these cards!  Don’t forget your own adhesive and scissors. \nJanuary 30th@ 6:30 pm\nNo refunds \nClick “website” below to register
URL:https://www.karenoughcrafts.com/events/5th-tuesday-elegant-love-630-pm/
LOCATION:Karenoughcrafts & Boutique\, 11 High Street Suite 104\, Suffield\, CT\, 06078\, US
CATEGORIES:Card Classes,Crafts
ATTACH;FMTTYPE=image/jpeg:https://www.karenoughcrafts.com/wp-content/uploads/2024/01/2988_image_416295544_339185025543497_5729040770195782136_n.jpg
END:VEVENT
END:VCALENDAR