BEGIN:VCALENDAR
VERSION:2.0
PRODID:-//Karenoughcrafts &amp; Boutique - ECPv6.15.17.1//NONSGML v1.0//EN
CALSCALE:GREGORIAN
METHOD:PUBLISH
X-WR-CALNAME:Karenoughcrafts &amp; Boutique
X-ORIGINAL-URL:https://www.karenoughcrafts.com
X-WR-CALDESC:Events for Karenoughcrafts &amp; Boutique
REFRESH-INTERVAL;VALUE=DURATION:PT1H
X-Robots-Tag:noindex
X-PUBLISHED-TTL:PT1H
BEGIN:VTIMEZONE
TZID:America/New_York
BEGIN:DAYLIGHT
TZOFFSETFROM:-0500
TZOFFSETTO:-0400
TZNAME:EDT
DTSTART:20240310T070000
END:DAYLIGHT
BEGIN:STANDARD
TZOFFSETFROM:-0400
TZOFFSETTO:-0500
TZNAME:EST
DTSTART:20241103T060000
END:STANDARD
BEGIN:DAYLIGHT
TZOFFSETFROM:-0500
TZOFFSETTO:-0400
TZNAME:EDT
DTSTART:20250309T070000
END:DAYLIGHT
BEGIN:STANDARD
TZOFFSETFROM:-0400
TZOFFSETTO:-0500
TZNAME:EST
DTSTART:20251102T060000
END:STANDARD
BEGIN:DAYLIGHT
TZOFFSETFROM:-0500
TZOFFSETTO:-0400
TZNAME:EDT
DTSTART:20260308T070000
END:DAYLIGHT
BEGIN:STANDARD
TZOFFSETFROM:-0400
TZOFFSETTO:-0500
TZNAME:EST
DTSTART:20261101T060000
END:STANDARD
END:VTIMEZONE
BEGIN:VEVENT
DTSTART;TZID=America/New_York:20251216T113000
DTEND;TZID=America/New_York:20251216T133000
DTSTAMP:20260420T020518
CREATED:20251201T034151Z
LAST-MODIFIED:20251216T034148Z
UID:5024-1765884600-1765891800@www.karenoughcrafts.com
SUMMARY:3rd Tuesday Christmas Village Light Up 11:30 am
DESCRIPTION:Join us for a cozy crafting session where you’ll design your own illuminated winter village card—just like the one shown here. In this class\, you’ll layer hand-stamped houses\, snowy trees\, and a warm glowing backdrop to build a charming 3D scene that lights up beautifully. \n12/16/25@ 11:30 am\nNo refunds\nClick “website” to register by 12/14
URL:https://www.karenoughcrafts.com/events/3rd-tuesday-christmas-village-light-up-1130-am/
LOCATION:11 High Street Suite 104\, Suffield\, CT\, United States\, Connecticut 06078
CATEGORIES:Card Classes,Crafts
ATTACH;FMTTYPE=image/jpeg:https://www.karenoughcrafts.com/wp-content/uploads/2025/11/5024_image_591222106_819567097505285_7841327401990914751_n.jpg
END:VEVENT
BEGIN:VEVENT
DTSTART;TZID=America/New_York:20251216T150000
DTEND;TZID=America/New_York:20251216T170000
DTSTAMP:20260420T020518
CREATED:20251201T034150Z
LAST-MODIFIED:20251216T034147Z
UID:5022-1765897200-1765904400@www.karenoughcrafts.com
SUMMARY:3rd Tuesday Christmas Village Light Up 3 pm
DESCRIPTION:Join us for a cozy crafting session where you’ll design your own illuminated winter village card—just like the one shown here. In this class\, you’ll layer hand-stamped houses\, snowy trees\, and a warm glowing backdrop to build a charming 3D scene that lights up beautifully. \n12/16/25@ 3 pm\nNo refunds\nClick “website” to register by 12/14
URL:https://www.karenoughcrafts.com/events/3rd-tuesday-christmas-village-light-up-3-pm/
LOCATION:11 High Street Suite 104\, Suffield\, CT\, United States\, Connecticut 06078
CATEGORIES:Card Classes,Crafts
ATTACH;FMTTYPE=image/jpeg:https://www.karenoughcrafts.com/wp-content/uploads/2025/11/5022_image_591074738_819568697505125_3969174163798958466_n.jpg
END:VEVENT
BEGIN:VEVENT
DTSTART;TZID=America/New_York:20251216T183000
DTEND;TZID=America/New_York:20251216T203000
DTSTAMP:20260420T020518
CREATED:20251201T034147Z
LAST-MODIFIED:20251216T034147Z
UID:5020-1765909800-1765917000@www.karenoughcrafts.com
SUMMARY:3rd Tuesday Christmas Village Light Up 6:30 pm
DESCRIPTION:Join us for a cozy crafting session where you’ll design your own illuminated winter village card—just like the one shown here. In this class\, you’ll layer hand-stamped houses\, snowy trees\, and a warm glowing backdrop to build a charming 3D scene that lights up beautifully. \n12/16/25@ 6:30 pm\nNo refunds\nClick “website” to register by 12/14
URL:https://www.karenoughcrafts.com/events/3rd-tuesday-christmas-village-light-up-630-pm/
LOCATION:11 High Street Suite 104\, Suffield\, CT\, United States\, Connecticut 06078
CATEGORIES:Card Classes,Crafts
ATTACH;FMTTYPE=image/jpeg:https://www.karenoughcrafts.com/wp-content/uploads/2025/11/5020_image_593468092_819569807505014_9146807404016097369_n.jpg
END:VEVENT
END:VCALENDAR