BEGIN:VCALENDAR
VERSION:2.0
PRODID:-//Karenoughcrafts &amp; Boutique - ECPv6.15.17.1//NONSGML v1.0//EN
CALSCALE:GREGORIAN
METHOD:PUBLISH
X-WR-CALNAME:Karenoughcrafts &amp; Boutique
X-ORIGINAL-URL:https://www.karenoughcrafts.com
X-WR-CALDESC:Events for Karenoughcrafts &amp; Boutique
REFRESH-INTERVAL;VALUE=DURATION:PT1H
X-Robots-Tag:noindex
X-PUBLISHED-TTL:PT1H
BEGIN:VTIMEZONE
TZID:America/New_York
BEGIN:DAYLIGHT
TZOFFSETFROM:-0500
TZOFFSETTO:-0400
TZNAME:EDT
DTSTART:20240310T070000
END:DAYLIGHT
BEGIN:STANDARD
TZOFFSETFROM:-0400
TZOFFSETTO:-0500
TZNAME:EST
DTSTART:20241103T060000
END:STANDARD
BEGIN:DAYLIGHT
TZOFFSETFROM:-0500
TZOFFSETTO:-0400
TZNAME:EDT
DTSTART:20250309T070000
END:DAYLIGHT
BEGIN:STANDARD
TZOFFSETFROM:-0400
TZOFFSETTO:-0500
TZNAME:EST
DTSTART:20251102T060000
END:STANDARD
BEGIN:DAYLIGHT
TZOFFSETFROM:-0500
TZOFFSETTO:-0400
TZNAME:EDT
DTSTART:20260308T070000
END:DAYLIGHT
BEGIN:STANDARD
TZOFFSETFROM:-0400
TZOFFSETTO:-0500
TZNAME:EST
DTSTART:20261101T060000
END:STANDARD
END:VTIMEZONE
BEGIN:VEVENT
DTSTART;TZID=America/New_York:20251213T150000
DTEND;TZID=America/New_York:20251213T170000
DTSTAMP:20260420T020631
CREATED:20251118T034153Z
LAST-MODIFIED:20251213T034550Z
UID:4986-1765638000-1765645200@www.karenoughcrafts.com
SUMMARY:Jingle and Mingle
DESCRIPTION:What a great day to light up the Tree in the center of town!\nNot only will we have a presence on the Middle Green\, but the boutique and workshop area will also be open!\nWe will have a free kids craft (while supplies last) in addition to some hot cocoa and refreshments.\nSome of our pop up vendors include\, Chalked with Vigs\, Hartfelt Whimsies\, and Meshin’ with Mary.Come and shop local this Holiday.\nFree gift with purchases over $40!
URL:https://www.karenoughcrafts.com/events/jingle-and-mingle/
LOCATION:11 High Street Suite 104\, Suffield\, CT\, United States\, Connecticut 06078
CATEGORIES:Card Classes,Crafts
ATTACH;FMTTYPE=image/jpeg:https://www.karenoughcrafts.com/wp-content/uploads/2025/11/4986_image_584021780_810044531790875_9056475619528453210_n.jpg
END:VEVENT
END:VCALENDAR