BEGIN:VCALENDAR
VERSION:2.0
PRODID:-//Karenoughcrafts &amp; Boutique - ECPv6.15.17.1//NONSGML v1.0//EN
CALSCALE:GREGORIAN
METHOD:PUBLISH
X-ORIGINAL-URL:https://www.karenoughcrafts.com
X-WR-CALDESC:Events for Karenoughcrafts &amp; Boutique
REFRESH-INTERVAL;VALUE=DURATION:PT1H
X-Robots-Tag:noindex
X-PUBLISHED-TTL:PT1H
BEGIN:VTIMEZONE
TZID:America/New_York
BEGIN:DAYLIGHT
TZOFFSETFROM:-0500
TZOFFSETTO:-0400
TZNAME:EDT
DTSTART:20240310T070000
END:DAYLIGHT
BEGIN:STANDARD
TZOFFSETFROM:-0400
TZOFFSETTO:-0500
TZNAME:EST
DTSTART:20241103T060000
END:STANDARD
BEGIN:DAYLIGHT
TZOFFSETFROM:-0500
TZOFFSETTO:-0400
TZNAME:EDT
DTSTART:20250309T070000
END:DAYLIGHT
BEGIN:STANDARD
TZOFFSETFROM:-0400
TZOFFSETTO:-0500
TZNAME:EST
DTSTART:20251102T060000
END:STANDARD
BEGIN:DAYLIGHT
TZOFFSETFROM:-0500
TZOFFSETTO:-0400
TZNAME:EDT
DTSTART:20260308T070000
END:DAYLIGHT
BEGIN:STANDARD
TZOFFSETFROM:-0400
TZOFFSETTO:-0500
TZNAME:EST
DTSTART:20261101T060000
END:STANDARD
END:VTIMEZONE
BEGIN:VEVENT
DTSTART;TZID=America/New_York:20251205T160000
DTEND;TZID=America/New_York:20251205T200000
DTSTAMP:20260420T020836
CREATED:20251106T034252Z
LAST-MODIFIED:20251205T034340Z
UID:4948-1764950400-1764964800@www.karenoughcrafts.com
SUMMARY:Holiday Market Sip n’ Shop
DESCRIPTION:Browse unique gifts\, handmade crafts\, and holiday treats from talented local vendors like Lynn Ash Creations\, Sugar and Spice Cinnamon Cakes\, Karenough Boutique\, Cindy’s Specialty Soaps\, French Creations\, Fudgelicious\,Diane’s Designs\,Hustle & Heart\, Doodle and Threads\, Brim with a Bloom hat bar\, Brookman Candle & co.\, Moonjules Scents. \n✨ Plus\, enjoy special readings with Janine Baryza-Ly – 15 minutes for $25! \nBring your friends\, sip something warm\, and get your holiday shopping started in the best way local and festive!
URL:https://www.karenoughcrafts.com/events/holiday-market-sip-n-shop/
LOCATION:3 Turkey Hills Rd\, East Granby\, CT
CATEGORIES:Card Classes,Crafts
ATTACH;FMTTYPE=image/jpeg:https://www.karenoughcrafts.com/wp-content/uploads/2025/11/4948_image_575626794_881438471211489_2017171862831933730_n.jpg
END:VEVENT
END:VCALENDAR