BEGIN:VCALENDAR
VERSION:2.0
PRODID:-//Karenoughcrafts &amp; Boutique - ECPv6.15.17.1//NONSGML v1.0//EN
CALSCALE:GREGORIAN
METHOD:PUBLISH
X-ORIGINAL-URL:https://www.karenoughcrafts.com
X-WR-CALDESC:Events for Karenoughcrafts &amp; Boutique
REFRESH-INTERVAL;VALUE=DURATION:PT1H
X-Robots-Tag:noindex
X-PUBLISHED-TTL:PT1H
BEGIN:VTIMEZONE
TZID:America/New_York
BEGIN:DAYLIGHT
TZOFFSETFROM:-0500
TZOFFSETTO:-0400
TZNAME:EDT
DTSTART:20240310T070000
END:DAYLIGHT
BEGIN:STANDARD
TZOFFSETFROM:-0400
TZOFFSETTO:-0500
TZNAME:EST
DTSTART:20241103T060000
END:STANDARD
BEGIN:DAYLIGHT
TZOFFSETFROM:-0500
TZOFFSETTO:-0400
TZNAME:EDT
DTSTART:20250309T070000
END:DAYLIGHT
BEGIN:STANDARD
TZOFFSETFROM:-0400
TZOFFSETTO:-0500
TZNAME:EST
DTSTART:20251102T060000
END:STANDARD
BEGIN:DAYLIGHT
TZOFFSETFROM:-0500
TZOFFSETTO:-0400
TZNAME:EDT
DTSTART:20260308T070000
END:DAYLIGHT
BEGIN:STANDARD
TZOFFSETFROM:-0400
TZOFFSETTO:-0500
TZNAME:EST
DTSTART:20261101T060000
END:STANDARD
END:VTIMEZONE
BEGIN:VEVENT
DTSTART;TZID=America/New_York:20251118T113000
DTEND;TZID=America/New_York:20251118T133000
DTSTAMP:20260420T040704
CREATED:20251117T034156Z
LAST-MODIFIED:20251118T034159Z
UID:4983-1763465400-1763472600@www.karenoughcrafts.com
SUMMARY:3rd Tuesday Holiday One Sheet Wonder 11:30 am
DESCRIPTION:Get into the holiday spirit with this fun and beginner-friendly workshop! We’ll use the one-sheet wonder technique—stamping all your beautiful holiday greenery\, berries\, and accents onto one sheet of cardstock\, then cutting it apart to create four perfectly coordinated Christmas cards.\nNovember 18th @ 11:30 am\nNo refunds\nClick “website” to register
URL:https://www.karenoughcrafts.com/events/3rd-tuesday-holiday-one-sheet-wonder-1130-am/
LOCATION:11 High Street Suite 104\, Suffield\, CT\, United States\, Connecticut 06078
CATEGORIES:Card Classes,Crafts
ATTACH;FMTTYPE=image/jpeg:https://www.karenoughcrafts.com/wp-content/uploads/2025/11/4983_image_582555717_809263855202276_1340776542705385794_n.jpg
END:VEVENT
BEGIN:VEVENT
DTSTART;TZID=America/New_York:20251118T150000
DTEND;TZID=America/New_York:20251118T170000
DTSTAMP:20260420T040704
CREATED:20251117T034155Z
LAST-MODIFIED:20251118T034159Z
UID:4981-1763478000-1763485200@www.karenoughcrafts.com
SUMMARY:3rd Tuesday Holiday One Sheet Wonder 3 pm
DESCRIPTION:Get into the holiday spirit with this fun and beginner-friendly workshop! We’ll use the one-sheet wonder technique—stamping all your beautiful holiday greenery\, berries\, and accents onto one sheet of cardstock\, then cutting it apart to create four perfectly coordinated Christmas cards.\nNovember 18th @ 3 pm\nNo refunds\nClick “website” to register
URL:https://www.karenoughcrafts.com/events/3rd-tuesday-holiday-one-sheet-wonder-3-pm/
LOCATION:11 High Street Suite 104\, Suffield\, CT\, United States\, Connecticut 06078
CATEGORIES:Card Classes,Crafts
ATTACH;FMTTYPE=image/jpeg:https://www.karenoughcrafts.com/wp-content/uploads/2025/11/4981_image_584009568_809265508535444_1666903139971537836_n.jpg
END:VEVENT
BEGIN:VEVENT
DTSTART;TZID=America/New_York:20251118T200000
DTEND;TZID=America/New_York:20251118T203000
DTSTAMP:20260420T040704
CREATED:20251117T034153Z
LAST-MODIFIED:20251118T034158Z
UID:4979-1763496000-1763497800@www.karenoughcrafts.com
SUMMARY:3rd Tuesday Holiday One Sheet Wonder 6:30 pm
DESCRIPTION:Get into the holiday spirit with this fun and beginner-friendly workshop! We’ll use the one-sheet wonder technique—stamping all your beautiful holiday greenery\, berries\, and accents onto one sheet of cardstock\, then cutting it apart to create four perfectly coordinated Christmas cards.\nNovember 18th @ 6:30 pm\nNo refunds\nClick “website” to register
URL:https://www.karenoughcrafts.com/events/3rd-tuesday-holiday-one-sheet-wonder-630-pm/
LOCATION:11 High Street Suite 104\, Suffield\, CT\, United States\, Connecticut 06078
CATEGORIES:Card Classes,Crafts
ATTACH;FMTTYPE=image/jpeg:https://www.karenoughcrafts.com/wp-content/uploads/2025/11/4979_image_582652862_809266961868632_7101960815048858770_n.jpg
END:VEVENT
END:VCALENDAR