BEGIN:VCALENDAR
VERSION:2.0
PRODID:-//Karenoughcrafts &amp; Boutique - ECPv6.15.17.1//NONSGML v1.0//EN
CALSCALE:GREGORIAN
METHOD:PUBLISH
X-WR-CALNAME:Karenoughcrafts &amp; Boutique
X-ORIGINAL-URL:https://www.karenoughcrafts.com
X-WR-CALDESC:Events for Karenoughcrafts &amp; Boutique
REFRESH-INTERVAL;VALUE=DURATION:PT1H
X-Robots-Tag:noindex
X-PUBLISHED-TTL:PT1H
BEGIN:VTIMEZONE
TZID:America/New_York
BEGIN:DAYLIGHT
TZOFFSETFROM:-0500
TZOFFSETTO:-0400
TZNAME:EDT
DTSTART:20240310T070000
END:DAYLIGHT
BEGIN:STANDARD
TZOFFSETFROM:-0400
TZOFFSETTO:-0500
TZNAME:EST
DTSTART:20241103T060000
END:STANDARD
BEGIN:DAYLIGHT
TZOFFSETFROM:-0500
TZOFFSETTO:-0400
TZNAME:EDT
DTSTART:20250309T070000
END:DAYLIGHT
BEGIN:STANDARD
TZOFFSETFROM:-0400
TZOFFSETTO:-0500
TZNAME:EST
DTSTART:20251102T060000
END:STANDARD
BEGIN:DAYLIGHT
TZOFFSETFROM:-0500
TZOFFSETTO:-0400
TZNAME:EDT
DTSTART:20260308T070000
END:DAYLIGHT
BEGIN:STANDARD
TZOFFSETFROM:-0400
TZOFFSETTO:-0500
TZNAME:EST
DTSTART:20261101T060000
END:STANDARD
END:VTIMEZONE
BEGIN:VEVENT
DTSTART;TZID=America/New_York:20251028T113000
DTEND;TZID=America/New_York:20251028T133000
DTSTAMP:20260420T035936
CREATED:20251003T034217Z
LAST-MODIFIED:20251028T034150Z
UID:4834-1761651000-1761658200@www.karenoughcrafts.com
SUMMARY:4th Tuesday Guilded Fall 11:30 am
DESCRIPTION:n this workshop\, you’ll learn techniques like watercoloring\, embossing\, and layering to make heartfelt designs featuring autumn leaves\, rich textures\, and elegant florals. Perfect for sending a thoughtful note or keeping as inspiration for your own crafting!\nDon’t forget your own adhesive and scissors.\nOctober 28th @ 11:30 am\nNo refunds \nClick “website” below to register by October 26th
URL:https://www.karenoughcrafts.com/events/4th-tuesday-guilded-fall-1130-am/
LOCATION:11 High Street Suite 104\, Suffield\, CT\, United States\, Connecticut 06078
CATEGORIES:Card Classes,Crafts
ATTACH;FMTTYPE=image/jpeg:https://www.karenoughcrafts.com/wp-content/uploads/2025/10/4834_image_556820107_771617585633570_2066615239888234286_n.jpg
END:VEVENT
BEGIN:VEVENT
DTSTART;TZID=America/New_York:20251028T150000
DTEND;TZID=America/New_York:20251028T170000
DTSTAMP:20260420T035936
CREATED:20251003T034212Z
LAST-MODIFIED:20251028T034150Z
UID:4832-1761663600-1761670800@www.karenoughcrafts.com
SUMMARY:4th Tuesday Guilded Fall 3 pm
DESCRIPTION:In this workshop\, you’ll learn techniques like watercoloring\, embossing\, and layering to make heartfelt designs featuring autumn leaves\, rich textures\, and elegant florals. Perfect for sending a thoughtful note or keeping as inspiration for your own crafting!\nDon’t forget your own adhesive and scissors.\nOctober 28th @ 3 pm\nNo refunds \nClick “website” below to register by October 26th
URL:https://www.karenoughcrafts.com/events/4th-tuesday-guilded-fall-3-pm/
LOCATION:11 High Street Suite 104\, Suffield\, CT\, United States\, Connecticut 06078
CATEGORIES:Card Classes,Crafts
ATTACH;FMTTYPE=image/jpeg:https://www.karenoughcrafts.com/wp-content/uploads/2025/10/4832_image_558425343_771619005633428_1174006053615267348_n.jpg
END:VEVENT
BEGIN:VEVENT
DTSTART;TZID=America/New_York:20251028T183000
DTEND;TZID=America/New_York:20251028T203000
DTSTAMP:20260420T035936
CREATED:20251003T034153Z
LAST-MODIFIED:20251028T034150Z
UID:4830-1761676200-1761683400@www.karenoughcrafts.com
SUMMARY:4th Tuesday Guilded Fall 6:30 PM
DESCRIPTION:In this workshop\, you’ll learn techniques like watercoloring\, embossing\, and layering to make heartfelt designs featuring autumn leaves\, rich textures\, and elegant florals. Perfect for sending a thoughtful note or keeping as inspiration for your own crafting!\nDon’t forget your own adhesive and scissors.\nOctober 28th @ 6:30 pm\nNo refunds \nClick “website” below to register by October 26th
URL:https://www.karenoughcrafts.com/events/4th-tuesday-guilded-fall-630-pm/
LOCATION:11 High Street Suite 104\, Suffield\, CT\, United States\, Connecticut 06078
CATEGORIES:Card Classes,Crafts
ATTACH;FMTTYPE=image/jpeg:https://www.karenoughcrafts.com/wp-content/uploads/2025/10/4830_image_557534780_771620288966633_6380804723216607895_n.jpg
END:VEVENT
END:VCALENDAR