BEGIN:VCALENDAR
VERSION:2.0
PRODID:-//Karenoughcrafts &amp; Boutique - ECPv6.15.17.1//NONSGML v1.0//EN
CALSCALE:GREGORIAN
METHOD:PUBLISH
X-WR-CALNAME:Karenoughcrafts &amp; Boutique
X-ORIGINAL-URL:https://www.karenoughcrafts.com
X-WR-CALDESC:Events for Karenoughcrafts &amp; Boutique
REFRESH-INTERVAL;VALUE=DURATION:PT1H
X-Robots-Tag:noindex
X-PUBLISHED-TTL:PT1H
BEGIN:VTIMEZONE
TZID:America/New_York
BEGIN:DAYLIGHT
TZOFFSETFROM:-0500
TZOFFSETTO:-0400
TZNAME:EDT
DTSTART:20240310T070000
END:DAYLIGHT
BEGIN:STANDARD
TZOFFSETFROM:-0400
TZOFFSETTO:-0500
TZNAME:EST
DTSTART:20241103T060000
END:STANDARD
BEGIN:DAYLIGHT
TZOFFSETFROM:-0500
TZOFFSETTO:-0400
TZNAME:EDT
DTSTART:20250309T070000
END:DAYLIGHT
BEGIN:STANDARD
TZOFFSETFROM:-0400
TZOFFSETTO:-0500
TZNAME:EST
DTSTART:20251102T060000
END:STANDARD
BEGIN:DAYLIGHT
TZOFFSETFROM:-0500
TZOFFSETTO:-0400
TZNAME:EDT
DTSTART:20260308T070000
END:DAYLIGHT
BEGIN:STANDARD
TZOFFSETFROM:-0400
TZOFFSETTO:-0500
TZNAME:EST
DTSTART:20261101T060000
END:STANDARD
END:VTIMEZONE
BEGIN:VEVENT
DTSTART;TZID=America/New_York:20251021T113000
DTEND;TZID=America/New_York:20251021T133000
DTSTAMP:20260422T050922
CREATED:20251003T034237Z
LAST-MODIFIED:20251021T034150Z
UID:4840-1761046200-1761053400@www.karenoughcrafts.com
SUMMARY:3rd Tuesday Pumpkin & Spice 11:30 am
DESCRIPTION:Join us for a fun and creative class where you’ll learn how to make three beautiful\, handmade cards perfect for the season! From elegant leaves to vibrant pumpkins and festive designs\, you’ll create unique cards to share with friends or keep as inspiration.\nOctober 21 st @ 11:30 am\nNo refunds\nClick “website” to register
URL:https://www.karenoughcrafts.com/events/3rd-tuesday-pumpkin-spice-1130-am/
LOCATION:11 High Street Suite 104\, Suffield\, CT\, United States\, Connecticut 06078
CATEGORIES:Card Classes,Crafts
ATTACH;FMTTYPE=image/jpeg:https://www.karenoughcrafts.com/wp-content/uploads/2025/10/4840_image_557781365_771609558967706_1340135621770443175_n.jpg
END:VEVENT
BEGIN:VEVENT
DTSTART;TZID=America/New_York:20251021T150000
DTEND;TZID=America/New_York:20251021T170000
DTSTAMP:20260422T050922
CREATED:20251003T034231Z
LAST-MODIFIED:20251021T034149Z
UID:4838-1761058800-1761066000@www.karenoughcrafts.com
SUMMARY:3rd Tuesday Pumpkin & Spice 3 pm
DESCRIPTION:Join us for a fun and creative class where you’ll learn how to make three beautiful\, handmade cards perfect for the season! From elegant leaves to vibrant pumpkins and festive designs\, you’ll create unique cards to share with friends or keep as inspiration.\nOctober 21 st @ 3 pm\nNo refunds\nClick “website” to register
URL:https://www.karenoughcrafts.com/events/3rd-tuesday-pumpkin-spice-3-pm/
LOCATION:11 High Street Suite 104\, Suffield\, CT\, United States\, Connecticut 06078
CATEGORIES:Card Classes,Crafts
ATTACH;FMTTYPE=image/jpeg:https://www.karenoughcrafts.com/wp-content/uploads/2025/10/4838_image_557820405_771610795634249_1972907512161810429_n.jpg
END:VEVENT
BEGIN:VEVENT
DTSTART;TZID=America/New_York:20251021T183000
DTEND;TZID=America/New_York:20251021T203000
DTSTAMP:20260422T050922
CREATED:20251003T034225Z
LAST-MODIFIED:20251021T034149Z
UID:4836-1761071400-1761078600@www.karenoughcrafts.com
SUMMARY:3rd Tuesday Pumpkin & Spice 6:30 pm
DESCRIPTION:Join us for a fun and creative class where you’ll learn how to make three beautiful\, handmade cards perfect for the season! From elegant leaves to vibrant pumpkins and festive designs\, you’ll create unique cards to share with friends or keep as inspiration.\nOctober 21 st @ 6:30 pm\nNo refunds\nClick “website” to register
URL:https://www.karenoughcrafts.com/events/3rd-tuesday-pumpkin-spice-630-pm/
LOCATION:11 High Street Suite 104\, Suffield\, CT\, United States\, Connecticut 06078
CATEGORIES:Card Classes,Crafts
ATTACH;FMTTYPE=image/jpeg:https://www.karenoughcrafts.com/wp-content/uploads/2025/10/4836_image_559402859_771612358967426_5746853629583456255_n.jpg
END:VEVENT
END:VCALENDAR