BEGIN:VCALENDAR
VERSION:2.0
PRODID:-//Karenoughcrafts &amp; Boutique - ECPv6.15.17.1//NONSGML v1.0//EN
CALSCALE:GREGORIAN
METHOD:PUBLISH
X-ORIGINAL-URL:https://www.karenoughcrafts.com
X-WR-CALDESC:Events for Karenoughcrafts &amp; Boutique
REFRESH-INTERVAL;VALUE=DURATION:PT1H
X-Robots-Tag:noindex
X-PUBLISHED-TTL:PT1H
BEGIN:VTIMEZONE
TZID:America/New_York
BEGIN:DAYLIGHT
TZOFFSETFROM:-0500
TZOFFSETTO:-0400
TZNAME:EDT
DTSTART:20240310T070000
END:DAYLIGHT
BEGIN:STANDARD
TZOFFSETFROM:-0400
TZOFFSETTO:-0500
TZNAME:EST
DTSTART:20241103T060000
END:STANDARD
BEGIN:DAYLIGHT
TZOFFSETFROM:-0500
TZOFFSETTO:-0400
TZNAME:EDT
DTSTART:20250309T070000
END:DAYLIGHT
BEGIN:STANDARD
TZOFFSETFROM:-0400
TZOFFSETTO:-0500
TZNAME:EST
DTSTART:20251102T060000
END:STANDARD
BEGIN:DAYLIGHT
TZOFFSETFROM:-0500
TZOFFSETTO:-0400
TZNAME:EDT
DTSTART:20260308T070000
END:DAYLIGHT
BEGIN:STANDARD
TZOFFSETFROM:-0400
TZOFFSETTO:-0500
TZNAME:EST
DTSTART:20261101T060000
END:STANDARD
END:VTIMEZONE
BEGIN:VEVENT
DTSTART;TZID=America/New_York:20251018T100000
DTEND;TZID=America/New_York:20251018T100000
DTSTAMP:20260422T051557
CREATED:20250825T034159Z
LAST-MODIFIED:20251018T034250Z
UID:4687-1760781600-1760781600@www.karenoughcrafts.com
SUMMARY:Candle Workshop at Karenoughcrafts!
DESCRIPTION:Join us for a Candle Workshop at Karenoughcrafts & Boutique in Suffield! \nWHAT WE’RE MAKING: Wooden dough bowl candles filled with a scent of your choice\, 3 wicks\, and decorated with a variety of toppings. These hand-carved wooden bowls are not only beautiful and unique; they are also are refillable and reusable! They can be filled with candles many times after this candle burns out or repurposed for home decor/accents/etc. \nWHEN: OCTOBER 18th at 10am \nWHERE: Karenoughcrafts & Boutique | 11 High Street\, Suffield\, CT
URL:https://www.karenoughcrafts.com/events/candle-workshop-at-karenoughcrafts/
LOCATION:Karenoughcrafts & Boutique\, 11 High Street\, Suffield\, CT
CATEGORIES:Card Classes,Crafts
ATTACH;FMTTYPE=image/jpeg:https://www.karenoughcrafts.com/wp-content/uploads/2025/08/4687_image_539477707_790548303586994_3141533592485399311_n.jpg
END:VEVENT
END:VCALENDAR