BEGIN:VCALENDAR
VERSION:2.0
PRODID:-//Karenoughcrafts &amp; Boutique - ECPv6.15.17.1//NONSGML v1.0//EN
CALSCALE:GREGORIAN
METHOD:PUBLISH
X-WR-CALNAME:Karenoughcrafts &amp; Boutique
X-ORIGINAL-URL:https://www.karenoughcrafts.com
X-WR-CALDESC:Events for Karenoughcrafts &amp; Boutique
REFRESH-INTERVAL;VALUE=DURATION:PT1H
X-Robots-Tag:noindex
X-PUBLISHED-TTL:PT1H
BEGIN:VTIMEZONE
TZID:America/New_York
BEGIN:DAYLIGHT
TZOFFSETFROM:-0500
TZOFFSETTO:-0400
TZNAME:EDT
DTSTART:20240310T070000
END:DAYLIGHT
BEGIN:STANDARD
TZOFFSETFROM:-0400
TZOFFSETTO:-0500
TZNAME:EST
DTSTART:20241103T060000
END:STANDARD
BEGIN:DAYLIGHT
TZOFFSETFROM:-0500
TZOFFSETTO:-0400
TZNAME:EDT
DTSTART:20250309T070000
END:DAYLIGHT
BEGIN:STANDARD
TZOFFSETFROM:-0400
TZOFFSETTO:-0500
TZNAME:EST
DTSTART:20251102T060000
END:STANDARD
BEGIN:DAYLIGHT
TZOFFSETFROM:-0500
TZOFFSETTO:-0400
TZNAME:EDT
DTSTART:20260308T070000
END:DAYLIGHT
BEGIN:STANDARD
TZOFFSETFROM:-0400
TZOFFSETTO:-0500
TZNAME:EST
DTSTART:20261101T060000
END:STANDARD
END:VTIMEZONE
BEGIN:VEVENT
DTSTART;TZID=America/New_York:20251007T113000
DTEND;TZID=America/New_York:20251007T133000
DTSTAMP:20260422T050948
CREATED:20250929T034248Z
LAST-MODIFIED:20251007T034242Z
UID:4809-1759836600-1759843800@www.karenoughcrafts.com
SUMMARY:1st Tuesday Freshly Fall 11:30 am
DESCRIPTION:Get creative this season and join us for a fun card-making class where you’ll learn how to design and craft three stunning autumn-themed greeting cards while using layers of patterned paper\, stamping\, coloring techniques\, and embellishments and more! \nDon’t forget scissors and adhesive\n10/7/25 11:30 am\nSorry\, No refunds\nRegister by 10/5
URL:https://www.karenoughcrafts.com/events/1st-tuesday-freshly-fall-1130-am/
LOCATION:11 High Street Suite 104\, Suffield\, CT\, United States\, Connecticut 06078
CATEGORIES:Card Classes,Crafts
ATTACH;FMTTYPE=image/jpeg:https://www.karenoughcrafts.com/wp-content/uploads/2025/09/4809_image_556538622_768223082639687_2897887023656042002_n.jpg
END:VEVENT
BEGIN:VEVENT
DTSTART;TZID=America/New_York:20251007T150000
DTEND;TZID=America/New_York:20251007T170000
DTSTAMP:20260422T050948
CREATED:20250929T034241Z
LAST-MODIFIED:20251007T034240Z
UID:4807-1759849200-1759856400@www.karenoughcrafts.com
SUMMARY:1st Tuesday Freshly Fall 3 pm class
DESCRIPTION:Get creative this season and join us for a fun card-making class where you’ll learn how to design and craft three stunning autumn-themed greeting cards while using layers of patterned paper\, stamping\, coloring techniques\, and embellishments and more! \nDon’t forget scissors and adhesive\n10/7/25 3 pm\nSorry\, No refunds\nRegister by 10/5
URL:https://www.karenoughcrafts.com/events/1st-tuesday-freshly-fall-3-pm-class/
LOCATION:11 High Street Suite 104\, Suffield\, CT\, United States\, Connecticut 06078
CATEGORIES:Card Classes,Crafts
ATTACH;FMTTYPE=image/jpeg:https://www.karenoughcrafts.com/wp-content/uploads/2025/09/4807_image_557635656_768224129306249_7598106948010793715_n.jpg
END:VEVENT
BEGIN:VEVENT
DTSTART;TZID=America/New_York:20251007T183000
DTEND;TZID=America/New_York:20251007T203000
DTSTAMP:20260422T050948
CREATED:20250929T034235Z
LAST-MODIFIED:20251007T034238Z
UID:4805-1759861800-1759869000@www.karenoughcrafts.com
SUMMARY:1st Tuesday Freshly Fall 6:30PM
DESCRIPTION:Get creative this season and join us for a fun card-making class where you’ll learn how to design and craft three stunning autumn-themed greeting cards while using layers of patterned paper\, stamping\, coloring techniques\, and embellishments and more! \nDon’t forget scissors and adhesive\n10/7/25 6:30 pm\nSorry\, No refunds\nRegister by 10/5
URL:https://www.karenoughcrafts.com/events/1st-tuesday-freshly-fall-630pm/
LOCATION:11 High Street Suite 104\, Suffield\, CT\, United States\, Connecticut 06078
CATEGORIES:Card Classes,Crafts
ATTACH;FMTTYPE=image/jpeg:https://www.karenoughcrafts.com/wp-content/uploads/2025/09/4805_image_556964253_768225249306137_2141180768670751167_n.jpg
END:VEVENT
END:VCALENDAR