BEGIN:VCALENDAR
VERSION:2.0
PRODID:-//Karenoughcrafts &amp; Boutique - ECPv6.15.17.1//NONSGML v1.0//EN
CALSCALE:GREGORIAN
METHOD:PUBLISH
X-WR-CALNAME:Karenoughcrafts &amp; Boutique
X-ORIGINAL-URL:https://www.karenoughcrafts.com
X-WR-CALDESC:Events for Karenoughcrafts &amp; Boutique
REFRESH-INTERVAL;VALUE=DURATION:PT1H
X-Robots-Tag:noindex
X-PUBLISHED-TTL:PT1H
BEGIN:VTIMEZONE
TZID:America/New_York
BEGIN:DAYLIGHT
TZOFFSETFROM:-0500
TZOFFSETTO:-0400
TZNAME:EDT
DTSTART:20240310T070000
END:DAYLIGHT
BEGIN:STANDARD
TZOFFSETFROM:-0400
TZOFFSETTO:-0500
TZNAME:EST
DTSTART:20241103T060000
END:STANDARD
BEGIN:DAYLIGHT
TZOFFSETFROM:-0500
TZOFFSETTO:-0400
TZNAME:EDT
DTSTART:20250309T070000
END:DAYLIGHT
BEGIN:STANDARD
TZOFFSETFROM:-0400
TZOFFSETTO:-0500
TZNAME:EST
DTSTART:20251102T060000
END:STANDARD
BEGIN:DAYLIGHT
TZOFFSETFROM:-0500
TZOFFSETTO:-0400
TZNAME:EDT
DTSTART:20260308T070000
END:DAYLIGHT
BEGIN:STANDARD
TZOFFSETFROM:-0400
TZOFFSETTO:-0500
TZNAME:EST
DTSTART:20261101T060000
END:STANDARD
END:VTIMEZONE
BEGIN:VEVENT
DTSTART;TZID=America/New_York:20250923T113000
DTEND;TZID=America/New_York:20250923T133000
DTSTAMP:20260422T064655
CREATED:20250902T010740Z
LAST-MODIFIED:20250923T034325Z
UID:4721-1758627000-1758634200@www.karenoughcrafts.com
SUMMARY:4th Tuesday Floral Charm 11:30 am
DESCRIPTION:Stampin up has some beautiful DSP and we are going to showcase that in these cards as well as one of my favorite floral stamps!Let’s have fun!\nDon’t forget your own adhesive and scissors.\nSeptember 23rd @ 11:30 am\nNo refunds \nClick “website” below to register by September 21st
URL:https://www.karenoughcrafts.com/events/4th-tuesday-floral-charm-1130-am/
LOCATION:11 High Street Suite 104\, Suffield\, CT\, United States\, Connecticut 06078
CATEGORIES:Card Classes,Crafts
ATTACH;FMTTYPE=image/jpeg:https://www.karenoughcrafts.com/wp-content/uploads/2025/09/4721_image_539740558_746475524814443_8458120455538882687_n.jpg
END:VEVENT
BEGIN:VEVENT
DTSTART;TZID=America/New_York:20250923T150000
DTEND;TZID=America/New_York:20250923T170000
DTSTAMP:20260422T064655
CREATED:20250902T010736Z
LAST-MODIFIED:20250923T034323Z
UID:4719-1758639600-1758646800@www.karenoughcrafts.com
SUMMARY:4th Tuesday Floral Charm 3 pm
DESCRIPTION:Stampin up has some beautiful DSP and we are going to showcase that in these cards as well as one of my favorite floral stamps!Let’s have fun!\nDon’t forget your own adhesive and scissors.\nSeptember 23rd @ 3 pm\nNo refunds \nClick “website” below to register by September 21st
URL:https://www.karenoughcrafts.com/events/4th-tuesday-floral-charm-3-pm/
LOCATION:11 High Street Suite 104\, Suffield\, CT\, United States\, Connecticut 06078
CATEGORIES:Card Classes,Crafts
ATTACH;FMTTYPE=image/jpeg:https://www.karenoughcrafts.com/wp-content/uploads/2025/09/4719_image_540261097_746476614814334_239974948881002930_n.jpg
END:VEVENT
BEGIN:VEVENT
DTSTART;TZID=America/New_York:20250923T183000
DTEND;TZID=America/New_York:20250923T203000
DTSTAMP:20260422T064655
CREATED:20250902T010727Z
LAST-MODIFIED:20250923T034320Z
UID:4715-1758652200-1758659400@www.karenoughcrafts.com
SUMMARY:3rd Tuesday Floral Celebration 6:30 pm
DESCRIPTION:Join us to create three fun and unique cards perfect for birthdays\, celebrations\, and special occasions. From bold florals to playful designs (including an adorable shaker card!)\, you’ll learn techniques that bring your cards to life.\nDon’t forget to bring your adhesive and scissors\nSept. 23 @ 6:30 pm -yes\, two card classes same night\nNo refunds \nClick “website” below to register by September 14th
URL:https://www.karenoughcrafts.com/events/3rd-tuesday-floral-celebration-630-pm/
LOCATION:11 High Street Suite 104\, Suffield\, CT\, United States\, Connecticut 06078
CATEGORIES:Card Classes,Crafts
ATTACH;FMTTYPE=image/jpeg:https://www.karenoughcrafts.com/wp-content/uploads/2025/09/4715_image_541291436_746471318148197_3780596433094013504_n.jpg
END:VEVENT
BEGIN:VEVENT
DTSTART;TZID=America/New_York:20250923T183000
DTEND;TZID=America/New_York:20250923T203000
DTSTAMP:20260422T064655
CREATED:20250902T010731Z
LAST-MODIFIED:20250923T034321Z
UID:4717-1758652200-1758659400@www.karenoughcrafts.com
SUMMARY:4th Tuesday Floral Charm 6:30 PM
DESCRIPTION:Stampin up has some beautiful DSP and we are going to showcase that in these cards as well as one of my favorite floral stamps!Let’s have fun!\nDon’t forget your own adhesive and scissors.\nSeptember 23rd @ 6:30 pm\nNo refunds \nClick “website” below to register by September 21st
URL:https://www.karenoughcrafts.com/events/4th-tuesday-floral-charm-630-pm/
LOCATION:11 High Street Suite 104\, Suffield\, CT\, United States\, Connecticut 06078
CATEGORIES:Card Classes,Crafts
ATTACH;FMTTYPE=image/jpeg:https://www.karenoughcrafts.com/wp-content/uploads/2025/09/4717_image_540731694_746478398147489_2415163243435467677_n.jpg
END:VEVENT
END:VCALENDAR