BEGIN:VCALENDAR
VERSION:2.0
PRODID:-//Karenoughcrafts &amp; Boutique - ECPv6.15.17.1//NONSGML v1.0//EN
CALSCALE:GREGORIAN
METHOD:PUBLISH
X-WR-CALNAME:Karenoughcrafts &amp; Boutique
X-ORIGINAL-URL:https://www.karenoughcrafts.com
X-WR-CALDESC:Events for Karenoughcrafts &amp; Boutique
REFRESH-INTERVAL;VALUE=DURATION:PT1H
X-Robots-Tag:noindex
X-PUBLISHED-TTL:PT1H
BEGIN:VTIMEZONE
TZID:America/New_York
BEGIN:DAYLIGHT
TZOFFSETFROM:-0500
TZOFFSETTO:-0400
TZNAME:EDT
DTSTART:20240310T070000
END:DAYLIGHT
BEGIN:STANDARD
TZOFFSETFROM:-0400
TZOFFSETTO:-0500
TZNAME:EST
DTSTART:20241103T060000
END:STANDARD
BEGIN:DAYLIGHT
TZOFFSETFROM:-0500
TZOFFSETTO:-0400
TZNAME:EDT
DTSTART:20250309T070000
END:DAYLIGHT
BEGIN:STANDARD
TZOFFSETFROM:-0400
TZOFFSETTO:-0500
TZNAME:EST
DTSTART:20251102T060000
END:STANDARD
BEGIN:DAYLIGHT
TZOFFSETFROM:-0500
TZOFFSETTO:-0400
TZNAME:EDT
DTSTART:20260308T070000
END:DAYLIGHT
BEGIN:STANDARD
TZOFFSETFROM:-0400
TZOFFSETTO:-0500
TZNAME:EST
DTSTART:20261101T060000
END:STANDARD
END:VTIMEZONE
BEGIN:VEVENT
DTSTART;TZID=America/New_York:20250911T130000
DTEND;TZID=America/New_York:20250911T160000
DTSTAMP:20260422T064722
CREATED:20250813T034217Z
LAST-MODIFIED:20250911T034227Z
UID:4660-1757595600-1757606400@www.karenoughcrafts.com
SUMMARY:Sunflower Felted Gnome AM class
DESCRIPTION:Sunflower Felted Gnome Workshop\n📅 Date: September 11th\, 1-4 pm\n⏰ Time: 3 hours of hands-on creativity\nJoin us for a fun and creative afternoon making your very own Sunflower Felted Gnome! In this 3-hour class\, you’ll learn step-by-step how to transform fluffy wool into this charming autumn-themed gnome—complete with a sunflower hat\, curly beard\, and whimsical details. \nWhat’s included:\nAll materials needed to complete your gnome\n2 felting needles to keep\nExpert guidance from start to finish\nExtras: Additional felting needles will be available for purchase. \nPlease note: No refunds for this class.\nClick “website” to register
URL:https://www.karenoughcrafts.com/events/sunflower-felted-gnome-am-class/
LOCATION:11 High Street Suite 104\, Suffield\, CT\, United States\, Connecticut 06078
CATEGORIES:Card Classes,Crafts
ATTACH;FMTTYPE=image/jpeg:https://www.karenoughcrafts.com/wp-content/uploads/2025/08/4660_image_532560719_731215123007150_2636836899533885115_n.jpg
END:VEVENT
BEGIN:VEVENT
DTSTART;TZID=America/New_York:20250911T173000
DTEND;TZID=America/New_York:20250911T203000
DTSTAMP:20260422T064722
CREATED:20250813T034212Z
LAST-MODIFIED:20250911T034225Z
UID:4658-1757611800-1757622600@www.karenoughcrafts.com
SUMMARY:Sunfllower Felted Gnome PM Class
DESCRIPTION:Sunflower Felted Gnome Workshop\n📅 Date: September 11th\, 5:30-8:30\n⏰ Time: 3 hours of hands-on creativity\nJoin us for a fun and creative afternoon making your very own Sunflower Felted Gnome! In this 3-hour class\, you’ll learn step-by-step how to transform fluffy wool into this charming autumn-themed gnome—complete with a sunflower hat\, curly beard\, and whimsical details. \nWhat’s included:\nAll materials needed to complete your gnome\n2 felting needles to keep\nExpert guidance from start to finish\nExtras: Additional felting needles will be available for purchase. \nPlease note: No refunds for this class.click “website” to register
URL:https://www.karenoughcrafts.com/events/sunfllower-felted-gnome-pm-class/
LOCATION:11 High Street Suite 104\, Suffield\, CT\, United States\, Connecticut 06078
CATEGORIES:Card Classes,Crafts
ATTACH;FMTTYPE=image/jpeg:https://www.karenoughcrafts.com/wp-content/uploads/2025/08/4658_image_532280144_731216026340393_4518615292347314704_n.jpg
END:VEVENT
END:VCALENDAR