BEGIN:VCALENDAR
VERSION:2.0
PRODID:-//Karenoughcrafts &amp; Boutique - ECPv6.15.17.1//NONSGML v1.0//EN
CALSCALE:GREGORIAN
METHOD:PUBLISH
X-ORIGINAL-URL:https://www.karenoughcrafts.com
X-WR-CALDESC:Events for Karenoughcrafts &amp; Boutique
REFRESH-INTERVAL;VALUE=DURATION:PT1H
X-Robots-Tag:noindex
X-PUBLISHED-TTL:PT1H
BEGIN:VTIMEZONE
TZID:America/New_York
BEGIN:DAYLIGHT
TZOFFSETFROM:-0500
TZOFFSETTO:-0400
TZNAME:EDT
DTSTART:20240310T070000
END:DAYLIGHT
BEGIN:STANDARD
TZOFFSETFROM:-0400
TZOFFSETTO:-0500
TZNAME:EST
DTSTART:20241103T060000
END:STANDARD
BEGIN:DAYLIGHT
TZOFFSETFROM:-0500
TZOFFSETTO:-0400
TZNAME:EDT
DTSTART:20250309T070000
END:DAYLIGHT
BEGIN:STANDARD
TZOFFSETFROM:-0400
TZOFFSETTO:-0500
TZNAME:EST
DTSTART:20251102T060000
END:STANDARD
BEGIN:DAYLIGHT
TZOFFSETFROM:-0500
TZOFFSETTO:-0400
TZNAME:EDT
DTSTART:20260308T070000
END:DAYLIGHT
BEGIN:STANDARD
TZOFFSETFROM:-0400
TZOFFSETTO:-0500
TZNAME:EST
DTSTART:20261101T060000
END:STANDARD
END:VTIMEZONE
BEGIN:VEVENT
DTSTART;TZID=America/New_York:20250821T173000
DTEND;TZID=America/New_York:20250821T193000
DTSTAMP:20260422T081454
CREATED:20250806T034203Z
LAST-MODIFIED:20250821T034223Z
UID:4641-1755797400-1755804600@www.karenoughcrafts.com
SUMMARY:Decoupage shell- set of 3
DESCRIPTION:Learn how to make gorgeous decoupage shells.Feel free to bring your own images for the inside\, or use some of the images we have!Whether your ready for FALL themed shell set\, or want to hold onto summer…or even if you want a set to keep out all year\, make this class your own!There will be a variety of images to choose from.Who knows\, maybe there will be enough time to do an extra one! \nFeel free to bring your own beverages or something to snack on.There will be drying time\, so ask a friend to sign up with you! \nAugust 21st 5:30 pm \nSorry\, no refunds. \nClick “website” to register
URL:https://www.karenoughcrafts.com/events/decoupage-shell-set-of-3/
LOCATION:11 High Street Suite 104\, Suffield\, CT\, United States\, Connecticut 06078
CATEGORIES:Card Classes,Crafts
ATTACH;FMTTYPE=image/jpeg:https://www.karenoughcrafts.com/wp-content/uploads/2025/08/4641_image_527679287_725756786886317_7708650773931812071_n.jpg
END:VEVENT
END:VCALENDAR