BEGIN:VCALENDAR
VERSION:2.0
PRODID:-//Karenoughcrafts &amp; Boutique - ECPv6.15.17.1//NONSGML v1.0//EN
CALSCALE:GREGORIAN
METHOD:PUBLISH
X-ORIGINAL-URL:https://www.karenoughcrafts.com
X-WR-CALDESC:Events for Karenoughcrafts &amp; Boutique
REFRESH-INTERVAL;VALUE=DURATION:PT1H
X-Robots-Tag:noindex
X-PUBLISHED-TTL:PT1H
BEGIN:VTIMEZONE
TZID:America/New_York
BEGIN:DAYLIGHT
TZOFFSETFROM:-0500
TZOFFSETTO:-0400
TZNAME:EDT
DTSTART:20240310T070000
END:DAYLIGHT
BEGIN:STANDARD
TZOFFSETFROM:-0400
TZOFFSETTO:-0500
TZNAME:EST
DTSTART:20241103T060000
END:STANDARD
BEGIN:DAYLIGHT
TZOFFSETFROM:-0500
TZOFFSETTO:-0400
TZNAME:EDT
DTSTART:20250309T070000
END:DAYLIGHT
BEGIN:STANDARD
TZOFFSETFROM:-0400
TZOFFSETTO:-0500
TZNAME:EST
DTSTART:20251102T060000
END:STANDARD
BEGIN:DAYLIGHT
TZOFFSETFROM:-0500
TZOFFSETTO:-0400
TZNAME:EDT
DTSTART:20260308T070000
END:DAYLIGHT
BEGIN:STANDARD
TZOFFSETFROM:-0400
TZOFFSETTO:-0500
TZNAME:EST
DTSTART:20261101T060000
END:STANDARD
END:VTIMEZONE
BEGIN:VEVENT
DTSTART;TZID=America/New_York:20250812T113000
DTEND;TZID=America/New_York:20250812T133000
DTSTAMP:20260422T082519
CREATED:20250801T111911Z
LAST-MODIFIED:20250812T034225Z
UID:4603-1754998200-1755005400@www.karenoughcrafts.com
SUMMARY:2nd Tuesday Soft Floral Focus 11:30 am
DESCRIPTION:Get creative and unwind with our upcoming Card Making Class featuring soft florals\, elegant textures\, and beautiful sentiments! In this hands-on workshop\, you’ll create three unique handmade cards perfect for birthdays\, encouragement\, and everyday smiles.\n✨ Bring your scissors and your love of crafting!\nAugust 12 11:30 am\nMust register by August 10th\nClick “website” to register
URL:https://www.karenoughcrafts.com/events/2nd-tuesday-soft-floral-focus-1130-am/
LOCATION:11 High Street Suite 104\, Suffield\, CT\, United States\, Connecticut 06078
CATEGORIES:Card Classes,Crafts
ATTACH;FMTTYPE=image/jpeg:https://www.karenoughcrafts.com/wp-content/uploads/2025/08/4603_image_525433269_720279230767406_2961875667901082700_n.jpg
END:VEVENT
BEGIN:VEVENT
DTSTART;TZID=America/New_York:20250812T150000
DTEND;TZID=America/New_York:20250812T170000
DTSTAMP:20260422T082519
CREATED:20250801T111900Z
LAST-MODIFIED:20250812T034223Z
UID:4601-1755010800-1755018000@www.karenoughcrafts.com
SUMMARY:2nd Tuesday Soft Floral Focus 3 pm
DESCRIPTION:Get creative and unwind with our upcoming Card Making Class featuring soft florals\, elegant textures\, and beautiful sentiments! In this hands-on workshop\, you’ll create three unique handmade cards perfect for birthdays\, encouragement\, and everyday smiles.\n✨ Bring your scissors and your love of crafting!\nAugust 12 3 pm\nMust register by August 10th\nClick “website” to register
URL:https://www.karenoughcrafts.com/events/2nd-tuesday-soft-floral-focus-3-pm/
LOCATION:11 High Street Suite 104\, Suffield\, CT\, United States\, Connecticut 06078
CATEGORIES:Card Classes,Crafts
ATTACH;FMTTYPE=image/jpeg:https://www.karenoughcrafts.com/wp-content/uploads/2025/08/4601_image_515437397_720280064100656_189373760042544789_n.jpg
END:VEVENT
BEGIN:VEVENT
DTSTART;TZID=America/New_York:20250812T183000
DTEND;TZID=America/New_York:20250812T203000
DTSTAMP:20260422T082519
CREATED:20250801T111852Z
LAST-MODIFIED:20250812T034221Z
UID:4599-1755023400-1755030600@www.karenoughcrafts.com
SUMMARY:2nd Tuesday Soft Floral Focus 6:30 PM
DESCRIPTION:Get creative and unwind with our upcoming Card Making Class featuring soft florals\, elegant textures\, and beautiful sentiments! In this hands-on workshop\, you’ll create three unique handmade cards perfect for birthdays\, encouragement\, and everyday smiles.\n✨ Bring your scissors and your love of crafting!\nAugust 12 6:30 pm\nMust register by August 10th\nClick “website” to register
URL:https://www.karenoughcrafts.com/events/2nd-tuesday-soft-floral-focus-630-pm/
LOCATION:11 High Street Suite 104\, Suffield\, CT\, United States\, Connecticut 06078
CATEGORIES:Card Classes,Crafts
ATTACH;FMTTYPE=image/jpeg:https://www.karenoughcrafts.com/wp-content/uploads/2025/08/4599_image_524809357_720283420766987_7243446029720485604_n.jpg
END:VEVENT
END:VCALENDAR