BEGIN:VCALENDAR
VERSION:2.0
PRODID:-//Karenoughcrafts &amp; Boutique - ECPv6.15.17.1//NONSGML v1.0//EN
CALSCALE:GREGORIAN
METHOD:PUBLISH
X-ORIGINAL-URL:https://www.karenoughcrafts.com
X-WR-CALDESC:Events for Karenoughcrafts &amp; Boutique
REFRESH-INTERVAL;VALUE=DURATION:PT1H
X-Robots-Tag:noindex
X-PUBLISHED-TTL:PT1H
BEGIN:VTIMEZONE
TZID:America/New_York
BEGIN:DAYLIGHT
TZOFFSETFROM:-0500
TZOFFSETTO:-0400
TZNAME:EDT
DTSTART:20240310T070000
END:DAYLIGHT
BEGIN:STANDARD
TZOFFSETFROM:-0400
TZOFFSETTO:-0500
TZNAME:EST
DTSTART:20241103T060000
END:STANDARD
BEGIN:DAYLIGHT
TZOFFSETFROM:-0500
TZOFFSETTO:-0400
TZNAME:EDT
DTSTART:20250309T070000
END:DAYLIGHT
BEGIN:STANDARD
TZOFFSETFROM:-0400
TZOFFSETTO:-0500
TZNAME:EST
DTSTART:20251102T060000
END:STANDARD
BEGIN:DAYLIGHT
TZOFFSETFROM:-0500
TZOFFSETTO:-0400
TZNAME:EDT
DTSTART:20260308T070000
END:DAYLIGHT
BEGIN:STANDARD
TZOFFSETFROM:-0400
TZOFFSETTO:-0500
TZNAME:EST
DTSTART:20261101T060000
END:STANDARD
END:VTIMEZONE
BEGIN:VEVENT
DTSTART;TZID=America/New_York:20250213T173000
DTEND;TZID=America/New_York:20250213T200000
DTSTAMP:20260421T073317
CREATED:20250115T034230Z
LAST-MODIFIED:20250213T034311Z
UID:4185-1739467800-1739476800@www.karenoughcrafts.com
SUMMARY:Galentine's Sugar Scrub
DESCRIPTION:Let’s grab a girlfriend and head to Karenoughcrafts & Boutique on Thursday\, February 13th at 5:30 pm.This is a FREE TO ATTEND event. However\, in order to do make and takes\, you will need to pre-register for your craft or crafts. This ticket link will allow you to make one sugar scrub.\nMake 2 or more crafts that night and you will receive a coupon for 10% off your retail purchases that night in our retail boutique.\nSorry\, no refunds\nClick “website” link to register by February 9th
URL:https://www.karenoughcrafts.com/events/galentines-sugar-scrub/
LOCATION:11 High Street Suite 104\, Suffield\, CT\, United States\, Connecticut 06078
CATEGORIES:Card Classes,Crafts
ATTACH;FMTTYPE=image/jpeg:https://www.karenoughcrafts.com/wp-content/uploads/2025/01/4185_image_473608408_576762028452461_693362622939267897_n.jpg
END:VEVENT
BEGIN:VEVENT
DTSTART;TZID=America/New_York:20250213T173000
DTEND;TZID=America/New_York:20250213T200000
DTSTAMP:20260421T073317
CREATED:20250115T034232Z
LAST-MODIFIED:20250213T034312Z
UID:4187-1739467800-1739476800@www.karenoughcrafts.com
SUMMARY:Galentine's Event
DESCRIPTION:Join us for another fun Galentine’s Event with Karenoughcrafts & Boutique.We will be having a few crafting workshops to sign up for (stay tuned for links to come!)We will serve refreshments and bubbly and will have a special offer in our retail boutique!Dried floral bar is also available for a more permanent bouquet arrangement and we will also have permanent jewelry there as well!Lots of raffle prizes are up for grabs! \nFebruary 13th 5:30 – 8 pm
URL:https://www.karenoughcrafts.com/events/galentines-event/
LOCATION:11 High Street Suite 104\, Suffield\, CT\, United States\, Connecticut 06078
CATEGORIES:Card Classes,Crafts
ATTACH;FMTTYPE=image/jpeg:https://www.karenoughcrafts.com/wp-content/uploads/2025/01/4187_image_473672602_576757265119604_6852843825776629251_n.jpg
END:VEVENT
BEGIN:VEVENT
DTSTART;TZID=America/New_York:20250213T180000
DTEND;TZID=America/New_York:20250213T180000
DTSTAMP:20260421T073317
CREATED:20250116T034154Z
LAST-MODIFIED:20250213T034311Z
UID:4190-1739469600-1739469600@www.karenoughcrafts.com
SUMMARY:GALENTINES CANDLE WORKSHOP AT KARENOUGH CRAFTS 2/13
DESCRIPTION:Join us for a CANDLE WORKSHOP at Karenough Crafts for Galentines Day! \nWHEN: Thursday\, February 13th at 6:00pm: Karen’s Galentines Event starts at 5:30pm and candlemaking starts at 6pm! \nWHAT WE’RE MAKING: Acacia wooden dough bowl candles or glass signature candles filled with a scent of your choice and decorated with a variety of seasonal toppings. \nWHERE: Karenough Crafts & Boutique: 11 High Street\, Suffield\, CT\, 06078
URL:https://www.karenoughcrafts.com/events/galentines-candle-workshop-at-karenough-crafts-2-13/
LOCATION:Karenoughcrafts & Boutique\, 11 High Street Suite 104\, Suffield\, CT\, 06078\, US
CATEGORIES:Card Classes,Crafts
ATTACH;FMTTYPE=image/jpeg:https://www.karenoughcrafts.com/wp-content/uploads/2025/01/4190_image_475413721_631425192832640_2369321054014054001_n.jpg
END:VEVENT
END:VCALENDAR